Felt | Verdi |
AlreadyApplied | True |
Aperture | 2.0 |
ApertureValue | 2.0 |
Artist | Tom Erik Sivertsen |
AutoLateralCA | 0 |
AutoWhiteVersion | 134348800 |
BitsPerSample | 8 |
Blacks2012 | -5 |
BlueHue | -5 |
BlueSaturation | -25 |
BrightnessValue | -3.68 |
By-line | Tom Erik Sivertsen |
CameraProfile | Adobe Standard |
CircleOfConfusion | 0.004 mm |
Clarity2012 | 0 |
ColorComponents | 3 |
ColorNoiseReduction | 25 |
ColorNoiseReductionDetail | 50 |
ColorNoiseReductionSmoothness | 50 |
ColorSpace | sRGB |
ColorTemperature | 4250 |
ColorTransform | YCbCr |
Contrast2012 | +5 |
ConvertToGrayscale | True |
Copyright | © Tom Erik Sivertsen |
CopyrightFlag | True |
CopyrightNotice | © Tom Erik Sivertsen |
CreateDate | 2014:03:06 23:09:13 |
Creator | Tom Erik Sivertsen |
CreatorCountry | Norway |
CreatorTool | Adobe Photoshop Lightroom 5.6 (Macintosh) |
CreatorWorkEmail | 86tomme@gmail.com |
CropAngle | 0 |
CropBottom | 1 |
CropConstrainToWarp | 0 |
CropLeft | 0.127279 |
CropRight | 0.974987 |
CropTop | 0.152292 |
CustomRendered | Normal |
DateCreated (1) | 2014:03:06 |
DateCreated | 2014:03:06 23:09:13 |
DateTimeOriginal | 2014:03:06 23:09:13 |
Exposure2012 | 0.00 |
ExposureCompensation | 0 |
ExposureMode | Manual |
ExposureProgram | Manual |
ExposureTime | 1/125 |
Flash | Off, Did not fire |
FNumber | 2.0 |
FocalLength | 23.0 mm |
FocalLength35efl | 23.0 mm (35 mm equivalent: 172.5 mm) |
Format | image/jpeg |
FOV | 11.9 deg |
GradientBasedCorrActive | true |
GradientBasedCorrAmount | 1.000000 |
GradientBasedCorrBrightness | 0.000000 |
GradientBasedCorrClarity2012 | 0.000000 |
GradientBasedCorrContrast2012 (2) | 0.000000 |
GradientBasedCorrContrast2012 | 0.116924 |
GradientBasedCorrDefringe | 0.000000 |
GradientBasedCorrExposure2012 (1) | -0.565133 |
GradientBasedCorrExposure2012 (2) | -0.194259 |
GradientBasedCorrExposure2012 (3) | -0.437851 |
GradientBasedCorrExposure2012 (4) | -0.615256 |
GradientBasedCorrExposure2012 (5) | -0.035692 |
GradientBasedCorrExposure2012 | -0.259709 |
GradientBasedCorrHighlights2012 (2) | 0.000000 |
GradientBasedCorrHighlights2012 (3) | -0.595067 |
GradientBasedCorrHighlights2012 (4) | -0.734463 |
GradientBasedCorrHighlights2012 | -0.029933 |
GradientBasedCorrHue (4) | 0.000000 |
GradientBasedCorrHue | 240.000000 |
GradientBasedCorrLuminanceNoise | 0.000000 |
GradientBasedCorrMaskFullX (1) | -0.012105 |
GradientBasedCorrMaskFullX (2) | 1.007300 |
GradientBasedCorrMaskFullX (3) | 0.305437 |
GradientBasedCorrMaskFullX (4) | 0.106543 |
GradientBasedCorrMaskFullX (5) | 0.208220 |
GradientBasedCorrMaskFullX | 0.440108 |
GradientBasedCorrMaskFullY (1) | -0.026836 |
GradientBasedCorrMaskFullY (2) | 1.024240 |
GradientBasedCorrMaskFullY (3) | 0.060731 |
GradientBasedCorrMaskFullY (4) | 0.920964 |
GradientBasedCorrMaskFullY (5) | 0.991726 |
GradientBasedCorrMaskFullY | 0.220358 |
GradientBasedCorrMaskValue | 1.000000 |
GradientBasedCorrMaskWhat | Mask/Gradient |
GradientBasedCorrMaskZeroX (1) | 0.580625 |
GradientBasedCorrMaskZeroX (2) | 0.657723 |
GradientBasedCorrMaskZeroX (3) | 0.537643 |
GradientBasedCorrMaskZeroX (4) | 0.373100 |
GradientBasedCorrMaskZeroX (5) | 0.451618 |
GradientBasedCorrMaskZeroX | 0.455060 |
GradientBasedCorrMaskZeroY (1) | 1.046220 |
GradientBasedCorrMaskZeroY (2) | 0.687210 |
GradientBasedCorrMaskZeroY (3) | 0.752526 |
GradientBasedCorrMaskZeroY (4) | 0.471910 |
GradientBasedCorrMaskZeroY (5) | 0.600709 |
GradientBasedCorrMaskZeroY | 0.375833 |
GradientBasedCorrMoire | 0.000000 |
GradientBasedCorrSaturation | 0.000000 |
GradientBasedCorrShadows2012 | 0.000000 |
GradientBasedCorrSharpness | 0.000000 |
GradientBasedCorrTemperature (5) | 0.250000 |
GradientBasedCorrTemperature | 0.000000 |
GradientBasedCorrTint | 0.000000 |
GradientBasedCorrWhat | Correction |
GrainAmount | 0 |
GrayMixerAqua | -18 |
GrayMixerBlue | +4 |
GrayMixerGreen | -22 |
GrayMixerMagenta | +3 |
GrayMixerOrange | -13 |
GrayMixerPurple | +11 |
GrayMixerRed | -6 |
GrayMixerYellow | -16 |
GreenHue | +6 |
GreenSaturation | +4 |
HasCrop | True |
HasExtendedXMP | 587D816EAF4E39A9E2588A13EA91A493 |
HasSettings | True |
Highlights2012 | +8 |
HyperfocalDistance | 66.02 m |
ImageHeight | 667 |
ImageSize | 1000x667 |
ImageWidth | 1000 |
ISO | 1600 |
LensManualDistortionAmount | 0 |
LensProfileEnable | 0 |
LensProfileSetup | LensDefaults |
LightSource | Unknown |
LightValue | 5.0 |
LuminanceNoiseReductionContrast | 0 |
LuminanceNoiseReductionDetail | 39 |
LuminanceSmoothing | 8 |
Make | FUJIFILM |
Marked | True |
MaxApertureValue | 2.0 |
Megapixels | 0.667 |
MeteringMode | Multi-segment |
Model | X100S |
ModifyDate (1) | 2014:12:07 01:57:04+01:00 |
ModifyDate | 2014:12:07 01:57:04 |
PaintCorrectionActive | true |
PaintCorrectionAmount | 1.000000 |
PaintCorrectionBrightness | 0.000000 |
PaintCorrectionClarity2012 | 0.000000 |
PaintCorrectionContrast2012 | 0.000000 |
PaintCorrectionDefringe | 0.000000 |
PaintCorrectionExposure2012 (1) | 0.734902 |
PaintCorrectionExposure2012 (2) | 0.514133 |
PaintCorrectionExposure2012 (3) | -0.670032 |
PaintCorrectionExposure2012 (4) | -1.000000 |
PaintCorrectionExposure2012 (5) | 0.213746 |
PaintCorrectionExposure2012 (6) | 0.062500 |
PaintCorrectionExposure2012 | -0.075000 |
PaintCorrectionHighlights2012 | 0.000000 |
PaintCorrectionHue (4) | 0.000000 |
PaintCorrectionHue | 240.000000 |
PaintCorrectionLuminanceNoise | 0.000000 |
PaintCorrectionMaskCenterWeight | 0.024239 |
PaintCorrectionMaskFlow | 0.200000 |
PaintCorrectionMaskRadius (11) | 0.050724 |
PaintCorrectionMaskRadius (2) | 0.354680 |
PaintCorrectionMaskRadius (3) | 0.223480 |
PaintCorrectionMaskRadius (4) | 0.145256 |
PaintCorrectionMaskRadius (6) | 0.064625 |
PaintCorrectionMaskRadius (8) | 0.109905 |
PaintCorrectionMaskRadius (9) | 0.147208 |
PaintCorrectionMaskRadius | 0.028670 |
PaintCorrectionMaskValue | 0.399038 |
PaintCorrectionMaskWhat | Mask/Paint |
PaintCorrectionMoire | 0.000000 |
PaintCorrectionSaturation | 0.000000 |
PaintCorrectionShadows2012 (5) | 0.123859 |
PaintCorrectionShadows2012 | 0.000000 |
PaintCorrectionSharpness | 0.000000 |
PaintCorrectionTemperature | 0.000000 |
PaintCorrectionTint | 0.000000 |
PaintCorrectionWhat | Correction |
ParametricDarks | +10 |
ParametricHighlights | -15 |
ParametricHighlightSplit | 75 |
ParametricLights | +10 |
ParametricMidtoneSplit | 50 |
ParametricShadows | -15 |
ParametricShadowSplit | 25 |
PerspectiveAspect | 0 |
PerspectiveHorizontal | 0 |
PerspectiveRotate | 0.0 |
PerspectiveScale | 100 |
PerspectiveUpright | 0 |
PerspectiveVertical | 0 |
PostCropVignetteAmount | -9 |
PostCropVignetteFeather | 50 |
PostCropVignetteHighlightContrast | 0 |
PostCropVignetteMidpoint | 50 |
PostCropVignetteRoundness | 0 |
PostCropVignetteStyle | 1 |
ProcessVersion | 6.7 |
ProfileDescription | sRGB IEC61966-2.1 |
Rating | 2 |
RedHue | +10 |
RedSaturation | -25 |
Rights | © Tom Erik Sivertsen |
ScaleFactor35efl | 7.5 |
SceneCaptureType | Standard |
SceneType | Directly photographed |
SensingMethod | One-chip color area |
SensitivityType | Standard Output Sensitivity |
Shadows2012 | -8 |
ShadowTint | 0 |
SharpenDetail | 35 |
SharpenEdgeMasking | 40 |
SharpenRadius | +1.0 |
Sharpness (1) | 0 |
Sharpness | Normal |
ShutterSpeed | 1/125 |
ShutterSpeedValue | 1/125 |
Software | Adobe Photoshop Lightroom 5.6 (Macintosh) |
SplitToningBalance | 0 |
SplitToningHighlightHue | 0 |
SplitToningHighlightSaturation | 0 |
SplitToningShadowHue | 0 |
SplitToningShadowSaturation | 0 |
SubjectDistanceRange | Unknown |
Tint | +48 |
ToneCurve | 0, 0, 255, 255 |
ToneCurveBlue | 0, 0, 255, 255 |
ToneCurveGreen | 0, 0, 255, 255 |
ToneCurveName | Linear |
ToneCurveName2012 | Linear |
ToneCurvePV2012 | 0, 0, 255, 255 |
ToneCurvePV2012Blue | 0, 0, 255, 255 |
ToneCurvePV2012Green | 0, 0, 255, 255 |
ToneCurvePV2012Red | 0, 0, 255, 255 |
ToneCurveRed | 0, 0, 255, 255 |
Version | 8.6 |
VignetteAmount | 0 |
WhiteBalance (1) | As Shot |
WhiteBalance | Auto |
Whites2012 | +42 |