Felt | Verdi |
AlreadyApplied | True |
Artist | Tom Erik Sivertsen |
AutoLateralCA | 1 |
AutoWhiteVersion | 134348800 |
BitsPerSample | 8 |
Blacks2012 | -92 |
BlueHue | 0 |
BlueSaturation | 0 |
BrightnessValue | 3.7125 |
By-line | Tom Erik Sivertsen |
CircGradBasedCorrActive | true |
CircGradBasedCorrAmount | 1.000000 |
CircGradBasedCorrBrightness | 0.000000 |
CircGradBasedCorrClarity2012 | 0.000000 |
CircGradBasedCorrContrast2012 | 0.000000 |
CircGradBasedCorrDefringe | 0.000000 |
CircGradBasedCorrExposure2012 | 0.015449 |
CircGradBasedCorrHighlights2012 | 0.000000 |
CircGradBasedCorrHue | 240.000000 |
CircGradBasedCorrLuminanceNoise | 0.000000 |
CircGradBasedCorrMaskAngle | -39.905800 |
CircGradBasedCorrMaskBottom | 0.362347 |
CircGradBasedCorrMaskFeather | +50 |
CircGradBasedCorrMaskFlipped | true |
CircGradBasedCorrMaskLeft | 0.316960 |
CircGradBasedCorrMaskMidpoint | +50 |
CircGradBasedCorrMaskRight | 0.938305 |
CircGradBasedCorrMaskRoundness | 0 |
CircGradBasedCorrMaskTop | 0.362281 |
CircGradBasedCorrMaskValue | 1.000000 |
CircGradBasedCorrMaskVersion | +2 |
CircGradBasedCorrMaskWhat | Mask/CircularGradient |
CircGradBasedCorrMoire | 0.000000 |
CircGradBasedCorrSaturation | 0.000000 |
CircGradBasedCorrShadows2012 | 0.627721 |
CircGradBasedCorrSharpness | 0.000000 |
CircGradBasedCorrTemperature | 0.000000 |
CircGradBasedCorrTint | 0.000000 |
CircGradBasedCorrWhat | Correction |
CircleOfConfusion | 0.008 mm |
Clarity2012 | +18 |
ColorComponents | 3 |
ColorNoiseReduction | 0 |
ColorSpace | sRGB |
ColorTemperature | 5115 |
ColorTransform | YCbCr |
Contrast | Normal |
Contrast2012 | +87 |
ConvertToGrayscale | True |
Copyright | © Tom Erik Sivertsen |
CopyrightFlag | True |
CopyrightNotice | © Tom Erik Sivertsen |
CreateDate | 2014:10:03 11:31:25 |
Creator | Tom Erik Sivertsen |
CreatorCountry | Norway |
CreatorTool | Adobe Photoshop Lightroom 5.7 (Macintosh) |
CreatorWorkEmail | 86tomme@gmail.com |
CropAngle | 0 |
CropBottom | 0.888742 |
CropConstrainToWarp | 0 |
CropLeft | 0.197575 |
CropRight | 1 |
CropTop | 0.086317 |
CustomRendered | Normal |
DateCreated (1) | 2014:10:03 |
DateCreated | 2014:10:03 11:31:25 |
DateTimeOriginal | 2014:10:03 11:31:25 |
DigitalZoomRatio | 1 |
Exposure2012 | -0.55 |
ExposureCompensation | 0 |
ExposureMode | Auto |
ExposureProgram | Shutter speed priority AE |
ExposureTime | 1/320 |
Flash | Off, Did not fire |
Format | image/jpeg |
GrainAmount | 0 |
GrayMixerAqua | -19 |
GrayMixerBlue | +5 |
GrayMixerGreen | -23 |
GrayMixerMagenta | +5 |
GrayMixerOrange | -13 |
GrayMixerPurple | +13 |
GrayMixerRed | -5 |
GrayMixerYellow | -17 |
GreenHue | 0 |
GreenSaturation | 0 |
HasCrop | True |
HasSettings | True |
Highlights2012 | -2 |
ImageHeight | 1367 |
ImageSize | 2048x1367 |
ImageWidth | 2048 |
ISO | 100 |
Lens | ---- |
LensManualDistortionAmount | 0 |
LensModel | ---- |
LensProfileEnable | 0 |
LensProfileSetup | LensDefaults |
LightSource | Unknown |
LuminanceSmoothing | 0 |
Make | SONY |
Marked | True |
MaxApertureValue | 1.0 |
Megapixels | 2.8 |
MeteringMode | Multi-segment |
Model | ILCE-7R |
ModifyDate (1) | 2015:07:24 23:13:20+02:00 |
ModifyDate | 2015:07:24 23:13:20 |
ParametricDarks | 0 |
ParametricHighlights | 0 |
ParametricHighlightSplit | 75 |
ParametricLights | 0 |
ParametricMidtoneSplit | 50 |
ParametricShadows | 0 |
ParametricShadowSplit | 25 |
PerspectiveAspect | 0 |
PerspectiveHorizontal | 0 |
PerspectiveRotate | 0.0 |
PerspectiveScale | 100 |
PerspectiveUpright | 0 |
PerspectiveVertical | 0 |
PostCropVignetteAmount | -6 |
PostCropVignetteFeather | 50 |
PostCropVignetteHighlightContrast | 0 |
PostCropVignetteMidpoint | 50 |
PostCropVignetteRoundness | 0 |
PostCropVignetteStyle | 1 |
ProcessVersion | 6.7 |
ProfileDescription | sRGB IEC61966-2.1 |
Rating | 1 |
RecommendedExposureIndex | 100 |
RedHue | 0 |
RedSaturation | 0 |
Rights | © Tom Erik Sivertsen |
Saturation | Normal |
ScaleFactor35efl | 3.6 |
SceneCaptureType | Standard |
SceneType | Directly photographed |
SensitivityType | Recommended Exposure Index |
Shadows2012 | -69 |
ShadowTint | 0 |
SharpenDetail | 38 |
SharpenEdgeMasking | 59 |
SharpenRadius | +1.0 |
Sharpness (1) | 32 |
Sharpness | Normal |
ShutterSpeed | 1/320 |
ShutterSpeedValue | 1/320 |
Software | Adobe Photoshop Lightroom 5.7 (Macintosh) |
SplitToningBalance | 0 |
SplitToningHighlightHue | 59 |
SplitToningHighlightSaturation | 0 |
SplitToningShadowHue | 259 |
SplitToningShadowSaturation | 0 |
Tint | -6 |
ToneCurve | 0, 0, 255, 255 |
ToneCurveBlue | 0, 0, 255, 255 |
ToneCurveGreen | 0, 0, 255, 255 |
ToneCurveName | Linear |
ToneCurveName2012 | Custom |
ToneCurvePV2012 | 0, 15, 89, 88, 171, 177, 255, 249 |
ToneCurvePV2012Blue | 0, 0, 255, 255 |
ToneCurvePV2012Green | 0, 0, 255, 255 |
ToneCurvePV2012Red | 0, 0, 255, 255 |
ToneCurveRed | 0, 0, 255, 255 |
Version | 8.7 |
VignetteAmount | 0 |
WhiteBalance (1) | Custom |
WhiteBalance | Auto |
Whites2012 | +61 |