Felt | Verdi |
AlreadyApplied | True |
Aperture | 22.0 |
ApertureValue | 22.0 |
AutoLateralCA | 1 |
AutoWhiteVersion | 134348800 |
BitsPerSample | 8 |
Blacks2012 | -21 |
BlueHue | 0 |
BlueSaturation | 0 |
BrightnessValue | 3.52109375 |
CameraProfile | Adobe Standard |
CircGradBasedCorrActive | true |
CircGradBasedCorrAmount | 1.000000 |
CircGradBasedCorrBrightness | 0.000000 |
CircGradBasedCorrClarity2012 | 0.000000 |
CircGradBasedCorrContrast2012 | 0.000000 |
CircGradBasedCorrDefringe | 0.000000 |
CircGradBasedCorrExposure2012 (1) | 0.225000 |
CircGradBasedCorrExposure2012 | 0.050000 |
CircGradBasedCorrHighlights2012 | 0.000000 |
CircGradBasedCorrHue | 221.000000 |
CircGradBasedCorrLocalBlacks2012 | 0.000000 |
CircGradBasedCorrLocalDehaze | 0.000000 |
CircGradBasedCorrLocalWhites2012 | 0.000000 |
CircGradBasedCorrLuminanceNoise | 0.000000 |
CircGradBasedCorrMaskAngle (1) | -2.783420 |
CircGradBasedCorrMaskAngle | 0.160579 |
CircGradBasedCorrMaskBottom (1) | 0.714966 |
CircGradBasedCorrMaskBottom | 0.561277 |
CircGradBasedCorrMaskFeather | +39 |
CircGradBasedCorrMaskFlipped | true |
CircGradBasedCorrMaskLeft (1) | 0.632063 |
CircGradBasedCorrMaskLeft | 0.579670 |
CircGradBasedCorrMaskMidpoint | +50 |
CircGradBasedCorrMaskRight (1) | 1.338670 |
CircGradBasedCorrMaskRight | 1.261600 |
CircGradBasedCorrMaskRoundness | 0 |
CircGradBasedCorrMaskTop (1) | 0.630569 |
CircGradBasedCorrMaskTop | 0.342502 |
CircGradBasedCorrMaskValue | 1.000000 |
CircGradBasedCorrMaskVersion | +2 |
CircGradBasedCorrMaskWhat | Mask/CircularGradient |
CircGradBasedCorrMoire | 0.000000 |
CircGradBasedCorrSaturation | 0.000000 |
CircGradBasedCorrShadows2012 (1) | 0.547620 |
CircGradBasedCorrShadows2012 | 0.000000 |
CircGradBasedCorrSharpness | 0.000000 |
CircGradBasedCorrTemperature | -0.040000 |
CircGradBasedCorrTint | -0.095240 |
CircGradBasedCorrWhat | Correction |
CircleOfConfusion | 0.030 mm |
Clarity2012 | +17 |
ColorComponents | 3 |
ColorNoiseReduction | 25 |
ColorNoiseReductionDetail | 50 |
ColorNoiseReductionSmoothness | 50 |
ColorSpace | sRGB |
ColorTemperature | 5100 |
ColorTransform | YCbCr |
Contrast | Normal |
Contrast2012 | 0 |
ConvertToGrayscale | False |
CreateDate | 2016:04:04 20:44:33 |
CreatorTool | Adobe Photoshop Lightroom 6.5 (Windows) |
CropAngle | 0.160579 |
CropBottom | 0.957238 |
CropConstrainToWarp | 0 |
CropLeft | 0.038841 |
CropRight | 0.983865 |
CropTop | 0.036047 |
CustomRendered | Normal |
DateCreated (1) | 2016:04:04 |
DateCreated | 2016:04:04 20:44:33 |
DateTimeOriginal | 2016:04:04 20:44:33 |
DefringeGreenAmount | 0 |
DefringeGreenHueHi | 60 |
DefringeGreenHueLo | 40 |
DefringePurpleAmount | 0 |
DefringePurpleHueHi | 70 |
DefringePurpleHueLo | 30 |
Dehaze | 0 |
DigitalZoomRatio | 1 |
Exposure2012 | -0.60 |
ExposureCompensation | 0 |
ExposureMode | Manual |
ExposureProgram | Manual |
ExposureTime | 2 |
Flash | Off, Did not fire |
FNumber | 22.0 |
FocalLength | 55.0 mm |
FocalLength35efl | 55.0 mm (35 mm equivalent: 55.0 mm) |
FocalLengthIn35mmFormat | 55 mm |
Format | image/jpeg |
FOV | 36.2 deg |
GradientBasedCorrActive | true |
GradientBasedCorrAmount | 1.000000 |
GradientBasedCorrBrightness | 0.000000 |
GradientBasedCorrClarity2012 (2) | 0.000000 |
GradientBasedCorrClarity2012 | 0.238100 |
GradientBasedCorrContrast2012 | 0.000000 |
GradientBasedCorrDefringe | 0.000000 |
GradientBasedCorrExposure2012 (1) | 0.125000 |
GradientBasedCorrExposure2012 (2) | 0.000000 |
GradientBasedCorrExposure2012 | -0.125000 |
GradientBasedCorrHighlights2012 (2) | 0.000000 |
GradientBasedCorrHighlights2012 | 0.142860 |
GradientBasedCorrHue | 221.000000 |
GradientBasedCorrLocalBlacks2012 (1) | -0.047620 |
GradientBasedCorrLocalBlacks2012 (2) | 0.000000 |
GradientBasedCorrLocalBlacks2012 | -0.095240 |
GradientBasedCorrLocalDehaze | 0.000000 |
GradientBasedCorrLocalWhites2012 | 0.000000 |
GradientBasedCorrLuminanceNoise | 0.000000 |
GradientBasedCorrMaskFullX (1) | 0.527651 |
GradientBasedCorrMaskFullX (2) | 0.731204 |
GradientBasedCorrMaskFullX | 0.526375 |
GradientBasedCorrMaskFullY (1) | 0.074799 |
GradientBasedCorrMaskFullY (2) | 0.834679 |
GradientBasedCorrMaskFullY | 0.109378 |
GradientBasedCorrMaskValue | 1.000000 |
GradientBasedCorrMaskWhat | Mask/Gradient |
GradientBasedCorrMaskZeroX (1) | 0.536759 |
GradientBasedCorrMaskZeroX (2) | 0.727659 |
GradientBasedCorrMaskZeroX | 0.523941 |
GradientBasedCorrMaskZeroY (1) | 0.371260 |
GradientBasedCorrMaskZeroY (2) | 0.788434 |
GradientBasedCorrMaskZeroY | 0.625226 |
GradientBasedCorrMoire | 0.000000 |
GradientBasedCorrSaturation (1) | -0.050000 |
GradientBasedCorrSaturation | 0.000000 |
GradientBasedCorrShadows2012 (1) | 0.071430 |
GradientBasedCorrShadows2012 | 0.000000 |
GradientBasedCorrSharpness | 0.000000 |
GradientBasedCorrTemperature (1) | -0.160000 |
GradientBasedCorrTemperature (2) | -0.040000 |
GradientBasedCorrTemperature | -0.194290 |
GradientBasedCorrTint | -0.095240 |
GradientBasedCorrWhat | Correction |
GrainAmount | 0 |
GreenHue | 0 |
GreenSaturation | 0 |
HasCrop | True |
HasExtendedXMP | 0E8E3D3722ECA28C0355F93635D12979 |
HasSettings | True |
Highlights2012 | -100 |
HueAdjustmentAqua | 0 |
HueAdjustmentBlue | 0 |
HueAdjustmentGreen | 0 |
HueAdjustmentMagenta | 0 |
HueAdjustmentOrange | 0 |
HueAdjustmentPurple | 0 |
HueAdjustmentRed | 0 |
HueAdjustmentYellow | 0 |
HyperfocalDistance | 4.58 m |
ImageHeight | 3669 |
ImageSize | 5680x3669 |
ImageWidth | 5680 |
ISO | 50 |
Lens | FE 55mm F1.8 ZA |
LensDistortInfo | 1070425879/1073741824 14922765/1073741824 -15248098/1073741824 -3952835/1073741824 |
LensInfo | 55mm f/1.8 |
LensManualDistortionAmount | 0 |
LensModel | FE 55mm F1.8 ZA |
LensProfileChromaticAberrationScale | 100 |
LensProfileDistortionScale | 100 |
LensProfileEnable | 1 |
LensProfileFilename | SONY (Sony FE 55mm F1.8 ZA) - RAW.lcp |
LensProfileName | Adobe (Sony FE 55mm F1.8 ZA) |
LensProfileSetup | LensDefaults |
LensProfileVignettingScale | 100 |
LightSource | Unknown |
LightValue | 8.9 |
LuminanceAdjustmentAqua | 0 |
LuminanceAdjustmentBlue | 0 |
LuminanceAdjustmentGreen | 0 |
LuminanceAdjustmentMagenta | 0 |
LuminanceAdjustmentOrange | 0 |
LuminanceAdjustmentPurple | 0 |
LuminanceAdjustmentRed | 0 |
LuminanceAdjustmentYellow | 0 |
LuminanceNoiseReductionContrast | 0 |
LuminanceNoiseReductionDetail | 50 |
LuminanceSmoothing | 38 |
Make | SONY |
MaxApertureValue | 1.8 |
Megapixels | 20.8 |
MeteringMode | Multi-segment |
Model | ILCE-7M2 |
ModifyDate (1) | 2016:04:05 23:43:43+02:00 |
ModifyDate | 2016:04:05 23:43:43 |
PaintCorrectionActive | true |
PaintCorrectionAmount | 1.000000 |
PaintCorrectionBrightness | 0.000000 |
PaintCorrectionClarity2012 | 0.000000 |
PaintCorrectionContrast2012 | 0.000000 |
PaintCorrectionDefringe | 0.000000 |
PaintCorrectionExposure2012 (1) | 0.025000 |
PaintCorrectionExposure2012 (3) | -0.009500 |
PaintCorrectionExposure2012 (4) | 0.181000 |
PaintCorrectionExposure2012 (6) | 0.050000 |
PaintCorrectionExposure2012 (9) | -0.025000 |
PaintCorrectionExposure2012 | 0.000000 |
PaintCorrectionHighlights2012 (5) | 0.090000 |
PaintCorrectionHighlights2012 (7) | -0.761900 |
PaintCorrectionHighlights2012 (8) | -1.000000 |
PaintCorrectionHighlights2012 | 0.000000 |
PaintCorrectionHue | 221.000000 |
PaintCorrectionLocalBlacks2012 | 0.000000 |
PaintCorrectionLocalDehaze | 0.000000 |
PaintCorrectionLocalWhites2012 | 0.000000 |
PaintCorrectionLuminanceNoise | 0.000000 |
PaintCorrectionMaskCenterWeight | 0.015815 |
PaintCorrectionMaskFlow | 0.747000 |
PaintCorrectionMaskRadius (10) | 0.012762 |
PaintCorrectionMaskRadius (11) | 0.018368 |
PaintCorrectionMaskRadius (12) | 0.023042 |
PaintCorrectionMaskRadius (13) | 0.023033 |
PaintCorrectionMaskRadius (14) | 0.023034 |
PaintCorrectionMaskRadius (16) | 0.004095 |
PaintCorrectionMaskRadius (17) | 0.006660 |
PaintCorrectionMaskRadius (18) | 0.007984 |
PaintCorrectionMaskRadius (19) | 0.010691 |
PaintCorrectionMaskRadius (2) | 0.004096 |
PaintCorrectionMaskRadius (20) | 0.014930 |
PaintCorrectionMaskRadius (21) | 0.007919 |
PaintCorrectionMaskRadius (24) | 0.004098 |
PaintCorrectionMaskRadius (25) | 0.004092 |
PaintCorrectionMaskRadius (29) | 0.005370 |
PaintCorrectionMaskRadius (3) | 0.006661 |
PaintCorrectionMaskRadius (30) | 0.009325 |
PaintCorrectionMaskRadius (31) | 0.012081 |
PaintCorrectionMaskRadius (32) | 0.013494 |
PaintCorrectionMaskRadius (33) | 0.013496 |
PaintCorrectionMaskRadius (34) | 0.013474 |
PaintCorrectionMaskRadius (35) | 0.007962 |
PaintCorrectionMaskRadius (37) | 0.007969 |
PaintCorrectionMaskRadius (38) | 0.007967 |
PaintCorrectionMaskRadius (39) | 0.012051 |
PaintCorrectionMaskRadius (4) | 0.029835 |
PaintCorrectionMaskRadius (40) | 0.007982 |
PaintCorrectionMaskRadius (41) | 0.005361 |
PaintCorrectionMaskRadius (5) | 0.012753 |
PaintCorrectionMaskRadius (6) | 0.012776 |
PaintCorrectionMaskRadius (7) | 0.018355 |
PaintCorrectionMaskRadius (9) | 0.017609 |
PaintCorrectionMaskRadius | 0.005369 |
PaintCorrectionMaskValue | 0.674000 |
PaintCorrectionMaskWhat | Mask/Paint |
PaintCorrectionMoire | 0.000000 |
PaintCorrectionSaturation (9) | 0.095240 |
PaintCorrectionSaturation | 0.000000 |
PaintCorrectionShadows2012 (10) | -0.404760 |
PaintCorrectionShadows2012 (11) | -0.166670 |
PaintCorrectionShadows2012 (12) | -0.595240 |
PaintCorrectionShadows2012 (13) | -0.020000 |
PaintCorrectionShadows2012 (2) | 0.000000 |
PaintCorrectionShadows2012 (3) | 0.070000 |
PaintCorrectionShadows2012 | 0.100000 |
PaintCorrectionSharpness | 0.000000 |
PaintCorrectionTemperature | -0.040000 |
PaintCorrectionTint | -0.095240 |
PaintCorrectionWhat | Correction |
ParametricDarks | -32 |
ParametricHighlights | -24 |
ParametricHighlightSplit | 75 |
ParametricLights | -15 |
ParametricMidtoneSplit | 50 |
ParametricShadows | +5 |
ParametricShadowSplit | 25 |
PerspectiveAspect | 0 |
PerspectiveHorizontal | 0 |
PerspectiveRotate | 0.0 |
PerspectiveScale | 100 |
PerspectiveUpright | 0 |
PerspectiveVertical | 0 |
PostCropVignetteAmount | 0 |
ProcessVersion | 6.7 |
ProfileDescription | sRGB IEC61966-2.1 |
RecommendedExposureIndex | 50 |
RedHue | 0 |
RedSaturation | 0 |
Saturation (1) | 0 |
Saturation | Normal |
SaturationAdjustmentAqua | 0 |
SaturationAdjustmentBlue | 0 |
SaturationAdjustmentGreen | 0 |
SaturationAdjustmentMagenta | 0 |
SaturationAdjustmentOrange | 0 |
SaturationAdjustmentPurple | 0 |
SaturationAdjustmentRed | 0 |
SaturationAdjustmentYellow | 0 |
ScaleFactor35efl | 1.0 |
SceneCaptureType | Standard |
SceneType | Directly photographed |
SensitivityType | Recommended Exposure Index |
Shadows2012 | +100 |
ShadowTint | 0 |
SharpenDetail | 25 |
SharpenEdgeMasking | 0 |
SharpenRadius | +1.0 |
Sharpness (1) | 68 |
Sharpness | Normal |
ShutterSpeed | 2 |
ShutterSpeedValue | 2 |
Software | Adobe Photoshop Lightroom 6.5 (Windows) |
SplitToningBalance | 0 |
SplitToningHighlightHue | 0 |
SplitToningHighlightSaturation | 0 |
SplitToningShadowHue | 0 |
SplitToningShadowSaturation | 0 |
Tint | +4 |
ToneCurve | 0, 0, 255, 255 |
ToneCurveBlue | 0, 0, 255, 255 |
ToneCurveGreen | 0, 0, 255, 255 |
ToneCurveName | Linear |
ToneCurveName2012 | Linear |
ToneCurvePV2012 | 0, 0, 255, 255 |
ToneCurvePV2012Blue | 0, 0, 255, 255 |
ToneCurvePV2012Green | 0, 0, 255, 255 |
ToneCurvePV2012Red | 0, 0, 255, 255 |
ToneCurveRed | 0, 0, 255, 255 |
ToneMapStrength | 0 |
Version | 9.5 |
Vibrance | +7 |
VignetteAmount | 0 |
WhiteBalance (1) | Custom |
WhiteBalance | Auto |
Whites2012 | -7 |