Felt | Verdi |
AlreadyApplied | True |
Aperture | 2.2 |
ApertureValue | 2.2 |
ApproximateFocusDistance | 1.68 |
AutoLateralCA | 0 |
AutoWhiteVersion | 134348800 |
BitsPerSample | 8 |
Blacks2012 | 0 |
BlueHue | 0 |
BlueSaturation | 0 |
CameraProfile | Embedded |
CircleOfConfusion | 0.030 mm |
Clarity2012 | -36 |
ColorComponents | 3 |
ColorNoiseReduction | 36 |
ColorNoiseReductionDetail | 50 |
ColorNoiseReductionSmoothness | 50 |
ColorSpace | Uncalibrated |
ColorTransform | YCbCr |
Contrast | Normal |
Contrast2012 | -2 |
ConvertToGrayscale | False |
CreateDate | 2016:04:02 15:35:30 |
CreatorTool | Adobe Photoshop Lightroom 6.1 (Macintosh) |
CustomRendered | Normal |
DateCreated (1) | 2016:04:02 15:35:30.054 |
DateCreated | 2016:04:02 |
DateTimeOriginal | 2016:04:02 15:35:30 |
DefringeGreenAmount | 0 |
DefringeGreenHueHi | 60 |
DefringeGreenHueLo | 40 |
DefringePurpleAmount | 0 |
DefringePurpleHueHi | 70 |
DefringePurpleHueLo | 30 |
Dehaze | 0 |
DigitalZoomRatio | 1 |
DistortionCorrectionAlreadyApplied | True |
DOF | 0.15 m (1.61 - 1.76 m) |
Exposure2012 | +0.35 |
ExposureCompensation | -1/3 |
ExposureMode | Manual |
ExposureProgram | Manual |
ExposureTime | 1/125 |
Flash | On, Return detected |
FNumber | 2.2 |
FocalLength | 50.0 mm |
FocalLength35efl | 50.0 mm (35 mm equivalent: 50.0 mm) |
FocalLengthIn35mmFormat | 50 mm |
Format | image/jpeg |
FOV | 39.6 deg |
GainControl | None |
GrainAmount | 0 |
GreenHue | 0 |
GreenSaturation | 0 |
HasCrop | False |
HasSettings | True |
Highlights2012 | -57 |
HueAdjustmentAqua | 0 |
HueAdjustmentBlue | 0 |
HueAdjustmentGreen | 0 |
HueAdjustmentMagenta | 0 |
HueAdjustmentOrange | 0 |
HueAdjustmentPurple | 0 |
HueAdjustmentRed | 0 |
HueAdjustmentYellow | 0 |
HyperfocalDistance | 37.82 m |
ImageHeight | 2262 |
ImageNumber | 189549 |
ImageSize | 3400x2262 |
ImageWidth | 3400 |
IncrementalTemperature | 0 |
IncrementalTint | +12 |
ISO | 100 |
LateralChromaticAberrationCorrectionAlreadyApplied | True |
Lens | 50.0 mm f/1.4 |
LensID (1) | 222 |
LensID | Sigma 50mm F1.4 EX DG HSM |
LensInfo | 50mm f/1.4 |
LensManualDistortionAmount | 0 |
LensModel | 50.0 mm f/1.4 |
LensProfileEnable | 0 |
LensProfileSetup | LensDefaults |
LightSource | Unknown |
LightValue | 9.2 |
LuminanceAdjustmentAqua | 0 |
LuminanceAdjustmentBlue | 0 |
LuminanceAdjustmentGreen | 0 |
LuminanceAdjustmentMagenta | 0 |
LuminanceAdjustmentOrange | 0 |
LuminanceAdjustmentPurple | 0 |
LuminanceAdjustmentRed | 0 |
LuminanceAdjustmentYellow | 0 |
LuminanceNoiseReductionContrast | 37 |
LuminanceNoiseReductionDetail | 50 |
LuminanceSmoothing | 35 |
Make | NIKON CORPORATION |
MaxApertureValue | 1.4 |
Megapixels | 7.7 |
MeteringMode | Multi-segment |
Model | NIKON D3S |
ModifyDate (1) | 2016:04:16 22:57:02+02:00 |
ModifyDate | 2016:04:16 22:57:02 |
Orientation | Horizontal (normal) |
PaintCorrectionActive | true |
PaintCorrectionAmount | 1.000000 |
PaintCorrectionBrightness | 0.000000 |
PaintCorrectionClarity2012 (2) | 0.431784 |
PaintCorrectionClarity2012 (3) | -0.277820 |
PaintCorrectionClarity2012 (4) | 0.511242 |
PaintCorrectionClarity2012 (5) | 0.390371 |
PaintCorrectionClarity2012 | 0.000000 |
PaintCorrectionContrast2012 (2) | 0.407838 |
PaintCorrectionContrast2012 | 0.000000 |
PaintCorrectionDefringe | 0.000000 |
PaintCorrectionExposure2012 (5) | 0.065993 |
PaintCorrectionExposure2012 | 0.000000 |
PaintCorrectionHighlights2012 (1) | -0.503620 |
PaintCorrectionHighlights2012 (3) | 0.000000 |
PaintCorrectionHighlights2012 (5) | -0.327426 |
PaintCorrectionHighlights2012 (6) | -0.208905 |
PaintCorrectionHighlights2012 | -0.157647 |
PaintCorrectionHue | 13.105500 |
PaintCorrectionLocalBlacks2012 | 0.000000 |
PaintCorrectionLocalWhites2012 (3) | 0.120490 |
PaintCorrectionLocalWhites2012 (5) | 0.251207 |
PaintCorrectionLocalWhites2012 | 0.000000 |
PaintCorrectionLuminanceNoise | 0.000000 |
PaintCorrectionMaskCenterWeight | 0.000000 |
PaintCorrectionMaskFlow | 1.000000 |
PaintCorrectionMaskRadius (14) | 0.068586 |
PaintCorrectionMaskRadius (20) | 0.190160 |
PaintCorrectionMaskRadius (22) | 0.016757 |
PaintCorrectionMaskRadius (26) | 0.054417 |
PaintCorrectionMaskRadius (31) | 0.155099 |
PaintCorrectionMaskRadius | 0.047513 |
PaintCorrectionMaskValue | 0.960402 |
PaintCorrectionMaskWhat | Mask/Paint |
PaintCorrectionMoire | -0.003199 |
PaintCorrectionSaturation (7) | -0.255844 |
PaintCorrectionSaturation | 0.000000 |
PaintCorrectionShadows2012 | 0.000000 |
PaintCorrectionSharpness (5) | 0.283791 |
PaintCorrectionSharpness | 0.001302 |
PaintCorrectionTemperature (4) | 0.076095 |
PaintCorrectionTemperature | 0.000000 |
PaintCorrectionTint | 0.000000 |
PaintCorrectionWhat | Correction |
ParametricDarks | 0 |
ParametricHighlights | 0 |
ParametricHighlightSplit | 75 |
ParametricLights | -22 |
ParametricMidtoneSplit | 50 |
ParametricShadows | -12 |
ParametricShadowSplit | 25 |
PerspectiveAspect | 0 |
PerspectiveHorizontal | 0 |
PerspectiveRotate | 0.0 |
PerspectiveScale | 100 |
PerspectiveUpright | 0 |
PerspectiveVertical | 0 |
PostCropVignetteAmount | -59 |
PostCropVignetteFeather | 100 |
PostCropVignetteHighlightContrast | 0 |
PostCropVignetteMidpoint | 42 |
PostCropVignetteRoundness | +82 |
PostCropVignetteStyle | 1 |
ProcessVersion | 6.7 |
ProfileDescription | sRGB IEC61966-2.1 |
Rating | 5 |
RawFileName | DSC_6588.jpg |
RedHue | 0 |
RedSaturation | 0 |
Saturation (1) | 0 |
Saturation | Normal |
SaturationAdjustmentAqua | 0 |
SaturationAdjustmentBlue | 0 |
SaturationAdjustmentGreen | 0 |
SaturationAdjustmentMagenta | 0 |
SaturationAdjustmentOrange | 0 |
SaturationAdjustmentPurple | 0 |
SaturationAdjustmentRed | 0 |
SaturationAdjustmentYellow | 0 |
ScaleFactor35efl | 1.0 |
SceneCaptureType | Standard |
SceneType | Directly photographed |
SensingMethod | One-chip color area |
SerialNumber | 2058033 |
Shadows2012 | +52 |
ShadowTint | 0 |
SharpenDetail | 40 |
SharpenEdgeMasking | 34 |
SharpenRadius | +1.5 |
Sharpness (1) | 56 |
Sharpness | Normal |
ShutterSpeed | 1/125 |
ShutterSpeedValue | 1/125 |
Software | Adobe Photoshop Lightroom 6.1 (Macintosh) |
SplitToningBalance | 0 |
SplitToningHighlightHue | 0 |
SplitToningHighlightSaturation | 0 |
SplitToningShadowHue | 0 |
SplitToningShadowSaturation | 0 |
SubjectDistanceRange | Unknown |
ToneCurve | 0, 0, 255, 255 |
ToneCurveBlue | 0, 0, 255, 255 |
ToneCurveGreen | 0, 0, 255, 255 |
ToneCurveName | Linear |
ToneCurveName2012 | Linear |
ToneCurvePV2012 | 0, 0, 255, 255 |
ToneCurvePV2012Blue | 0, 0, 255, 255 |
ToneCurvePV2012Green | 0, 0, 255, 255 |
ToneCurvePV2012Red | 0, 0, 255, 255 |
ToneCurveRed | 0, 0, 255, 255 |
ToneMapStrength | 0 |
Version | 9.1 |
Vibrance | 0 |
VignetteAmount | 0 |
VignetteCorrectionAlreadyApplied | True |
WhiteBalance (1) | Custom |
WhiteBalance | Auto |
Whites2012 | +27 |