Felt | Verdi |
AlreadyApplied | True |
Aperture | 3.2 |
ApertureValue | 3.2 |
ApproximateFocusDistance | 2.7 |
Artist | Lars Askheim Canon Norge AS |
AutoLateralCA | 0 |
AutoWhiteVersion | 134348800 |
BitsPerSample | 8 |
Blacks2012 | +12 |
BlueHue | 0 |
BlueSaturation | 0 |
By-line | Lars Askheim Canon Norge AS |
CameraProfile | Adobe Standard |
CircleOfConfusion | 0.027 mm |
Clarity2012 | +100 |
ColorComponents | 1 |
ColorMode | Grayscale |
ColorNoiseReduction | 25 |
ColorNoiseReductionDetail | 50 |
ColorNoiseReductionSmoothness | 50 |
ColorSpace | Uncalibrated |
ColorTemperature | 6050 |
ColorTransform | Unknown (RGB or CMYK) |
Contrast2012 | +25 |
ConvertToGrayscale | True |
Copyright | Nora Olsen |
CopyrightNotice | Nora Olsen |
CreateDate | 2016:04:28 14:13:20 |
Creator | Lars Askheim Canon Norge AS |
CropAngle | 0.178531 |
CropBottom | 0.890978 |
CropConstrainToWarp | 1 |
CropLeft | 0.054627 |
CropRight | 0.939268 |
CropTop | 0.014394 |
CustomRendered | Normal |
DateCreated (1) | 2016:04:28 |
DateCreated | 2016:04:28 14:13:20.004+02:00 |
DateTimeOriginal | 2016:04:28 14:13:20 |
Dehaze | 0 |
DOF | 0.49 m (2.48 - 2.97 m) |
ExifImageHeight | 3183 |
ExifImageWidth | 4851 |
Exposure2012 | +0.05 |
ExposureCompensation | 0 |
ExposureMode | Manual |
ExposureProgram | Manual |
ExposureTime | 1/1250 |
Firmware | 1.1.6 |
Flash | Off, Did not fire |
FlashCompensation | 0 |
FNumber | 3.2 |
FocalLength | 50.0 mm |
FocalLength35efl | 50.0 mm (35 mm equivalent: 56.7 mm) |
Format | image/jpeg |
FOV | 35.2 deg |
GrainAmount | 0 |
GrayMixerAqua | -22 |
GrayMixerBlue | +100 |
GrayMixerGreen | -100 |
GrayMixerMagenta | -100 |
GrayMixerOrange | -22 |
GrayMixerPurple | -100 |
GrayMixerRed | -18 |
GrayMixerYellow | -100 |
GreenHue | 0 |
GreenSaturation | 0 |
HasCrop | True |
HasSettings | True |
Highlights2012 | +15 |
HyperfocalDistance | 29.47 m |
ICCProfileName | Gray Gamma 2.2 |
ImageHeight | 3183 |
ImageNumber | 0 |
ImageSize | 4851x3183 |
ImageWidth | 4851 |
ISO | 100 |
Lens | EF50mm f/1.8 STM |
LensID (1) | 4156 |
LensID | Canon EF 50mm f/1.8 STM |
LensInfo | 50mm f/? |
LensManualDistortionAmount | 0 |
LensModel | EF50mm f/1.8 STM |
LensProfileEnable | 0 |
LensProfileSetup | LensDefaults |
LensSerialNumber | 000030a5a7 |
LightValue | 13.6 |
LuminanceSmoothing | 0 |
Make | Canon |
MaxApertureValue | 1.8 |
Megapixels | 15.4 |
MeteringMode | Partial |
Model | Canon EOS 6D |
ModifyDate (1) | 2016:04:29 15:17:19+02:00 |
ModifyDate | 2016:04:29 15:17:19 |
Orientation | Horizontal (normal) |
ParametricDarks | -42 |
ParametricHighlights | +100 |
ParametricHighlightSplit | 75 |
ParametricLights | +18 |
ParametricMidtoneSplit | 50 |
ParametricShadows | -100 |
ParametricShadowSplit | 25 |
PerspectiveAspect | 0 |
PerspectiveHorizontal | 0 |
PerspectiveRotate | 0.0 |
PerspectiveScale | 100 |
PerspectiveUpright | 0 |
PerspectiveVertical | 0 |
PostCropVignetteAmount | 0 |
ProcessVersion | 6.7 |
ProfileDescription | Gray Gamma 2.2 |
Rating | 0 |
RawFileName | 20160428_6254.CR2 |
RecommendedExposureIndex | 100 |
RedHue | 0 |
RedSaturation | 0 |
Rights | Nora Olsen |
ScaleFactor35efl | 1.1 |
SceneCaptureType | Standard |
SensitivityType | Recommended Exposure Index |
SerialNumber | 043024008583 |
Shadows2012 | +100 |
ShadowTint | 0 |
SharpenDetail | 0 |
SharpenEdgeMasking | 0 |
SharpenRadius | +1.2 |
Sharpness | 16 |
ShutterSpeed | 1/1250 |
ShutterSpeedValue | 1/1250 |
Software | Adobe Photoshop CC 2015 (Windows) |
SplitToningBalance | 0 |
SplitToningHighlightHue | 0 |
SplitToningHighlightSaturation | 0 |
SplitToningShadowHue | 0 |
SplitToningShadowSaturation | 0 |
Tint | +4 |
ToneCurve | 0, 0, 32, 22, 64, 56, 128, 128, 192, 196, 255, 255 |
ToneCurveBlue | 0, 0, 255, 255 |
ToneCurveGreen | 0, 0, 255, 255 |
ToneCurveName | Medium Contrast |
ToneCurveName2012 | Linear |
ToneCurvePV2012 | 0, 0, 255, 255 |
ToneCurvePV2012Blue | 0, 0, 255, 255 |
ToneCurvePV2012Green | 0, 0, 255, 255 |
ToneCurvePV2012Red | 0, 0, 255, 255 |
ToneCurveRed | 0, 0, 255, 255 |
ToneMapStrength | 0 |
URL_List | |
Version | 9.3 |
VignetteAmount | 0 |
WhiteBalance (1) | Custom |
WhiteBalance | Manual |
Whites2012 | +47 |