Felt | Verdi |
AlreadyApplied | True |
Aperture | 4.0 |
ApertureValue | 4.0 |
ApproximateFocusDistance | 4294967295 |
AutoLateralCA | 0 |
AutoWhiteVersion | 134348800 |
BitsPerSample | 8 |
Blacks2012 | +4 |
BlueHue | +25 |
BlueSaturation | -32 |
CameraProfile | Adobe Standard |
CircleOfConfusion | 0.030 mm |
Clarity2012 | 0 |
ColorComponents | 3 |
ColorMode | RGB |
ColorNoiseReduction | 25 |
ColorNoiseReductionDetail | 50 |
ColorNoiseReductionSmoothness | 50 |
ColorSpace | Uncalibrated |
ColorTemperature | 6050 |
ColorTransform | YCbCr |
Contrast2012 | +25 |
ConvertToGrayscale | False |
Copyright | Nora Olsen |
CopyrightNotice | Nora Olsen |
CreateDate | 2015:05:03 13:21:16 |
CustomRendered | Normal |
DateCreated (1) | 2015:05:03 |
DateCreated | 2015:05:03 13:21:16.003+02:00 |
DateTimeOriginal | 2015:05:03 13:21:16 |
DefringeGreenAmount | 0 |
DefringeGreenHueHi | 60 |
DefringeGreenHueLo | 40 |
DefringePurpleAmount | 0 |
DefringePurpleHueHi | 70 |
DefringePurpleHueLo | 30 |
Dehaze | 0 |
DOF | inf (40.77 m - inf) |
ExifImageHeight | 3648 |
ExifImageWidth | 5472 |
Exposure2012 | 0.00 |
ExposureCompensation | 0 |
ExposureMode | Manual |
ExposureProgram | Manual |
ExposureTime | 1/1000 |
Firmware | 1.1.6 |
Flash | Off, Did not fire |
FlashCompensation | 0 |
FNumber | 4.0 |
FocalLength | 70.0 mm |
FocalLength35efl | 70.0 mm (35 mm equivalent: 70.0 mm) |
Format | image/jpeg |
FOV | 28.8 deg |
GrainAmount | 0 |
GreenHue | +47 |
GreenSaturation | -34 |
HasCrop | False |
HasSettings | True |
Highlights2012 | -8 |
HueAdjustmentAqua | +14 |
HueAdjustmentBlue | +19 |
HueAdjustmentGreen | -26 |
HueAdjustmentMagenta | +18 |
HueAdjustmentOrange | +38 |
HueAdjustmentPurple | -3 |
HueAdjustmentRed | -15 |
HueAdjustmentYellow | -9 |
HyperfocalDistance | 40.77 m |
ICCProfileName | Adobe RGB (1998) |
ImageHeight | 3648 |
ImageNumber | 0 |
ImageSize | 5472x3648 |
ImageWidth | 5472 |
ISO | 250 |
Lens | 70-300mm |
LensID (1) | 156 |
LensID | Tamron SP 70-300mm f/4-5.6 Di VC USD (A005) |
LensInfo | 70-300mm f/? |
LensManualDistortionAmount | 0 |
LensModel | 70-300mm |
LensProfileEnable | 0 |
LensProfileSetup | LensDefaults |
LensSerialNumber | 0000000000 |
LightValue | 12.6 |
LuminanceAdjustmentAqua | -22 |
LuminanceAdjustmentBlue | +17 |
LuminanceAdjustmentGreen | +40 |
LuminanceAdjustmentMagenta | +11 |
LuminanceAdjustmentOrange | +85 |
LuminanceAdjustmentPurple | -15 |
LuminanceAdjustmentRed | -8 |
LuminanceAdjustmentYellow | +19 |
LuminanceSmoothing | 0 |
Make | Canon |
MaxApertureValue | 3.8 |
Megapixels | 20.0 |
MeteringMode | Partial |
Model | Canon EOS 6D |
ModifyDate (1) | 2016:05:03 15:01:04+02:00 |
ModifyDate | 2016:05:03 15:01:04 |
Orientation | Horizontal (normal) |
ParametricDarks | +33 |
ParametricHighlights | 0 |
ParametricHighlightSplit | 75 |
ParametricLights | -8 |
ParametricMidtoneSplit | 50 |
ParametricShadows | -3 |
ParametricShadowSplit | 25 |
PerspectiveAspect | 0 |
PerspectiveHorizontal | 0 |
PerspectiveRotate | 0.0 |
PerspectiveScale | 100 |
PerspectiveUpright | 0 |
PerspectiveVertical | 0 |
PostCropVignetteAmount | 0 |
ProcessVersion | 6.7 |
ProfileDescription | Adobe RGB (1998) |
Rating | 0 |
RawFileName | 20160503_6676.CR2 |
RecommendedExposureIndex | 250 |
RedHue | +1 |
RedSaturation | +3 |
Rights | Nora Olsen |
Saturation | -14 |
SaturationAdjustmentAqua | +1 |
SaturationAdjustmentBlue | +1 |
SaturationAdjustmentGreen | +8 |
SaturationAdjustmentMagenta | +8 |
SaturationAdjustmentOrange | +6 |
SaturationAdjustmentPurple | +34 |
SaturationAdjustmentRed | +7 |
SaturationAdjustmentYellow | -24 |
ScaleFactor35efl | 1.0 |
SceneCaptureType | Standard |
SensitivityType | Recommended Exposure Index |
SerialNumber | 413051003252 |
Shadows2012 | +18 |
ShadowTint | -3 |
SharpenDetail | 25 |
SharpenEdgeMasking | 0 |
SharpenRadius | +1.0 |
Sharpness | 25 |
ShutterSpeed | 1/1000 |
ShutterSpeedValue | 1/1000 |
Software | Adobe Photoshop CC 2015 (Windows) |
SplitToningBalance | 0 |
SplitToningHighlightHue | 0 |
SplitToningHighlightSaturation | 0 |
SplitToningShadowHue | 0 |
SplitToningShadowSaturation | 0 |
Tint | +18 |
ToneCurve | 0, 0, 32, 22, 64, 56, 128, 128, 192, 196, 255, 255 |
ToneCurveBlue | 0, 0, 255, 255 |
ToneCurveGreen | 0, 0, 255, 255 |
ToneCurveName | Medium Contrast |
ToneCurveName2012 | Custom |
ToneCurvePV2012 | 0, 0, 255, 255 |
ToneCurvePV2012Blue | 0, 0, 255, 255 |
ToneCurvePV2012Green | 0, 0, 101, 98, 160, 161, 255, 255 |
ToneCurvePV2012Red | 0, 0, 53, 46, 114, 123, 183, 178, 255, 255 |
ToneCurveRed | 0, 0, 255, 255 |
ToneMapStrength | 0 |
URL_List | |
Version | 9.3 |
Vibrance | -37 |
VignetteAmount | 0 |
WhiteBalance (1) | Custom |
WhiteBalance | Manual |
Whites2012 | +23 |