Felt | Verdi |
AlreadyApplied | True |
Aperture | 7.1 |
ApertureValue | 7.1 |
Artist | Santiago Amengual |
AutoLateralCA | 0 |
BitsPerSample | 8 |
Blacks2012 | -25 |
BlueHue | 0 |
BlueSaturation | 0 |
BrightnessValue | -3.36953125 |
By-line | Santiago Amengual |
CameraProfile | Adobe Standard |
CircGradBasedCorrActive | true |
CircGradBasedCorrAmount | 1.000000 |
CircGradBasedCorrBrightness | 0.000000 |
CircGradBasedCorrClarity | 0.000000 |
CircGradBasedCorrClarity2012 (3) | 0.000000 |
CircGradBasedCorrClarity2012 | 0.546220 |
CircGradBasedCorrContrast | 0.000000 |
CircGradBasedCorrContrast2012 (3) | 0.000000 |
CircGradBasedCorrContrast2012 | 0.277310 |
CircGradBasedCorrCorrectionRangeMaskColorAmount | 0.500000 |
CircGradBasedCorrCorrectionRangeMaskDepthFeather | 0.500000 |
CircGradBasedCorrCorrectionRangeMaskDepthMax | 1.000000 |
CircGradBasedCorrCorrectionRangeMaskDepthMin | 0.000000 |
CircGradBasedCorrCorrectionRangeMaskLumFeather | 0.500000 |
CircGradBasedCorrCorrectionRangeMaskLumMax | 1.000000 |
CircGradBasedCorrCorrectionRangeMaskLumMin | 0.000000 |
CircGradBasedCorrCorrectionRangeMaskType | 0 |
CircGradBasedCorrCorrectionRangeMaskVersion | +2 |
CircGradBasedCorrDefringe | 0.000000 |
CircGradBasedCorrExposure | 0.000000 |
CircGradBasedCorrExposure2012 (1) | 0.058750 |
CircGradBasedCorrExposure2012 (2) | 0.142750 |
CircGradBasedCorrExposure2012 (3) | -0.243750 |
CircGradBasedCorrExposure2012 | -0.227000 |
CircGradBasedCorrHighlights2012 | 0.000000 |
CircGradBasedCorrHue | 0.000000 |
CircGradBasedCorrLocalBlacks2012 | 0.000000 |
CircGradBasedCorrLocalDehaze (4) | -0.092440 |
CircGradBasedCorrLocalDehaze | 0.000000 |
CircGradBasedCorrLocalHue (1) | 0.274336 |
CircGradBasedCorrLocalHue (2) | 0.000000 |
CircGradBasedCorrLocalHue (4) | -0.238940 |
CircGradBasedCorrLocalHue | 0.327432 |
CircGradBasedCorrLocalTexture | 0.630250 |
CircGradBasedCorrLocalWhites2012 (3) | 0.478990 |
CircGradBasedCorrLocalWhites2012 (4) | 0.630250 |
CircGradBasedCorrLocalWhites2012 | 0.000000 |
CircGradBasedCorrLuminanceNoise (2) | 0.000000 |
CircGradBasedCorrLuminanceNoise | -0.378150 |
CircGradBasedCorrMaskAngle (1) | 29.267000 |
CircGradBasedCorrMaskAngle (2) | 33.628300 |
CircGradBasedCorrMaskAngle (3) | -22.842700 |
CircGradBasedCorrMaskAngle (4) | 0.000000 |
CircGradBasedCorrMaskAngle | 39.290500 |
CircGradBasedCorrMaskBottom (1) | 0.537028 |
CircGradBasedCorrMaskBottom (2) | 0.823659 |
CircGradBasedCorrMaskBottom (3) | 0.527343 |
CircGradBasedCorrMaskBottom (4) | 0.862764 |
CircGradBasedCorrMaskBottom | 0.869120 |
CircGradBasedCorrMaskFeather (2) | +100 |
CircGradBasedCorrMaskFeather | +50 |
CircGradBasedCorrMaskFlipped | true |
CircGradBasedCorrMaskLeft (1) | 0.648251 |
CircGradBasedCorrMaskLeft (2) | 0.594589 |
CircGradBasedCorrMaskLeft (3) | 0.517534 |
CircGradBasedCorrMaskLeft (4) | 0.427161 |
CircGradBasedCorrMaskLeft | 0.718438 |
CircGradBasedCorrMaskMidpoint | +50 |
CircGradBasedCorrMaskRight (1) | 0.658671 |
CircGradBasedCorrMaskRight (2) | 0.541098 |
CircGradBasedCorrMaskRight (3) | 1.154570 |
CircGradBasedCorrMaskRight (4) | 0.583600 |
CircGradBasedCorrMaskRight | 0.466068 |
CircGradBasedCorrMaskRoundness | 0 |
CircGradBasedCorrMaskTop (1) | -0.250899 |
CircGradBasedCorrMaskTop (2) | -0.063030 |
CircGradBasedCorrMaskTop (3) | 0.314731 |
CircGradBasedCorrMaskTop (4) | 0.614664 |
CircGradBasedCorrMaskTop | -0.295243 |
CircGradBasedCorrMaskValue | 1.000000 |
CircGradBasedCorrMaskVersion | +2 |
CircGradBasedCorrMaskWhat | Mask/CircularGradient |
CircGradBasedCorrMoire (4) | 0.000000 |
CircGradBasedCorrMoire | -0.243700 |
CircGradBasedCorrSaturation (9) | -0.025210 |
CircGradBasedCorrSaturation | 0.000000 |
CircGradBasedCorrShadows2012 | 0.000000 |
CircGradBasedCorrSharpness (1) | 0.000000 |
CircGradBasedCorrSharpness | 0.243700 |
CircGradBasedCorrTemperature (1) | 0.378696 |
CircGradBasedCorrTemperature (2) | 0.279906 |
CircGradBasedCorrTemperature | 0.000000 |
CircGradBasedCorrTint (1) | 0.362735 |
CircGradBasedCorrTint (2) | 0.381552 |
CircGradBasedCorrTint | 0.000000 |
CircGradBasedCorrWhat | Correction |
CircleOfConfusion | 0.030 mm |
Clarity2012 | -6 |
ColorComponents | 3 |
ColorGradeBlending | 100 |
ColorGradeGlobalHue | 0 |
ColorGradeGlobalLum | 0 |
ColorGradeGlobalSat | 0 |
ColorGradeHighlightLum | 0 |
ColorGradeMidtoneHue | 0 |
ColorGradeMidtoneLum | 0 |
ColorGradeMidtoneSat | 0 |
ColorGradeShadowLum | 0 |
ColorNoiseReduction | 25 |
ColorNoiseReductionDetail | 50 |
ColorNoiseReductionSmoothness | 50 |
ColorSpace | sRGB |
ColorTemperature | 5333 |
ColorTransform | YCbCr |
Contrast | High |
Contrast2012 | +42 |
ConvertToGrayscale | False |
CreateDate | 2021:02:28 18:16:18 |
Creator | Santiago Amengual |
CreatorTool | Adobe Photoshop Lightroom Classic 10.1.1 (Windows) |
CropAngle | 0 |
CropBottom | 0.921728 |
CropConstrainToWarp | 0 |
CropLeft | 0.02115 |
CropRight | 0.942878 |
CropTop | 0 |
CustomRendered | Normal |
DateCreated (1) | 2021:02:28 |
DateCreated | 2021:02:28 18:16:18 |
DateTimeOriginal | 2021:02:28 18:16:18 |
DefringeGreenAmount | 0 |
DefringeGreenHueHi | 60 |
DefringeGreenHueLo | 40 |
DefringePurpleAmount | 0 |
DefringePurpleHueHi | 70 |
DefringePurpleHueLo | 30 |
Dehaze | 0 |
DigitalZoomRatio | 1 |
Exposure2012 | -0.35 |
ExposureCompensation | 0 |
ExposureMode | Manual |
ExposureProgram | Manual |
ExposureTime | 5 |
Flash | Off, Did not fire |
FNumber | 7.1 |
FocalLength | 28.0 mm |
FocalLength35efl | 28.0 mm (35 mm equivalent: 28.0 mm) |
FocalLengthIn35mmFormat | 28 mm |
Format | image/jpeg |
FOV | 65.5 deg |
GradientBasedCorrActive | true |
GradientBasedCorrAmount | 1.000000 |
GradientBasedCorrBrightness | 0.000000 |
GradientBasedCorrClarity | 0.000000 |
GradientBasedCorrClarity2012 | 0.000000 |
GradientBasedCorrContrast | 0.000000 |
GradientBasedCorrContrast2012 | 0.000000 |
GradientBasedCorrCorrectionRangeMaskColorAmount | 0.500000 |
GradientBasedCorrCorrectionRangeMaskDepthFeather | 0.500000 |
GradientBasedCorrCorrectionRangeMaskDepthMax | 1.000000 |
GradientBasedCorrCorrectionRangeMaskDepthMin | 0.000000 |
GradientBasedCorrCorrectionRangeMaskLumFeather | 0.500000 |
GradientBasedCorrCorrectionRangeMaskLumMax | 1.000000 |
GradientBasedCorrCorrectionRangeMaskLumMin | 0.000000 |
GradientBasedCorrCorrectionRangeMaskType | 0 |
GradientBasedCorrCorrectionRangeMaskVersion | +2 |
GradientBasedCorrDefringe | 0.000000 |
GradientBasedCorrExposure | 0.000000 |
GradientBasedCorrExposure2012 (1) | -0.579750 |
GradientBasedCorrExposure2012 (2) | -0.263357 |
GradientBasedCorrExposure2012 | -0.344500 |
GradientBasedCorrHighlights2012 | 0.000000 |
GradientBasedCorrHue | 0.000000 |
GradientBasedCorrLocalBlacks2012 | 0.000000 |
GradientBasedCorrLocalDehaze | 0.000000 |
GradientBasedCorrLocalHue | 0.000000 |
GradientBasedCorrLocalTexture | 0.630250 |
GradientBasedCorrLocalWhites2012 (2) | 0.478990 |
GradientBasedCorrLocalWhites2012 | 0.000000 |
GradientBasedCorrLuminanceNoise | 0.000000 |
GradientBasedCorrMaskCenterWeight | 0.000000 |
GradientBasedCorrMaskFlow | 0.498892 |
GradientBasedCorrMaskFullX (1) | 0.665609 |
GradientBasedCorrMaskFullX (2) | 0.343459 |
GradientBasedCorrMaskFullX | 0.984202 |
GradientBasedCorrMaskFullY (1) | 1.087400 |
GradientBasedCorrMaskFullY (2) | 0.284956 |
GradientBasedCorrMaskFullY | 0.019246 |
GradientBasedCorrMaskRadius (1) | 0.191017 |
GradientBasedCorrMaskRadius | 0.190347 |
GradientBasedCorrMaskValue (2) | 0.000000 |
GradientBasedCorrMaskValue | 1.000000 |
GradientBasedCorrMaskWhat (3) | Mask/Paint |
GradientBasedCorrMaskWhat | Mask/Gradient |
GradientBasedCorrMaskZeroX (1) | 0.566087 |
GradientBasedCorrMaskZeroX (2) | 0.535437 |
GradientBasedCorrMaskZeroX | 0.813772 |
GradientBasedCorrMaskZeroY (1) | 0.642959 |
GradientBasedCorrMaskZeroY (2) | 0.687714 |
GradientBasedCorrMaskZeroY | 0.533919 |
GradientBasedCorrMoire | 0.000000 |
GradientBasedCorrSaturation | 0.000000 |
GradientBasedCorrShadows2012 | 0.000000 |
GradientBasedCorrSharpness | 0.000000 |
GradientBasedCorrTemperature | 0.000000 |
GradientBasedCorrTint | 0.000000 |
GradientBasedCorrWhat | Correction |
GrainAmount | 0 |
GreenHue | 0 |
GreenSaturation | 0 |
HasCrop | True |
HasSettings | True |
Highlights2012 | -100 |
HueAdjustmentAqua | 0 |
HueAdjustmentBlue | 0 |
HueAdjustmentGreen | 0 |
HueAdjustmentMagenta | 0 |
HueAdjustmentOrange | 0 |
HueAdjustmentPurple | 0 |
HueAdjustmentRed | 0 |
HueAdjustmentYellow | 0 |
HyperfocalDistance | 3.68 m |
ImageHeight | 3687 |
ImageSize | 5530x3687 |
ImageWidth | 5530 |
ISO | 100 |
Lens | FE 28-70mm F3.5-5.6 OSS |
LensDistortInfo | 33323/32768 -68194276/1073741824 30538668/1073741824 -5781389/1073741824 |
LensInfo | 28-70mm f/3.5-5.6 |
LensManualDistortionAmount | 0 |
LensModel | FE 28-70mm F3.5-5.6 OSS |
LensProfileDistortionScale | 100 |
LensProfileEnable | 1 |
LensProfileFilename | SONY (Sony FE 28-70mm F3.5-5.6 OSS) - RAW.lcp |
LensProfileIsEmbedded | False |
LensProfileName | Adobe (Sony FE 28-70mm F3.5-5.6 OSS) |
LensProfileSetup | LensDefaults |
LensProfileVignettingScale | 100 |
LightSource | Unknown |
LightValue | 3.3 |
LuminanceAdjustmentAqua | 0 |
LuminanceAdjustmentBlue | 0 |
LuminanceAdjustmentGreen | 0 |
LuminanceAdjustmentMagenta | 0 |
LuminanceAdjustmentOrange | 0 |
LuminanceAdjustmentPurple | 0 |
LuminanceAdjustmentRed | 0 |
LuminanceAdjustmentYellow | 0 |
LuminanceNoiseReductionContrast | 0 |
LuminanceNoiseReductionDetail | 50 |
LuminanceSmoothing | 16 |
Make | SONY |
MaxApertureValue | 3.5 |
Megapixels | 20.4 |
MeteringMode | Center-weighted average |
Model | ILCE-7M2 |
ModifyDate (1) | 2021:02:28 21:00:16+09:00 |
ModifyDate | 2021:02:28 21:00:16 |
OverrideLookVignette | False |
ParametricDarks | 0 |
ParametricHighlights | 0 |
ParametricHighlightSplit | 75 |
ParametricLights | 0 |
ParametricMidtoneSplit | 50 |
ParametricShadows | 0 |
ParametricShadowSplit | 25 |
PerspectiveAspect | 0 |
PerspectiveHorizontal | 0 |
PerspectiveRotate | 0.0 |
PerspectiveScale | 100 |
PerspectiveUpright | 0 |
PerspectiveVertical | 0 |
PerspectiveX | 0.00 |
PerspectiveY | 0.00 |
PostCropVignetteAmount | -2 |
PostCropVignetteFeather | 50 |
PostCropVignetteHighlightContrast | 0 |
PostCropVignetteMidpoint | 50 |
PostCropVignetteRoundness | 0 |
PostCropVignetteStyle | 1 |
PreservedFileName | _SAM2511.ARW |
ProcessVersion | 11.0 |
ProfileDescription | sRGB IEC61966-2.1 |
RecommendedExposureIndex | 100 |
RedHue | 0 |
RedSaturation | 0 |
Saturation (1) | +2 |
Saturation | Low |
SaturationAdjustmentAqua | 0 |
SaturationAdjustmentBlue | 0 |
SaturationAdjustmentGreen | 0 |
SaturationAdjustmentMagenta | 0 |
SaturationAdjustmentOrange | 0 |
SaturationAdjustmentPurple | 0 |
SaturationAdjustmentRed | 0 |
SaturationAdjustmentYellow | 0 |
ScaleFactor35efl | 1.0 |
SceneCaptureType | Standard |
SceneType | Directly photographed |
SensitivityType | Recommended Exposure Index |
Shadows2012 | +100 |
ShadowTint | 0 |
SharpenDetail | 25 |
SharpenEdgeMasking | 48 |
SharpenRadius | +1.0 |
Sharpness (1) | 79 |
Sharpness | Hard |
ShutterSpeed | 5 |
ShutterSpeedValue | 5 |
Software | Adobe Photoshop Lightroom Classic 10.1.1 (Windows) |
SplitToningBalance | -40 |
SplitToningHighlightHue | 43 |
SplitToningHighlightSaturation | 65 |
SplitToningShadowHue | 232 |
SplitToningShadowSaturation | 34 |
Texture | 0 |
Tint | +10 |
ToneCurveName2012 | Linear |
ToneCurvePV2012 | 0, 0, 255, 255 |
ToneCurvePV2012Blue | 0, 0, 255, 255 |
ToneCurvePV2012Green | 0, 0, 255, 255 |
ToneCurvePV2012Red | 0, 0, 255, 255 |
UserComment | Sony A7 II |
Version | 13.1 |
Vibrance | 0 |
VignetteAmount | 0 |
WhiteBalance (1) | Custom |
WhiteBalance | Auto |
Whites2012 | +36 |