Felt | Verdi |
AlreadyApplied | True |
Aperture | 1.8 |
ApertureValue | 1.8 |
Artist | SINDRE_NEDREVAG |
AutoLateralCA | 0 |
BitsPerSample | 8 |
Blacks2012 | 0 |
BlueHue | 0 |
BlueSaturation | 0 |
By-line | SINDRE_NEDREVAG |
CameraProfile | Adobe Standard |
CameraProfilesApertureValue | 1.695994 |
CameraProfilesAuthor | Adobe |
CameraProfilesAutoScale | False |
CameraProfilesCameraPrettyName | Nikon Z 9 |
CameraProfilesCameraRawProfile | True |
CameraProfilesFocalLength | 14 |
CameraProfilesFocusDistance | 10000 |
CameraProfilesLens | FE 14mm F1.8 GM |
CameraProfilesLensPrettyName | FE 14mm F1.8 GM |
CameraProfilesMake | NIKON CORPORATION |
CameraProfilesModel | NIKON Z 9 |
CameraProfilesPerspectiveModelImageXCenter | 0.500134 |
CameraProfilesPerspectiveModelImageYCenter | 0.508096 |
CameraProfilesPerspectiveModelRadialDistortParam1 | -0.000801 |
CameraProfilesPerspectiveModelRadialDistortParam2 | -0.000689 |
CameraProfilesPerspectiveModelRadialDistortParam3 | -0.000185 |
CameraProfilesPerspectiveModelScaleFactor | 1.000995 |
CameraProfilesPerspectiveModelVersion | 2 |
CameraProfilesPerspectiveModelVignetteModelImageXCenter | 0.500134 |
CameraProfilesPerspectiveModelVignetteModelImageYCenter | 0.508096 |
CameraProfilesPerspectiveModelVignetteModelVignetteModelParam1 | 1 |
CameraProfilesProfileName | Camera Settings |
CameraProfilesSensorFormatFactor | 1.003485 |
CameraProfilesUniqueCameraModel | Nikon Z 9 |
CFAPattern | [Red,Green][Green,Blue] |
CircleOfConfusion | 0.030 mm |
Clarity2012 | 0 |
ColorComponents | 3 |
ColorGradeBlending | 50 |
ColorGradeGlobalHue | 0 |
ColorGradeGlobalLum | 0 |
ColorGradeGlobalSat | 0 |
ColorGradeHighlightLum | 0 |
ColorGradeMidtoneHue | 0 |
ColorGradeMidtoneLum | 0 |
ColorGradeMidtoneSat | 0 |
ColorGradeShadowLum | 0 |
ColorNoiseReduction | 0 |
ColorSpace | sRGB |
ColorTemperature | 3950 |
CompatibleVersion | 234881024 |
Contrast | Normal |
Contrast2012 | +13 |
Copyright | SINDRE_N_PHOTOGRAPHY |
CopyrightNotice | SINDRE_N_PHOTOGRAPHY |
CreateDate (1) | 2023:09:18 22:22:15.07+02:00 |
CreateDate | 2023:09:18 22:22:15 |
Creator | SINDRE_NEDREVAG |
CreatorTool | Adobe Photoshop Lightroom Classic 12.5 (Windows) |
CropAngle | -0.624694 |
CropBottom | 0.959179 |
CropConstrainToWarp | 0 |
CropLeft | 0.064321 |
CropRight | 0.908044 |
CropTop | 0.141352 |
CustomRendered | Custom |
DateCreated (1) | 2023:09:18 |
DateCreated | 2023:09:18 22:22:15.07+02:00 |
DateTimeOriginal | 2023:09:18 22:22:15 |
DefringeGreenAmount | 0 |
DefringeGreenHueHi | 60 |
DefringeGreenHueLo | 40 |
DefringePurpleAmount | 0 |
DefringePurpleHueHi | 70 |
DefringePurpleHueLo | 30 |
Dehaze | +3 |
DistortionCorrectionAlreadyApplied | True |
EnhanceDenoiseAlreadyApplied | True |
EnhanceDenoiseLumaAmount | 40 |
EnhanceDenoiseVersion | 251658240 |
EnhanceDetailsAlreadyApplied | True |
EnhanceDetailsVersion | 218300416 |
Exposure2012 | 0.00 |
ExposureCompensation | 0 |
ExposureMode | Manual |
ExposureProgram | Manual |
ExposureTime | 4 |
Flash | No Flash |
FNumber | 1.8 |
FocalLength | 14.0 mm |
FocalLength35efl | 14.0 mm (35 mm equivalent: 14.0 mm) |
FocalLengthIn35mmFormat | 14 mm |
Format | image/jpeg |
FOV | 104.3 deg |
GainControl | Low gain up |
GrainAmount | 0 |
GreenHue | 0 |
GreenSaturation | 0 |
HasCrop | True |
HasSettings | True |
Highlights2012 | 0 |
HueAdjustmentAqua | 0 |
HueAdjustmentBlue | 0 |
HueAdjustmentGreen | 0 |
HueAdjustmentMagenta | 0 |
HueAdjustmentOrange | 0 |
HueAdjustmentPurple | 0 |
HueAdjustmentRed | 0 |
HueAdjustmentYellow | 0 |
HyperfocalDistance | 3.62 m |
ImageHeight | 1694 |
ImageNumber | 38260 |
ImageSize | 2560x1694 |
ImageWidth | 2560 |
ISO | 2500 |
Lens | FE 14mm F1.8 GM |
LensInfo | 14mm f/1.8 |
LensMake | ETZ21 |
LensManualDistortionAmount | 0 |
LensModel | FE 14mm F1.8 GM |
LensProfileDistortionScale | 100 |
LensProfileEnable | 1 |
LensProfileIsEmbedded | True |
LensProfileName | Camera Settings |
LensProfileSetup | LensDefaults |
LensProfileVignettingScale | 100 |
LensSerialNumber | 1430532898 |
LightSource | Unknown |
LightValue | -4.9 |
LookAmount | 1 |
LookGroup | Profiles |
LookName | Adobe Color |
LookParametersCameraProfile | Adobe Standard |
LookParametersConvertToGrayscale | False |
LookParametersLookTable | E1095149FDB39D7A057BAB208837E2E1 |
LookParametersProcessVersion | 15.4 |
LookParametersToneCurvePV2012 | 0, 0, 22, 16, 40, 35, 127, 127, 224, 230, 240, 246, 255, 255 |
LookParametersToneCurvePV2012Blue | 0, 0, 255, 255 |
LookParametersToneCurvePV2012Green | 0, 0, 255, 255 |
LookParametersToneCurvePV2012Red | 0, 0, 255, 255 |
LookParametersVersion | 15.5 |
LookSupportsAmount | false |
LookSupportsMonochrome | false |
LookSupportsOutputReferred | false |
LuminanceAdjustmentAqua | 0 |
LuminanceAdjustmentBlue | 0 |
LuminanceAdjustmentGreen | -5 |
LuminanceAdjustmentMagenta | 0 |
LuminanceAdjustmentOrange | 0 |
LuminanceAdjustmentPurple | 0 |
LuminanceAdjustmentRed | 0 |
LuminanceAdjustmentYellow | 0 |
LuminanceSmoothing | 0 |
Make | NIKON CORPORATION |
Megapixels | 4.3 |
MeteringMode | Center-weighted average |
Model | NIKON Z 9 |
ModifyDate (1) | 2023:09:19 19:00:10+02:00 |
ModifyDate | 2023:09:19 19:00:10 |
Orientation | Horizontal (normal) |
OverrideLookVignette | False |
ParametricDarks | -6 |
ParametricHighlights | -17 |
ParametricHighlightSplit | 75 |
ParametricLights | +2 |
ParametricMidtoneSplit | 50 |
ParametricShadows | 0 |
ParametricShadowSplit | 25 |
PerspectiveAspect | 0 |
PerspectiveHorizontal | 0 |
PerspectiveRotate | 0.0 |
PerspectiveScale | 100 |
PerspectiveUpright | 0 |
PerspectiveVertical | 0 |
PerspectiveX | 0.00 |
PerspectiveY | 0.00 |
PostCropVignetteAmount | 0 |
PreservedFileName | DSC_8278.NEF |
ProcessVersion | 15.4 |
ProfileDescription | sRGB IEC61966-2.1 |
RawFileName | DSC_8278-Enhanced-NR.dng |
RecommendedExposureIndex | 2500 |
RedHue | 0 |
RedSaturation | 0 |
Rights | SINDRE_N_PHOTOGRAPHY |
Saturation (1) | +3 |
Saturation | Normal |
SaturationAdjustmentAqua | 0 |
SaturationAdjustmentBlue | 0 |
SaturationAdjustmentGreen | -10 |
SaturationAdjustmentMagenta | 0 |
SaturationAdjustmentOrange | 0 |
SaturationAdjustmentPurple | 0 |
SaturationAdjustmentRed | 0 |
SaturationAdjustmentYellow | 0 |
ScaleFactor35efl | 1.0 |
SceneCaptureType | Standard |
SceneType | Directly photographed |
SensingMethod | One-chip color area |
SensitivityType | Recommended Exposure Index |
SerialNumber | 6025745 |
Shadows2012 | 0 |
ShadowTint | 0 |
SharpenDetail | 25 |
SharpenEdgeMasking | 0 |
SharpenRadius | +1.0 |
Sharpness (1) | 40 |
Sharpness | Normal |
ShutterSpeed | 4 |
ShutterSpeedValue | 4 |
Software | Adobe Photoshop Lightroom Classic 12.5 (Windows) |
SplitToningBalance | 0 |
SplitToningHighlightHue | 0 |
SplitToningHighlightSaturation | 0 |
SplitToningShadowHue | 0 |
SplitToningShadowSaturation | 0 |
SubjectDistanceRange | Unknown |
Texture | 0 |
Tint | +3 |
ToneCurveName2012 | Linear |
ToneCurvePV2012 | 0, 0, 255, 255 |
ToneCurvePV2012Blue | 0, 0, 255, 255 |
ToneCurvePV2012Green | 0, 0, 255, 255 |
ToneCurvePV2012Red | 0, 0, 255, 255 |
Version | 15.5 |
Vibrance | +3 |
VignetteAmount | 0 |
VignetteCorrectionAlreadyApplied | True |
WhiteBalance (1) | As Shot |
WhiteBalance | Manual |
Whites2012 | +16 |