Felt | Verdi |
AELock | Off |
AFAreas | none |
AFFineTune | Off |
AFFineTuneAdj | 0 0 0 |
AFPoint | Left (or n/a) |
AFPointSelected | n/a |
AFSearch | Not Ready |
AlreadyApplied | True |
Aperture | 2.8 |
ApertureValue | 2.8 |
ApproximateFocusDistance | 1.31 |
ArtFilter | Off; 0; 0; 0 |
ArtFilterEffect | Off; 0; 0; Partial Color 0; No Effect; 0; No Color Filter; 0; 0; 0; 0; 0; 0; 0; 0; 0; 0; 0; 0; 0 |
Artist | Torstein Hall |
AspectFrame | 0 0 4607 3455 |
AspectRatio | 4:3 |
AutoLateralCA | 0 |
AutoWhiteVersion | 134348800 |
BitsPerSample | 8 |
BlackLevel2 | 252 253 253 251 |
Blacks2012 | -21 |
BlueBalance | 3.5 |
BlueHue | 0 |
BlueSaturation | 0 |
BodyFirmwareVersion | 1.601 |
CameraID | OLYMPUS DIGITAL CAMERA |
CameraProfile | Adobe Standard |
CameraSettingsVersion | 0100 |
CameraType2 | E-M5 |
CFAPattern | [Red,Green][Green,Blue] |
CircleOfConfusion | 0.015 mm |
Clarity2012 | +19 |
ColorComponents | 3 |
ColorMatrix | 398 -116 -26 -54 356 -46 6 -108 358 |
ColorNoiseReduction | 25 |
ColorNoiseReductionDetail | 50 |
ColorNoiseReductionSmoothness | 50 |
ColorSpace | sRGB |
ColorTemperature | 2850 |
Contrast | High |
Contrast2012 | +11 |
ContrastSetting | 1 (min -5, max 5) |
ConversionLens | |
ConvertToGrayscale | False |
CreateDate | 2013:09:08 18:46:30 |
Creator | Torstein Hall |
CreatorCountry | Norge |
CreatorPostalCode | 1395 |
CreatorTool | DxO PhotoLab 6.10.1 |
CreatorWorkEmail | tohall@online.no |
CreatorWorkTelephone | +47 94873470 |
CreatorWorkURL | www.ohb.no |
CropHeight | 3456 |
CropLeft | 8 0 |
CropTop | 8 0 |
CropWidth | 4608 |
CustomRendered | Normal |
CustomSaturation | 0 (min -5, max 5) |
DateCreated | 2013:09:08 18:46:30 |
DateTimeOriginal | 2013:09:08 18:46:30 |
DefringeGreenAmount | 0 |
DefringeGreenHueHi | 60 |
DefringeGreenHueLo | 40 |
DefringePurpleAmount | 0 |
DefringePurpleHueHi | 70 |
DefringePurpleHueLo | 30 |
Dehaze | 0 |
DigitalZoomRatio | 1 |
DistortionCorrection | Off |
DistortionCorrection2 | Off |
DOF | 0.40 m (1.14 - 1.54 m) |
DriveMode | Single Shot |
EquipmentVersion | 0100 |
ExifImageHeight (1) | 3456 |
ExifImageHeight | 1494 |
ExifImageWidth (1) | 4608 |
ExifImageWidth | 2000 |
Exposure2012 | +0.71 |
ExposureCompensation | +0.7 |
ExposureMode (1) | Aperture-priority AE |
ExposureMode | Manual |
ExposureProgram | Aperture-priority AE |
ExposureShift | 0.16 |
ExposureTime | 1/40 |
ExtendedWBDetect | Off |
Extender | None |
ExtenderFirmwareVersion | 0 |
ExtenderModel | |
ExtenderSerialNumber | |
ExtenderStatus | Not attached |
ExternalFlash | Off |
ExternalFlashBounce | Bounce or Off |
ExternalFlashZoom | 0 |
FaceDetectFrameCrop | 0 0 640 480 0 0 640 480 0 0 0 0 |
FaceDetectFrameSize | 640 480 640 480 0 0 |
FacesDetected | 1 1 0 |
Flash | Auto, Did not fire |
FlashCompensation | 0 |
FlashControlMode | Off; 0; 0; 0 |
FlashExposureComp | 0 |
FlashFired | False |
FlashFirmwareVersion | 0 |
FlashFunction | False |
FlashIntensity | n/a (x4) |
FlashMode (1) | Auto |
FlashMode | Off |
FlashModel | None |
FlashRedEyeMode | False |
FlashRemoteControl | Off |
FlashReturn | No return detection |
FlashSerialNumber | |
FlashType | None |
FNumber | 2.8 |
FocalLength | 19.0 mm |
FocalLength35efl | 19.0 mm (35 mm equivalent: 38.0 mm) |
FocalLengthIn35mmFormat | 38 mm |
FocusDistance | 1.31 m |
FocusInfoVersion | 0100 |
FocusMode | Single AF; S-AF, Face detect, Imager AF |
FocusProcess | AF Not Used; 96 |
FocusStepCount | 99 |
FocusStepInfinity | 0 |
FocusStepNear | 0 |
Format | image/x-olympus-orf |
FOV | 50.0 deg (1.22 m) |
GainBase | 256 |
GainControl | High gain up |
Gradation | Normal; Auto-Override |
GrainAmount | 0 |
GreenHue | 0 |
GreenSaturation | 0 |
HasSettings | True |
Highlights2012 | +33 |
HueAdjustmentAqua | 0 |
HueAdjustmentBlue | 0 |
HueAdjustmentGreen | 0 |
HueAdjustmentMagenta | 0 |
HueAdjustmentOrange | 0 |
HueAdjustmentPurple | 0 |
HueAdjustmentRed | 0 |
HueAdjustmentYellow | 0 |
HyperfocalDistance | 8.58 m |
ImageCreatorImageCreatorName | Torstein Hall |
ImageHeight (1) | 3456 |
ImageHeight | 1494 |
ImageProcessingVersion | 0112 |
ImageSize | 2000x1494 |
ImageStabilization | On, Mode 1 |
ImageWidth (1) | 4608 |
ImageWidth | 2000 |
InternalFlash | Off |
InternalSerialNumber | 4138207028299001 |
ISO | 1250 |
Lens | SIGMA 19mm F2.8 EX DN |
LensFirmwareVersion | 1.001 |
LensID | Sigma 19mm F2.8 EX DN |
LensInfo | 19mm f/2.8 |
LensManualDistortionAmount | 0 |
LensModel | SIGMA 19mm F2.8 EX DN |
LensProfileEnable | 0 |
LensProfileSetup | LensDefaults |
LensProperties | 0x4120 |
LensSerialNumber | 133151208 |
LensType | Sigma 19mm F2.8 EX DN |
LightSource | Unknown |
LightValue | 4.6 |
LuminanceAdjustmentAqua | 0 |
LuminanceAdjustmentBlue | 0 |
LuminanceAdjustmentGreen | 0 |
LuminanceAdjustmentMagenta | 0 |
LuminanceAdjustmentOrange | 0 |
LuminanceAdjustmentPurple | 0 |
LuminanceAdjustmentRed | 0 |
LuminanceAdjustmentYellow | 0 |
LuminanceSmoothing | 0 |
MacroLED | Off |
MacroMode | Off |
Make | OLYMPUS IMAGING CORP. |
ManometerPressure | 0 kPa |
ManometerReading | 0 m, 0 ft |
ManualFlash | Off |
ManualFlashStrength | n/a (x4) |
Marked | True |
MaxAperture | 2.9 |
MaxApertureAtMaxFocal | 2.8 |
MaxApertureAtMinFocal | 2.8 |
MaxApertureValue | 2.8 |
MaxFaces | 8 8 0 |
MaxFocalLength | 19 |
Megapixels | 3.0 |
MeteringMode (1) | Multi-segment |
MeteringMode | ESP |
MinFocalLength | 19 |
Model | E-M5 |
ModifiedSaturation | Off |
ModifyDate (1) | 2023:10:22 19:18:59+02:00 |
ModifyDate | 2023:10:22 19:18:59 |
MultipleExposureMode | Off; 1 |
NoiseFilter | Low |
NoiseReduction | Auto |
NoiseReduction2 | (none) |
Orientation | Horizontal (normal) |
PanoramaMode | Off |
ParametricDarks | 0 |
ParametricHighlights | 0 |
ParametricHighlightSplit | 75 |
ParametricLights | 0 |
ParametricMidtoneSplit | 50 |
ParametricShadows | 0 |
ParametricShadowSplit | 25 |
PerspectiveAspect | 0 |
PerspectiveHorizontal | 0 |
PerspectiveRotate | 0.0 |
PerspectiveScale | 100 |
PerspectiveUpright | 0 |
PerspectiveVertical | 0 |
PerspectiveX | 0.00 |
PerspectiveY | 0.00 |
PictureMode | Natural; 2 |
PictureModeBWFilter | n/a |
PictureModeContrast | 1 (min -2, max 2) |
PictureModeEffect | Standard |
PictureModeSaturation | 0 (min -2, max 2) |
PictureModeSharpness | 0 (min -2, max 2) |
PictureModeTone | n/a |
PostCropVignetteAmount | 0 |
PrintIMVersion | 0300 |
ProcessVersion | 6.7 |
Rating | 1 |
RatingPercent | 1 |
RawDevColorSpace | sRGB |
RawDevContrastValue | 0 0 0 |
RawDevEditStatus | Original |
RawDevEngine | High Speed |
RawDevExposureBiasValue | 0 |
RawDevGrayPoint | 0 0 0 |
RawDevMemoryColorEmphasis | 0 |
RawDevNoiseReduction | (none) |
RawDevSaturationEmphasis | 0 0 0 |
RawDevSettings | (none) |
RawDevSharpnessValue | 0 0 0 |
RawDevVersion | 0100 |
RawDevWBFineAdjustment | 0 |
RawDevWhiteBalanceValue | 0 |
RawFileName | P9080059.ORF |
RedBalance | 1.296875 |
RedHue | 0 |
RedSaturation | 0 |
RegionAppliedToDimensionsH | 3456 |
RegionAppliedToDimensionsUnit | pixel |
RegionAppliedToDimensionsW | 4608 |
RegionAreaH | 0.21793 |
RegionAreaW | 0.16345 |
RegionAreaX | 0.50322 |
RegionAreaY | 0.36018 |
RegionRotation | -0.01853 |
RegionType | Face |
Saturation (2) | 0 |
Saturation | Normal |
SaturationAdjustmentAqua | 0 |
SaturationAdjustmentBlue | 0 |
SaturationAdjustmentGreen | 0 |
SaturationAdjustmentMagenta | 0 |
SaturationAdjustmentOrange | 0 |
SaturationAdjustmentPurple | 0 |
SaturationAdjustmentRed | 0 |
SaturationAdjustmentYellow | 0 |
ScaleFactor35efl | 2.0 |
SceneCaptureType | Standard |
SceneDetect | 0 |
SceneMode | Standard |
SensitivityType (1) | 1 |
SensitivityType | Standard Output Sensitivity |
SensorCalibration | 4094 256 |
SensorTemperature | 31 C |
SerialNumber | BEK514187 |
ShadingCompensation | Off |
ShadingCompensation2 | Off |
Shadows2012 | 0 |
ShadowTint | 0 |
SharpenDetail | 25 |
SharpenEdgeMasking | 0 |
SharpenRadius | +1.0 |
Sharpness (2) | 25 |
Sharpness | Normal |
SharpnessSetting | 0 (min -5, max 5) |
ShutterSpeed | 1/40 |
ShutterSpeedValue | 1/40 |
SidecarForExtension | ORF |
Software | DxO PhotoLab 6.10.1 |
SpecialMode | Normal, Sequence: 0, Panorama: (none) |
SplitToningBalance | 0 |
SplitToningHighlightHue | 0 |
SplitToningHighlightSaturation | 0 |
SplitToningShadowHue | 0 |
SplitToningShadowSaturation | 0 |
SubjectDistance | 1.31 m |
Tint | +18 |
ToneCurve | 0, 0, 32, 22, 64, 56, 128, 128, 192, 196, 255, 255 |
ToneCurveBlue | 0, 0, 255, 255 |
ToneCurveGreen | 0, 0, 255, 255 |
ToneCurveName | Medium Contrast |
ToneCurveName2012 | Linear |
ToneCurvePV2012 | 0, 0, 255, 255 |
ToneCurvePV2012Blue | 0, 0, 255, 255 |
ToneCurvePV2012Green | 0, 0, 255, 255 |
ToneCurvePV2012Red | 0, 0, 255, 255 |
ToneCurveRed | 0, 0, 255, 255 |
ToneLevel | Highlights; 0; -7; 7; Shadows; 0; -7; 7; 0; 0; 0; 0 |
ToneMapStrength | 0 |
UsageTerms | Contact me at: tohall@online.no for price |
UserComment | |
ValidBits | 12 0 |
Version | 9.12 |
Vibrance | 0 |
VignetteAmount | 0 |
WB_RBLevels | 332 896 256 256 |
WB_RBLevels3000K | 314 808 256 256 |
WB_RBLevels3300K | 374 634 256 256 |
WB_RBLevels3600K | 398 582 256 256 |
WB_RBLevels3900K | 420 540 256 256 |
WB_RBLevels4000K | 496 638 256 256 |
WB_RBLevels4300K | 450 524 256 256 |
WB_RBLevels4500K | 478 534 256 256 |
WB_RBLevels4800K | 482 482 256 256 |
WB_RBLevels5300K | 506 448 256 256 |
WB_RBLevels6000K | 554 402 256 256 |
WB_RBLevels6600K | 570 432 256 256 |
WB_RBLevels7500K | 600 350 256 256 |
WB_RBLevelsCWB1 | 210 974 256 256 |
WB_RBLevelsCWB2 | 252 1050 256 256 |
WB_RBLevelsCWB3 | 382 382 256 256 |
WB_RBLevelsCWB4 | 382 382 256 256 |
WhiteBalance (2) | As Shot |
WhiteBalance | Auto |
WhiteBalance2 | Auto (Keep Warm Color Off) |
WhiteBalanceBracket | 0 0 |
WhiteBalanceTemperature | Auto |
Whites2012 | +17 |
ZoomStepCount | 0 |