Felt | Verdi |
AlreadyApplied | True |
Aperture | 6.3 |
ApertureValue | 6.3 |
Artist | Venche Jensen |
AuthorsPosition | Fotograf, webdesigner, journalist |
BitsPerSample (1) | 16, 16, 16 |
BitsPerSample (2) | 16 16 16 |
BitsPerSample | 8 |
BlueHue | 0 |
BlueSaturation | 0 |
Brightness | +14 |
By-line | Venche Jensen |
By-lineTitle | Fotograf, webdesigner, journalis |
CameraProfile | Embedded |
Category (1) | Lan |
Category | Landskap |
CFAPattern | [Red,Green][Green,Blue] |
ChromaticAberrationB | 0 |
ChromaticAberrationR | 0 |
CircleOfConfusion | 0.030 mm |
Clarity | +36 |
ColorComponents | 3 |
ColorMode | RGB |
ColorNoiseReduction | 0 |
ColorSpace | sRGB |
ColorTemperature | 5950 |
Contrast (2) | +18 |
Contrast | Normal |
ConvertToGrayscale | False |
Copyright | Venche Jensen |
CopyrightFlag | True |
CopyrightNotice | Venche Jensen |
CreateDate (1) | 2008:04:12 10:20:05.81+02:00 |
CreateDate | 2008:04:12 10:20:05 |
Creator | Venche Jensen |
CreatorAddress | Postboks 152 |
CreatorCity | Alta |
CreatorCountry | Norway |
CreatorPostalCode | 9502 |
CreatorRegion | Finnmark |
CreatorTool | Adobe Photoshop CS3 Windows |
CreatorWorkEmail | wenche@roro.no |
CreatorWorkTelephone | +4745472913 |
CreatorWorkURL | www.venche.no |
CropAngle | 0 |
CropBottom | 0.864066 |
CropHeight | 1968 |
CropLeft | 0.302125 |
CropRight | 0.734068 |
CropTop | 0.169031 |
CropUnit | pixels |
CropWidth | 1838 |
CustomRendered | Normal |
DateTimeDigitized | 2008:04:12 10:20:05.81+02:00 |
DateTimeOriginal (1) | 2008:04:12 10:20:05.81+02:00 |
DateTimeOriginal | 2008:04:12 10:20:05 |
Defringe | 0 |
DigitalZoomRatio | 1 |
ExifImageHeight | 768 |
ExifImageWidth | 731 |
Exposure | -0.38 |
ExposureCompensation | 0 |
ExposureMode | Auto |
ExposureProgram | Aperture-priority AE |
ExposureTime | 1/1250 |
FillLight | 45 |
Flash | No Flash |
FlashFired | False |
FlashFunction | False |
FlashMode | Unknown |
FlashRedEyeMode | False |
FlashReturn | No return detection |
FNumber | 6.3 |
FocalLength | 280.0 mm |
FocalLength35efl | 280.0 mm (35 mm equivalent: 280.0 mm) |
FocalLengthIn35mmFormat | 280 mm |
Format | image/jpeg |
FOV | 7.4 deg |
GainControl | High gain up |
GreenHue | 0 |
GreenSaturation | 0 |
HasCrop | True |
HasSettings | True |
HighlightRecovery | 26 |
HueAdjustmentAqua | 0 |
HueAdjustmentBlue | 0 |
HueAdjustmentGreen | 0 |
HueAdjustmentMagenta | 0 |
HueAdjustmentOrange | 0 |
HueAdjustmentPurple | 0 |
HueAdjustmentRed | 0 |
HueAdjustmentYellow | 0 |
HyperfocalDistance | 414.18 m |
ICCProfileName | sRGB IEC61966-2.1 |
ImageHeight (1) | 1611 |
ImageHeight (2) | 1968 |
ImageHeight | 768 |
ImageNumber | 1289 |
ImageSize | 731x768 |
ImageWidth (1) | 1534 |
ImageWidth (2) | 1838 |
ImageWidth | 731 |
ISO | 1000 |
Keywords | dompapp, fugler, snøspurv |
Lens | 70.0-200.0 mm f/2.8 |
LensInfo | 70-200mm f/2.8 |
LightSource | Unknown |
LightValue | 12.3 |
LuminanceAdjustmentAqua | 0 |
LuminanceAdjustmentBlue | 0 |
LuminanceAdjustmentGreen | 0 |
LuminanceAdjustmentMagenta | 0 |
LuminanceAdjustmentOrange | 0 |
LuminanceAdjustmentPurple | 0 |
LuminanceAdjustmentRed | 0 |
LuminanceAdjustmentYellow | 0 |
LuminanceSmoothing | 0 |
Make | NIKON CORPORATION |
Marked | True |
MaxApertureValue | 4.0 |
Megapixels | 0.561 |
MeteringMode | Center-weighted average |
Model | NIKON D3 |
ModifyDate (1) | 2008:04:12 19:22:30+02:00 |
ModifyDate | 2008:04:12 19:22:30 |
Orientation | Horizontal (normal) |
ParametricDarks | 0 |
ParametricHighlights | 0 |
ParametricHighlightSplit | 75 |
ParametricLights | 0 |
ParametricMidtoneSplit | 50 |
ParametricShadows | 0 |
ParametricShadowSplit | 25 |
PhotometricInterpretation | RGB |
PlanarConfiguration | Chunky |
PostCropVignetteAmount | 0 |
ProfileDescription | sRGB IEC61966-2.1 |
Rating | 1 |
RedHue | 0 |
RedSaturation | 0 |
Rights | Venche Jensen |
SamplesPerPixel | 3 |
Saturation (2) | 0 |
Saturation | Normal |
SaturationAdjustmentAqua | 0 |
SaturationAdjustmentBlue | 0 |
SaturationAdjustmentGreen | 0 |
SaturationAdjustmentMagenta | 0 |
SaturationAdjustmentOrange | 0 |
SaturationAdjustmentPurple | 0 |
SaturationAdjustmentRed | 0 |
SaturationAdjustmentYellow | 0 |
ScaleFactor35efl | 1.0 |
SceneCaptureType | Standard |
SceneType | Directly photographed |
SensingMethod | One-chip color area |
SerialNumber | 2037256 |
Shadows | 15 |
ShadowTint | 0 |
SharpenDetail | 25 |
SharpenEdgeMasking | 0 |
SharpenRadius | +1.0 |
Sharpness (2) | 0 |
Sharpness | Normal |
ShutterSpeed | 1/1250 |
ShutterSpeedValue | 1/1250 |
Software | Adobe Photoshop CS3 Windows |
SplitToningBalance | 0 |
SplitToningHighlightHue | 0 |
SplitToningHighlightSaturation | 0 |
SplitToningShadowHue | 0 |
SplitToningShadowSaturation | 0 |
Subject | dompapp, fugler, snøspurv |
SubjectDistanceRange | Unknown |
Tint | +8 |
ToneCurve | 0, 0, 255, 255 |
ToneCurveName | Linear |
URL | www.venche.no |
URL_List | |
Version | 5.0 |
Vibrance | +26 |
VignetteAmount | 0 |
WebStatement | www.venche.no |
WhiteBalance (2) | As Shot |
WhiteBalance | Auto |