Felt | Verdi |
AlreadyApplied | True |
Aperture | 13.0 |
ApertureValue | 13.0 |
Artist | Jarle Lunde |
BitsPerSample | 8 |
BlueHue | 0 |
BlueSaturation | 0 |
Brightness | 0 |
By-line | Jarle Lunde |
CameraProfile | Embedded |
ChromaticAberrationB | 0 |
ChromaticAberrationR | 0 |
Clarity | +7 |
ColorComponents | 3 |
ColorNoiseReduction | 0 |
Contrast | 0 |
ConvertToGrayscale | False |
Copyright | Jarle Lunde |
CopyrightNotice | Jarle Lunde |
Country | Norway |
Country-PrimaryLocationName | Norway |
CreateDate (1) | 2008:07:12 19:34:06+02:00 |
CreateDate | 2008:07:12 19:34:06 |
Creator | Jarle Lunde |
CreatorTool | Adobe Photoshop Lightroom |
CreatorWorkURL | www.jarlelunde.no |
CropAngle | -0.31775 |
CropBottom | 0.990517 |
CropHeight | 687 |
CropLeft | 0.016032 |
CropRight | 0.98844 |
CropTop | 0.029723 |
CropUnit | pixels |
CropWidth | 1024 |
DateTimeDigitized | 2008:07:12 19:34:06+02:00 |
DateTimeOriginal (1) | 2008:07:12 19:34:06+02:00 |
DateTimeOriginal | 2008:07:12 19:34:06 |
Defringe | 0 |
ExifImageHeight | 687 |
ExifImageWidth | 1024 |
Exposure | +0.29 |
FillLight | 0 |
FNumber | 13.0 |
FocalLength | 14.0 mm |
FocalLength35efl | 14.0 mm |
GreenHue | 0 |
GreenSaturation | 0 |
HasCrop | True |
HasSettings | True |
HierarchicalSubject | HDR, Hylen, Hylsfjorden, Landskap|Suldal, Landskap|fjord, juli, sjø |
HighlightRecovery | 0 |
HueAdjustmentAqua | 0 |
HueAdjustmentBlue | 0 |
HueAdjustmentGreen | 0 |
HueAdjustmentMagenta | 0 |
HueAdjustmentOrange | 0 |
HueAdjustmentPurple | 0 |
HueAdjustmentRed | 0 |
HueAdjustmentYellow | 0 |
ImageHeight | 687 |
ImageSize | 1024x687 |
ImageWidth | 1024 |
IncrementalTemperature | 0 |
IncrementalTint | 0 |
ISO | 100 |
Keywords | HDR, Hylen, Hylsfjorden, Suldal, fjord, juli, sjø |
Label | (8)SuldalFoto |
Location | Suldal kommune |
LuminanceAdjustmentAqua | 0 |
LuminanceAdjustmentBlue | 0 |
LuminanceAdjustmentGreen | 0 |
LuminanceAdjustmentMagenta | 0 |
LuminanceAdjustmentOrange | 0 |
LuminanceAdjustmentPurple | 0 |
LuminanceAdjustmentRed | 0 |
LuminanceAdjustmentYellow | 0 |
LuminanceSmoothing | 0 |
Marked | True |
Megapixels | 0.703 |
Model | NIKON D200 |
ModifyDate (1) | 2008:08:11 10:18:10+02:00 |
ModifyDate | 2008:08:11 10:18:10 |
ObjectName | Hylen og Hylsfjorden |
PaintCorrectionActive | true |
PaintCorrectionAmount | 1.000000 |
PaintCorrectionBrightness | 0.000000 |
PaintCorrectionClarity (1) | -0.525000 |
PaintCorrectionClarity | 0.000000 |
PaintCorrectionContrast | 0.000000 |
PaintCorrectionExposure (1) | 0.000000 |
PaintCorrectionExposure | 0.050000 |
PaintCorrectionHue | 11.000000 |
PaintCorrectionMaskCenterWeight | 0.049246 |
PaintCorrectionMaskFlow | 1.000000 |
PaintCorrectionMaskRadius | 0.181495 |
PaintCorrectionMaskValue | 0.738000 |
PaintCorrectionMaskWhat | Mask/Paint |
PaintCorrectionSaturation | 0.000000 |
PaintCorrectionSharpness | 0.000000 |
PaintCorrectionWhat | Correction |
ParametricDarks | -33 |
ParametricHighlights | 0 |
ParametricHighlightSplit | 75 |
ParametricLights | +21 |
ParametricMidtoneSplit | 50 |
ParametricShadows | -11 |
ParametricShadowSplit | 25 |
PostCropVignetteAmount | 0 |
ProfileDescription | sRGB IEC61966-2.1 |
Province-State | Rogaland |
Rating | 5 |
RedHue | 0 |
RedSaturation | 0 |
Rights | Jarle Lunde |
Saturation | 0 |
SaturationAdjustmentAqua | 0 |
SaturationAdjustmentBlue | 0 |
SaturationAdjustmentGreen | 0 |
SaturationAdjustmentMagenta | 0 |
SaturationAdjustmentOrange | 0 |
SaturationAdjustmentPurple | 0 |
SaturationAdjustmentRed | 0 |
SaturationAdjustmentYellow | 0 |
Shadows | 5 |
ShadowTint | 0 |
SharpenDetail | 25 |
SharpenEdgeMasking | 0 |
SharpenRadius | +1.0 |
Sharpness | 50 |
SplitToningBalance | 0 |
SplitToningHighlightHue | 0 |
SplitToningHighlightSaturation | 0 |
SplitToningShadowHue | 0 |
SplitToningShadowSaturation | 0 |
State | Rogaland |
Sub-location | Suldal kommune |
Subject | HDR, Hylen, Hylsfjorden, Suldal, fjord, juli, sjø |
Title | Hylen og Hylsfjorden |
ToneCurve | 0, 0, 255, 255 |
ToneCurveName | Linear |
Version | 4.5 |
Vibrance | +5 |
VignetteAmount | 0 |
WhiteBalance | As Shot |