Felt | Verdi |
AlreadyApplied | True |
Aperture | 5.6 |
ApertureValue | 5.6 |
BitsPerSample | 8 |
BlueHue | 0 |
BlueSaturation | 0 |
Brightness | +43 |
CameraProfile | ACR 2.4 |
CFAPattern | [Red,Green][Green,Blue] |
ChromaticAberrationB | 0 |
ChromaticAberrationR | 0 |
CircleOfConfusion | 0.020 mm |
Clarity | +86 |
ColorComponents | 3 |
ColorNoiseReduction | 25 |
ColorTemperature | 5333 |
Contrast (2) | +73 |
Contrast | High |
ConvertToGrayscale | True |
Copyright | Eli Brager |
CopyrightNotice | Eli Brager |
CreateDate (1) | 2008:12:19 14:33:56.56+01:00 |
CreateDate | 2008:12:19 14:33:56 |
CreatorTool | Adobe Photoshop Lightroom |
CustomRendered | Normal |
DateTimeDigitized | 2008:12:19 14:33:56.56+01:00 |
DateTimeOriginal (1) | 2008:12:19 14:33:56.56+01:00 |
DateTimeOriginal | 2008:12:19 14:33:56 |
Defringe | 0 |
DigitalZoomRatio | 1 |
ExifImageHeight | 996 |
ExifImageWidth | 1500 |
Exposure | -0.86 |
ExposureCompensation | +1 |
ExposureMode | Manual |
ExposureProgram | Manual |
ExposureTime | 1/320 |
FillLight | 0 |
Flash | No Flash |
FlashFired | False |
FlashFunction | False |
FlashMode | Unknown |
FlashRedEyeMode | False |
FlashReturn | No return detection |
FNumber | 5.6 |
FocalLength | 170.0 mm |
FocalLength35efl | 170.0 mm (35 mm equivalent: 255.0 mm) |
FocalLengthIn35mmFormat | 255 mm |
FOV | 8.1 deg |
GainControl | None |
GrayMixerAqua | -19 |
GrayMixerBlue | +6 |
GrayMixerGreen | -25 |
GrayMixerMagenta | +5 |
GrayMixerOrange | -15 |
GrayMixerPurple | +14 |
GrayMixerRed | -7 |
GrayMixerYellow | -19 |
GreenHue | 0 |
GreenSaturation | 0 |
HasCrop | False |
HasSettings | True |
HighlightRecovery | 7 |
HyperfocalDistance | 257.64 m |
ImageHeight | 996 |
ImageNumber | 8525 |
ImageSize | 1500x996 |
ImageWidth | 1500 |
ISO | 200 |
Keywords | mono |
Label | Red |
Lens | 18.0-200.0 mm f/3.5-5.6 |
LensInfo | 18-200mm f/3.5-5.6 |
LightSource | Flash |
LightValue | 12.3 |
LuminanceSmoothing | 0 |
Make | NIKON CORPORATION |
MaxApertureValue | 5.7 |
Megapixels | 1.5 |
MeteringMode | Spot |
Model | NIKON D300 |
ModifyDate (1) | 2008:12:19 20:25:41+01:00 |
ModifyDate | 2008:12:19 20:25:41 |
ParametricDarks | -30 |
ParametricHighlights | +46 |
ParametricHighlightSplit | 75 |
ParametricLights | 0 |
ParametricMidtoneSplit | 50 |
ParametricShadows | -12 |
ParametricShadowSplit | 25 |
PostCropVignetteAmount | 0 |
ProfileDescription | sRGB IEC61966-2.1 |
Rating | 5 |
RedHue | 0 |
RedSaturation | 0 |
Rights | Eli Brager |
Saturation | Normal |
ScaleFactor35efl | 1.5 |
SceneCaptureType | Standard |
SceneType | Directly photographed |
SensingMethod | One-chip color area |
SerialNumber | 4105460 |
Shadows | 12 |
ShadowTint | 0 |
SharpenDetail | 25 |
SharpenEdgeMasking | 0 |
SharpenRadius | +1.0 |
Sharpness (2) | 25 |
Sharpness | Hard |
ShutterSpeed | 1/320 |
ShutterSpeedValue | 1/320 |
Software | Ver.1.00 |
SplitToningBalance | -55 |
SplitToningHighlightHue | 0 |
SplitToningHighlightSaturation | 8 |
SplitToningShadowHue | 0 |
SplitToningShadowSaturation | 2 |
Subject | mono |
SubjectDistanceRange | Unknown |
Tint | +9 |
ToneCurve | 0, 0, 255, 255 |
ToneCurveName | Linear |
Version | 4.5 |
VignetteAmount | 0 |
WhiteBalance (2) | Custom |
WhiteBalance | Manual |