Felt | Verdi |
AlreadyApplied | True |
Aperture | 5.6 |
ApertureValue | 5.6 |
Artist | Krister Brandser |
BitsPerSample | 8 |
BlueHue | 0 |
BlueSaturation | 0 |
Brightness | +50 |
By-line | Krister Brandser |
CameraProfile | ACR 2.4 |
Caption-Abstract | Kattene:
CFAPattern | [Blue,Green][Green,Red] |
ChromaticAberrationB | 0 |
ChromaticAberrationR | 0 |
CircleOfConfusion | 0.020 mm |
City | Oslo |
Clarity | +28 |
ColorComponents | 3 |
ColorNoiseReduction | 25 |
ColorTemperature | 5300 |
Contrast (2) | +66 |
Contrast | Normal |
ConvertToGrayscale | False |
Copyright | Krister Brandser (C) 2008 |
CopyrightFlag | True |
CopyrightNotice | Krister Brandser (C) 2008 |
Country | Norway |
Country-PrimaryLocationName | Norway |
CountryCode | no |
CreateDate (1) | 2008:04:03 17:43:52.30+02:00 |
CreateDate | 2008:04:03 17:43:52 |
Creator | Krister Brandser |
CreatorCity | Oslo |
CreatorCountry | Norway |
CreatorPostalCode | 0154 |
CreatorRegion | Oslo |
CreatorTool | Ver.1.00 |
Credit | Krister Brandser |
CropAngle | 0 |
CropBottom | 0.765193 |
CropLeft | 0.289908 |
CropRight | 0.563303 |
CropTop | 0.359116 |
CustomRendered | Normal |
DateCreated | 2008:04:03 |
DateTimeDigitized | 2008:04:03 17:43:52.30+02:00 |
DateTimeOriginal (1) | 2008:04:03 17:43:52.30+02:00 |
DateTimeOriginal | 2008:04:03 17:43:52 |
Datter: Chanel |
Defringe | 0 |
Description | Kattene:
DigitalZoomRatio | 1 |
ExifImageHeight | 812 |
ExifImageWidth | 822 |
Exposure | 0.00 |
ExposureCompensation | +2/3 |
ExposureMode | Auto |
ExposureProgram | Aperture-priority AE |
ExposureTime | 1/40 |
FillLight | 13 |
Flash | No Flash |
FlashFired | False |
FlashFunction | False |
FlashMode | Unknown |
FlashRedEyeMode | False |
FlashReturn | No return detection |
FNumber | 5.6 |
FocalLength | 55.0 mm |
FocalLength35efl | 55.0 mm (35 mm equivalent: 82.0 mm) |
FocalLengthIn35mmFormat | 82 mm |
FOV | 24.8 deg |
GainControl | Low gain up |
GreenHue | 0 |
GreenSaturation | 0 |
HasCrop | True |
HasSettings | True |
Headline (1) | En kattefamilie pŒ Frogner i Oslo |
Headline | En kattefamilie på Frogner i Oslo |
HighlightRecovery | 0 |
HueAdjustmentAqua | 0 |
HueAdjustmentBlue | 0 |
HueAdjustmentGreen | 0 |
HueAdjustmentMagenta | 0 |
HueAdjustmentOrange | 0 |
HueAdjustmentPurple | 0 |
HueAdjustmentRed | 0 |
HueAdjustmentYellow | 0 |
HyperfocalDistance | 26.80 m |
ImageHeight | 812 |
ImageNumber | 13568 |
ImageSize | 822x812 |
ImageWidth | 822 |
ISO | 800 |
Keywords | katter, cats, black |
Lens | 18.0-55.0 mm f/3.5-5.6 |
LensInfo | 18-55mm f/3.5-5.6 |
LightSource | Unknown |
LightValue | 7.3 |
Location | Hafrsfjordgata 31 |
LuminanceAdjustmentAqua | 0 |
LuminanceAdjustmentBlue | 0 |
LuminanceAdjustmentGreen | 0 |
LuminanceAdjustmentMagenta | 0 |
LuminanceAdjustmentOrange | 0 |
LuminanceAdjustmentPurple | 0 |
LuminanceAdjustmentRed | 0 |
LuminanceAdjustmentYellow | 0 |
LuminanceSmoothing | 0 |
Make | NIKON CORPORATION |
Mamma katt: Porsche
Marked | True |
MaxApertureValue | 5.7 |
Megapixels | 0.667 |
MeteringMode | Multi-segment |
Model | NIKON D50 |
ModifyDate (1) | 2009:03:01 19:45:47+01:00 |
ModifyDate | 2009:03:01 19:45:47 |
ObjectName | Black Cats |
Pappa katt: ukjent navn
ParametricDarks | 0 |
ParametricHighlights | 0 |
ParametricHighlightSplit | 75 |
ParametricLights | 0 |
ParametricMidtoneSplit | 50 |
ParametricShadows | 0 |
ParametricShadowSplit | 25 |
PostCropVignetteAmount | 0 |
ProfileDescription | Adobe RGB (1998) |
Province-State | Oslo |
Rating | 5 |
RawFileName | DSC_0152.NEF |
RedHue | 0 |
RedSaturation | 0 |
Rights | Krister Brandser (C) 2008 |
Saturation (2) | +1 |
Saturation | Normal |
SaturationAdjustmentAqua | 0 |
SaturationAdjustmentBlue | 0 |
SaturationAdjustmentGreen | 0 |
SaturationAdjustmentMagenta | 0 |
SaturationAdjustmentOrange | 0 |
SaturationAdjustmentPurple | 0 |
SaturationAdjustmentRed | 0 |
SaturationAdjustmentYellow | 0 |
ScaleFactor35efl | 1.5 |
SceneCaptureType | Standard |
SceneType | Directly photographed |
SensingMethod | One-chip color area |
Shadows | 25 |
ShadowTint | 0 |
SharpenDetail | 25 |
SharpenEdgeMasking | 0 |
SharpenRadius | +1.0 |
Sharpness (2) | 25 |
Sharpness | Normal |
ShutterSpeed | 1/40 |
ShutterSpeedValue | 1/40 |
Software | Ver.1.00 |
SplitToningBalance | 0 |
SplitToningHighlightHue | 0 |
SplitToningHighlightSaturation | 0 |
SplitToningShadowHue | 0 |
SplitToningShadowSaturation | 0 |
StartupProfile | Print |
State | Oslo |
Sub-location | Hafrsfjordgata 31 |
Subject | katter, cats, black |
SubjectDistanceRange | Unknown |
S¿nn: Svarten
S¿nn: ukjent navn
Sønn: Svarten
Sønn: ukjent navn
Tint | +7 |
Title | Black Cats |
ToneCurve | 0, 0, 32, 22, 64, 56, 128, 128, 192, 196, 255, 255 |
ToneCurveName | Medium Contrast |
UsageTerms | All Rights Reserved |
Version | 4.6 |
Vibrance | +13 |
VignetteAmount | 0 |
WhiteBalance (2) | As Shot |
WhiteBalance | Auto |