Felt | Verdi |
AlreadyApplied | True |
Aperture | 3.2 |
ApertureValue | 3.2 |
Artist | S. Nybraten |
BitsPerSample | 8 |
BlueHue | 0 |
BlueSaturation | 0 |
Brightness | +3 |
By-line | S. Nybråten |
CameraProfile | Embedded |
ChromaticAberrationB | 0 |
ChromaticAberrationR | 0 |
CircleOfConfusion | 0.006 mm |
Clarity | +60 |
ColorComponents | 3 |
ColorNoiseReduction | 0 |
Contrast | +16 |
ConvertToGrayscale | False |
CreateDate (1) | 2008:10:11 13:09:25+02:00 |
CreateDate | 2008:10:11 13:09:25 |
Creator | S. Nybråten |
CreatorTool | Adobe Photoshop Lightroom |
CropAngle | 0 |
CropBottom | 1 |
CropHeight | 616 |
CropLeft | 0 |
CropRight | 0.933589 |
CropTop | 0 |
CropUnit | pixels |
CropWidth | 1024 |
CustomRendered | Custom |
DateTimeDigitized | 2008:10:11 13:09:25+02:00 |
DateTimeOriginal (1) | 2008:10:11 13:09:25+02:00 |
DateTimeOriginal | 2008:10:11 13:09:25 |
Defringe | 0 |
DigitalZoomRatio | 1 |
ExifImageHeight | 616 |
ExifImageWidth | 1024 |
Exposure | 0.00 |
ExposureCompensation | 0 |
ExposureMode | Auto |
ExposureTime | 1/100 |
FillLight | 0 |
Firmware | 00.00 |
Flash | Auto, Did not fire |
FlashCompensation | 0 |
FlashFired | False |
FlashFunction | False |
FlashMode | Auto |
FlashRedEyeMode | False |
FlashReturn | No return detection |
FNumber | 3.2 |
FocalLength | 12.7 mm |
FocalLength35efl | 12.7 mm (35 mm equivalent: 59.6 mm) |
FOV | 33.6 deg |
GreenHue | 0 |
GreenSaturation | 0 |
HasCrop | True |
HasSettings | True |
HighlightRecovery | 0 |
HueAdjustmentAqua | 0 |
HueAdjustmentBlue | 0 |
HueAdjustmentGreen | 0 |
HueAdjustmentMagenta | 0 |
HueAdjustmentOrange | 0 |
HueAdjustmentPurple | 0 |
HueAdjustmentRed | 0 |
HueAdjustmentYellow | 0 |
HyperfocalDistance | 7.89 m |
ImageHeight | 616 |
ImageSize | 1024x616 |
ImageWidth | 1024 |
IncrementalTemperature | +5 |
IncrementalTint | +5 |
ISO | 125 |
Keywords | Sebufjorden |
Lens | 7.4-44.4 mm |
LensInfo | 7.4-44.4mm f/? |
LightValue | 9.7 |
LuminanceAdjustmentAqua | 0 |
LuminanceAdjustmentBlue | 0 |
LuminanceAdjustmentGreen | 0 |
LuminanceAdjustmentMagenta | 0 |
LuminanceAdjustmentOrange | 0 |
LuminanceAdjustmentPurple | 0 |
LuminanceAdjustmentRed | 0 |
LuminanceAdjustmentYellow | 0 |
LuminanceSmoothing | 0 |
Make | Canon |
MaxApertureValue | 3.2 |
Megapixels | 0.631 |
Model | Canon PowerShot G9 |
ModifyDate (1) | 2009:03:12 21:02:16+01:00 |
ModifyDate | 2009:03:12 21:02:16 |
OwnerName | S. Nybråten |
ParametricDarks | 0 |
ParametricHighlights | -18 |
ParametricHighlightSplit | 75 |
ParametricLights | +5 |
ParametricMidtoneSplit | 51 |
ParametricShadows | 0 |
ParametricShadowSplit | 17 |
PostCropVignetteAmount | 0 |
ProfileDescription | sRGB IEC61966-2.1 |
RedHue | 0 |
RedSaturation | 0 |
Saturation | +31 |
SaturationAdjustmentAqua | 0 |
SaturationAdjustmentBlue | 0 |
SaturationAdjustmentGreen | 0 |
SaturationAdjustmentMagenta | 0 |
SaturationAdjustmentOrange | 0 |
SaturationAdjustmentPurple | 0 |
SaturationAdjustmentRed | 0 |
SaturationAdjustmentYellow | 0 |
ScaleFactor35efl | 4.7 |
SceneCaptureType | Standard |
Shadows | 2 |
ShadowTint | 0 |
SharpenDetail | 27 |
SharpenEdgeMasking | 0 |
SharpenRadius | +1.6 |
Sharpness | 45 |
ShutterSpeed | 1/100 |
ShutterSpeedValue | 1/100 |
Software | Adobe Photoshop Elements 7.0 |
SplitToningBalance | 0 |
SplitToningHighlightHue | 0 |
SplitToningHighlightSaturation | 0 |
SplitToningShadowHue | 0 |
SplitToningShadowSaturation | 0 |
Subject | Sebufjorden |
ToneCurve | 0, 0, 255, 255 |
ToneCurveName | Linear |
Version | 5.2 |
Vibrance | +19 |
VignetteAmount | 0 |
WhiteBalance (2) | Custom |
WhiteBalance | Auto |