Felt | Verdi |
AlreadyApplied | True |
Aperture | 4.0 |
ApertureValue | 4.0 |
Artist | Trond Skogdal |
BitsPerSample | 8 |
BlueHue | 0 |
BlueSaturation | 0 |
Brightness | +50 |
By-line | Trond Skogdal |
CameraProfile | Adobe Standard |
ChromaticAberrationB | 0 |
ChromaticAberrationR | 0 |
CircleOfConfusion | 0.031 mm |
Clarity | 0 |
ColorComponents | 3 |
ColorMode | RGB |
ColorNoiseReduction | 25 |
ColorSpace | sRGB |
ColorTemperature | 5929 |
Contrast | +25 |
ConvertToGrayscale | False |
Copyright | Trond Skogdal |
CopyrightFlag | True |
CopyrightNotice | Trond Skogdal |
CreateDate (1) | 2009:05:16 19:35:32+02:00 |
CreateDate | 2009:04:11 19:56:21 |
Creator | Trond Skogdal |
CreatorTool | Adobe Photoshop CS3 Windows |
CustomRendered | Normal |
DateTimeDigitized | 2009:04:11 19:56:21.14+02:00 |
DateTimeOriginal (1) | 2009:04:11 19:56:21.14+02:00 |
DateTimeOriginal | 2009:04:11 19:56:21 |
Defringe | 0 |
DerivedFrom | |
ExifImageHeight | 3744 |
ExifImageWidth | 5616 |
Exposure | 0.00 |
ExposureCompensation | +1 |
ExposureMode | Auto |
ExposureProgram | Aperture-priority AE |
ExposureTime | 1/20 |
FillLight | 15 |
Firmware | 1.0.7 |
Flash | Off, Did not fire |
FlashCompensation | 0 |
FlashFired | False |
FlashFunction | False |
FlashMode | Off |
FlashRedEyeMode | False |
FlashReturn | No return detection |
FNumber | 4.0 |
FocalLength | 17.0 mm |
FocalLength35efl | 17.0 mm (35 mm equivalent: 16.6 mm) |
Format | image/jpeg |
FOV | 94.7 deg |
GreenHue | 0 |
GreenSaturation | 0 |
HasCrop | False |
HasSettings | True |
HighlightRecovery | 11 |
HueAdjustmentAqua | 0 |
HueAdjustmentBlue | 0 |
HueAdjustmentGreen | 0 |
HueAdjustmentMagenta | 0 |
HueAdjustmentOrange | 0 |
HueAdjustmentPurple | 0 |
HueAdjustmentRed | 0 |
HueAdjustmentYellow | 0 |
HyperfocalDistance | 2.35 m |
ICCProfileName | sRGB IEC61966-2.1 |
ImageHeight | 3744 |
ImageNumber | 0 |
ImageSize | 5616x3744 |
ImageWidth | 5616 |
ISO | 400 |
Keywords | New York 2009 |
Lens | EF17-40mm f/4L USM |
LensInfo | 17-40mm f/? |
LightValue | 6.3 |
LuminanceAdjustmentAqua | 0 |
LuminanceAdjustmentBlue | 0 |
LuminanceAdjustmentGreen | 0 |
LuminanceAdjustmentMagenta | 0 |
LuminanceAdjustmentOrange | 0 |
LuminanceAdjustmentPurple | 0 |
LuminanceAdjustmentRed | 0 |
LuminanceAdjustmentYellow | 0 |
LuminanceSmoothing | 0 |
Make | Canon |
Marked | True |
MaxApertureValue | 4.0 |
Megapixels | 21.0 |
MeteringMode | Multi-segment |
Model | Canon EOS 5D Mark II |
ModifyDate (1) | 2009:05:16 19:35:32+02:00 |
ModifyDate | 2009:05:16 19:35:32 |
Orientation | Horizontal (normal) |
ParametricDarks | +17 |
ParametricHighlights | +21 |
ParametricHighlightSplit | 75 |
ParametricLights | +14 |
ParametricMidtoneSplit | 50 |
ParametricShadows | -2 |
ParametricShadowSplit | 25 |
PostCropVignetteAmount | 0 |
ProfileDescription | sRGB IEC61966-2.1 |
RedHue | 0 |
RedSaturation | 0 |
Rights | Trond Skogdal |
Saturation | +10 |
SaturationAdjustmentAqua | 0 |
SaturationAdjustmentBlue | 0 |
SaturationAdjustmentGreen | 0 |
SaturationAdjustmentMagenta | 0 |
SaturationAdjustmentOrange | 0 |
SaturationAdjustmentPurple | 0 |
SaturationAdjustmentRed | 0 |
SaturationAdjustmentYellow | 0 |
ScaleFactor35efl | 1.0 |
SceneCaptureType | Standard |
SerialNumber | 720301279 |
Shadows | 7 |
ShadowTint | 0 |
SharpenDetail | 25 |
SharpenEdgeMasking | 0 |
SharpenRadius | +1.0 |
Sharpness | 82 |
ShutterSpeed | 1/20 |
ShutterSpeedValue | 1/20 |
Software | Adobe Photoshop CS3 Windows |
SplitToningBalance | 0 |
SplitToningHighlightHue | 0 |
SplitToningHighlightSaturation | 0 |
SplitToningShadowHue | 0 |
SplitToningShadowSaturation | 0 |
Subject | New York 2009 |
Tint | -9 |
ToneCurve | 0, 0, 32, 22, 64, 56, 128, 128, 192, 196, 255, 255 |
ToneCurveName | Medium Contrast |
URL_List | |
Version | 5.2 |
Vibrance | +12 |
VignetteAmount | 0 |
WhiteBalance (2) | Custom |
WhiteBalance | Auto |