Felt | Verdi |
AlreadyApplied | True |
Aperture | 4.5 |
ApertureValue | 4.5 |
BitsPerSample | 8 |
BlueHue | 0 |
BlueSaturation | 0 |
Brightness | +50 |
CameraProfile | ACR 4.4 |
CFAPattern | [Blue,Green][Green,Red] |
ChromaticAberrationB | 0 |
ChromaticAberrationR | 0 |
CircleOfConfusion | 0.020 mm |
Clarity | 0 |
ColorComponents | 1 |
ColorNoiseReduction | 25 |
ColorTemperature | 5450 |
Contrast (2) | +92 |
Contrast | Normal |
ConvertToGrayscale | True |
CreateDate (1) | 2009:06:20 16:15:24.80+02:00 |
CreateDate | 2009:06:20 16:15:24 |
CreatorTool | Adobe Photoshop Lightroom |
CropAngle | 0 |
CropBottom | 0.859425 |
CropHeight | 1719 |
CropLeft | 0 |
CropRight | 0.859425 |
CropTop | 0 |
CropUnit | pixels |
CropWidth | 2585 |
CustomRendered | Custom |
DateTimeDigitized | 2009:06:20 16:15:24.80+02:00 |
DateTimeOriginal (1) | 2009:06:20 16:15:24.80+02:00 |
DateTimeOriginal | 2009:06:20 16:15:24 |
Defringe | 0 |
DigitalZoomRatio | 1 |
ExifImageHeight | 1719 |
ExifImageWidth | 2585 |
Exposure | +1.45 |
ExposureCompensation | 0 |
ExposureMode | Auto |
ExposureProgram | Program AE |
ExposureTime | 1/100 |
FillLight | 31 |
Flash | No Flash |
FlashFired | False |
FlashFunction | False |
FlashMode | Unknown |
FlashRedEyeMode | False |
FlashReturn | No return detection |
FNumber | 4.5 |
FocalLength | 145.0 mm |
FocalLength35efl | 145.0 mm (35 mm equivalent: 217.0 mm) |
FocalLengthIn35mmFormat | 217 mm |
FOV | 9.5 deg |
GainControl | None |
GrayMixerAqua | -19 |
GrayMixerBlue | +7 |
GrayMixerGreen | -25 |
GrayMixerMagenta | +4 |
GrayMixerOrange | -17 |
GrayMixerPurple | +14 |
GrayMixerRed | -8 |
GrayMixerYellow | -20 |
GreenHue | 0 |
GreenSaturation | 0 |
HasCrop | True |
HasSettings | True |
HighlightRecovery | 24 |
HyperfocalDistance | 232.72 m |
ImageHeight | 1719 |
ImageNumber | 19942 |
ImageSize | 2585x1719 |
ImageWidth | 2585 |
ISO | 200 |
Keywords | Buldring, Sommer, Tur |
Lens | 70.0-300.0 mm f/4.0-5.6 |
LensInfo | 70-300mm f/4-5.6 |
LightSource | Cloudy |
LightValue | 10.0 |
LuminanceSmoothing | 0 |
Make | NIKON CORPORATION |
MaxApertureValue | 4.4 |
Megapixels | 4.4 |
MeteringMode | Multi-segment |
Model | NIKON D70 |
ModifyDate (1) | 2009:07:06 21:38:18+02:00 |
ModifyDate | 2009:07:06 21:38:18 |
ParametricDarks | 0 |
ParametricHighlights | 0 |
ParametricHighlightSplit | 75 |
ParametricLights | 0 |
ParametricMidtoneSplit | 50 |
ParametricShadows | 0 |
ParametricShadowSplit | 25 |
PostCropVignetteAmount | 0 |
ProfileDescription | sRGB IEC61966-2.1 |
Rating | 2 |
RedHue | 0 |
RedSaturation | 0 |
Saturation | Normal |
ScaleFactor35efl | 1.5 |
SceneCaptureType | Portrait |
SceneType | Directly photographed |
SensingMethod | One-chip color area |
Shadows | 69 |
ShadowTint | 0 |
SharpenDetail | 50 |
SharpenEdgeMasking | 0 |
SharpenRadius | +0.8 |
Sharpness (2) | 47 |
Sharpness | Soft |
ShutterSpeed | 1/100 |
ShutterSpeedValue | 1/100 |
Software | Ver.1.01 |
SplitToningBalance | 0 |
SplitToningHighlightHue | 0 |
SplitToningHighlightSaturation | 0 |
SplitToningShadowHue | 0 |
SplitToningShadowSaturation | 0 |
Subject | Buldring, Sommer, Tur |
SubjectDistanceRange | Unknown |
Tint | -3 |
ToneCurve | 0, 0, 32, 22, 64, 56, 128, 128, 192, 196, 255, 255 |
ToneCurveName | Medium Contrast |
Version | 4.5 |
VignetteAmount | -100 |
VignetteMidpoint | 50 |
WhiteBalance (2) | As Shot |
WhiteBalance | Manual |