Felt | Verdi |
AlreadyApplied | True |
Aperture | 3.2 |
ApertureValue | 3.2 |
Artist | Venche Jensen |
BitsPerSample | 8 |
BlueHue | 0 |
BlueSaturation | 0 |
Brightness | +32 |
By-line | Venche Jensen |
CameraProfile | Adobe Standard |
ChromaticAberrationB | 0 |
ChromaticAberrationR | 0 |
Clarity | +40 |
ColorComponents | 1 |
ColorMode | RGB |
ColorNoiseReduction | 25 |
ColorSpace | sRGB |
ColorTemperature | 4300 |
Contrast | +50 |
ConvertToGrayscale | False |
Copyright | © 2009 |
CopyrightNotice | © 2009 |
CreateDate (1) | 2009:02:05 10:40:51+01:00 |
CreateDate | 2009:02:05 10:40:51 |
Creator | Venche Jensen |
CropAngle | -0.566799 |
CropBottom | 0.744978 |
CropLeft | 0.14325 |
CropRight | 0.994362 |
CropTop | 0.012544 |
DateTimeDigitized | 2009:02:05 10:40:51+01:00 |
DateTimeOriginal (1) | 2009:02:05 10:40:51+01:00 |
DateTimeOriginal | 2009:02:05 10:40:51 |
Defringe | 0 |
ExifImageHeight | 840 |
ExifImageWidth | 1207 |
Exposure | +1.10 |
ExposureCompensation | -0.33 |
ExposureProgram | Program AE |
ExposureTime | 1/500 |
FillLight | 38 |
Flash | Off, Did not fire |
FlashFired | False |
FlashFunction | False |
FlashMode | Off |
FlashRedEyeMode | False |
FlashReturn | No return detection |
FNumber | 3.2 |
FocalLength | 12.1 mm |
FocalLength35efl | 12.1 mm |
Format | image/jpeg |
GradientBasedCorrActive | true |
GradientBasedCorrAmount | 1.000000 |
GradientBasedCorrBrightness | 0.125000 |
GradientBasedCorrClarity | 0.380000 |
GradientBasedCorrContrast | 0.430000 |
GradientBasedCorrExposure | -0.187500 |
GradientBasedCorrHue | 0.000000 |
GradientBasedCorrMaskFullX | 0.579307 |
GradientBasedCorrMaskFullY | 0.002902 |
GradientBasedCorrMaskValue | 1.000000 |
GradientBasedCorrMaskWhat | Mask/Gradient |
GradientBasedCorrMaskZeroX | 0.582464 |
GradientBasedCorrMaskZeroY | 0.481023 |
GradientBasedCorrSaturation (1) | 0.690000 |
GradientBasedCorrSaturation | 0.000000 |
GradientBasedCorrSharpness | 0.000000 |
GradientBasedCorrWhat | Correction |
GreenHue | 0 |
GreenSaturation | 0 |
HasCrop | True |
HasSettings | True |
HighlightRecovery | 55 |
HueAdjustmentAqua | 0 |
HueAdjustmentBlue | 0 |
HueAdjustmentGreen | 0 |
HueAdjustmentMagenta | 0 |
HueAdjustmentOrange | 0 |
HueAdjustmentPurple | 0 |
HueAdjustmentRed | 0 |
HueAdjustmentYellow | 0 |
ICCProfileName | sRGB IEC61966-2.1 |
ImageHeight | 840 |
ImageSize | 1207x840 |
ImageWidth | 1207 |
ISO | 80 |
LightValue | 12.6 |
LuminanceAdjustmentAqua | 0 |
LuminanceAdjustmentBlue | 0 |
LuminanceAdjustmentGreen | 0 |
LuminanceAdjustmentMagenta | 0 |
LuminanceAdjustmentOrange | 0 |
LuminanceAdjustmentPurple | 0 |
LuminanceAdjustmentRed | 0 |
LuminanceAdjustmentYellow | 0 |
LuminanceSmoothing | 0 |
Make | LEICA |
MaxApertureValue | 2.0 |
Megapixels | 1.0 |
MeteringMode | Multi-segment |
Model | D-LUX 4 |
ModifyDate (1) | 2009:10:19 14:28:02+02:00 |
ModifyDate | 2009:10:19 14:28:02 |
Orientation | Horizontal (normal) |
ParametricDarks | 0 |
ParametricHighlights | 0 |
ParametricHighlightSplit | 75 |
ParametricLights | 0 |
ParametricMidtoneSplit | 50 |
ParametricShadows | 0 |
ParametricShadowSplit | 25 |
PostCropVignetteAmount | 0 |
ProfileDescription | sRGB IEC61966-2.1 |
Rating | 0 |
RawFileName | L1000387.RWL |
RedHue | 0 |
RedSaturation | 0 |
Rights | © 2009 |
Saturation | 0 |
SaturationAdjustmentAqua | -100 |
SaturationAdjustmentBlue | -88 |
SaturationAdjustmentGreen | 0 |
SaturationAdjustmentMagenta | +8 |
SaturationAdjustmentOrange | +47 |
SaturationAdjustmentPurple | 0 |
SaturationAdjustmentRed | +44 |
SaturationAdjustmentYellow | +34 |
Shadows | 22 |
ShadowTint | 0 |
SharpenDetail | 25 |
SharpenEdgeMasking | 0 |
SharpenRadius | +1.0 |
Sharpness | 25 |
ShutterSpeed | 1/500 |
ShutterSpeedValue | 1/500 |
Software | Adobe Photoshop CS4 Macintosh |
SplitToningBalance | 0 |
SplitToningHighlightHue | 0 |
SplitToningHighlightSaturation | 0 |
SplitToningShadowHue | 0 |
SplitToningShadowSaturation | 0 |
Tint | -17 |
ToneCurve | 0, 0, 32, 22, 64, 56, 128, 128, 192, 196, 255, 255 |
ToneCurveName | Medium Contrast |
URL_List | |
Version | 5.5 |
Vibrance | +9 |
VignetteAmount | 0 |
WhiteBalance | Custom |