Felt | Verdi |
AlreadyApplied | True |
Aperture | 16.0 |
ApertureValue | 16.0 |
BitsPerSample (1) | 16, 16, 16 |
BitsPerSample | 8 |
BlueHue | 0 |
BlueSaturation | 0 |
Brightness | +50 |
CameraProfile | ACR 3.3 |
ChromaticAberrationB | 0 |
ChromaticAberrationR | 0 |
CircleOfConfusion | 0.030 mm |
ColorComponents | 3 |
ColorMode | RGB |
ColorNoiseReduction | 25 |
ColorSpace (1) | Unknown (-1) |
ColorSpace | Uncalibrated |
ColorTemperature | 5500 |
Contrast | +36 |
ConvertToGrayscale | False |
CopyrightFlag | False |
CreateDate (1) | 2009:10:23 18:26:33+02:00 |
CreateDate | 2009:10:23 11:56:09 |
CreatorTool | Adobe Photoshop CS3 Windows |
CustomRendered | Normal |
DateTimeDigitized | 2009:10:23 11:56:09+02:00 |
DateTimeOriginal (1) | 2009:10:23 11:56:09+02:00 |
DateTimeOriginal | 2009:10:23 11:56:09 |
ExifImageHeight | 2912 |
ExifImageWidth | 4368 |
Exposure | 0.00 |
ExposureCompensation | 0 |
ExposureMode | Manual |
ExposureProgram | Manual |
ExposureTime | 1/8 |
FillLight | 0 |
Firmware | 1.1.1 |
Flash | Off, Did not fire |
FlashCompensation | 0 |
FlashFired | False |
FlashFunction | False |
FlashMode | Off |
FlashRedEyeMode | False |
FlashReturn | No return detection |
FNumber | 16.0 |
FocalLength | 20.0 mm |
FocalLength35efl | 20.0 mm (35 mm equivalent: 20.0 mm) |
Format | image/jpeg |
FOV | 83.9 deg |
GreenHue | 0 |
GreenSaturation | 0 |
HasCrop | False |
HasSettings | True |
HighlightRecovery | 0 |
HueAdjustmentAqua | 0 |
HueAdjustmentBlue | 0 |
HueAdjustmentGreen | 0 |
HueAdjustmentMagenta | 0 |
HueAdjustmentOrange | 0 |
HueAdjustmentPurple | 0 |
HueAdjustmentRed | 0 |
HueAdjustmentYellow | 0 |
HyperfocalDistance | 0.83 m |
ICCProfileName | Adobe RGB (1998) |
ImageHeight | 2912 |
ImageNumber | 1 |
ImageSize | 4368x2912 |
ImageWidth | 4368 |
ISO | 125 |
Lens | EF17-40mm f/4L USM |
LensInfo | 17-40mm f/? |
LightValue | 10.7 |
LuminanceAdjustmentAqua | 0 |
LuminanceAdjustmentBlue | 0 |
LuminanceAdjustmentGreen | 0 |
LuminanceAdjustmentMagenta | 0 |
LuminanceAdjustmentOrange | 0 |
LuminanceAdjustmentPurple | 0 |
LuminanceAdjustmentRed | 0 |
LuminanceAdjustmentYellow | 0 |
LuminanceSmoothing | 0 |
Make | Canon |
MaxApertureValue | 4.0 |
Megapixels | 12.7 |
MeteringMode | Multi-segment |
Model | Canon EOS 5D |
ModifyDate (1) | 2009:10:23 18:26:33+02:00 |
ModifyDate | 2009:10:23 18:26:33 |
Orientation | Horizontal (normal) |
ParametricDarks | 0 |
ParametricHighlights | 0 |
ParametricHighlightSplit | 75 |
ParametricLights | 0 |
ParametricMidtoneSplit | 50 |
ParametricShadows | 0 |
ParametricShadowSplit | 25 |
PhotometricInterpretation | RGB |
PlanarConfiguration | Chunky |
ProfileDescription | Adobe RGB (1998) |
Rating | 0 |
RawFileName | _MG_5971.CR2 |
RedHue | 0 |
RedSaturation | 0 |
SamplesPerPixel | 3 |
Saturation | +17 |
SaturationAdjustmentAqua | +40 |
SaturationAdjustmentBlue | +21 |
SaturationAdjustmentGreen | 0 |
SaturationAdjustmentMagenta | 0 |
SaturationAdjustmentOrange | 0 |
SaturationAdjustmentPurple | 0 |
SaturationAdjustmentRed | 0 |
SaturationAdjustmentYellow | 0 |
ScaleFactor35efl | 1.0 |
SceneCaptureType | Standard |
SerialNumber | 530205805 |
Shadows | 5 |
ShadowTint | 0 |
Sharpness | 100 |
ShutterSpeed | 1/8 |
ShutterSpeedValue | 1/8 |
SidecarForExtension | CR2 |
Software | Adobe Photoshop CS3 Windows |
SplitToningBalance | 0 |
SplitToningHighlightHue | 0 |
SplitToningHighlightSaturation | 0 |
SplitToningShadowHue | 0 |
SplitToningShadowSaturation | 0 |
TimeZoneOffset | 2 2 |
Tint | +17 |
ToneCurve | 0, 0, 32, 22, 64, 56, 128, 128, 192, 196, 255, 255 |
ToneCurveName | Medium Contrast |
URL_List | |
Version | 4.0 |
Vibrance | +18 |
VignetteAmount | 0 |
WhiteBalance (2) | As Shot |
WhiteBalance | Auto |