Felt | Verdi |
AlreadyApplied | True |
Aperture | 6.3 |
ApertureValue | 6.3 |
ApproximateFocusDistance | 5.29 |
Artist | Bent Ulleland, bent@marinefresh.no |
BitsPerSample | 8 |
BlueHue | 0 |
BlueSaturation | 0 |
Brightness | +50 |
By-line | Bent Ulleland, bent@marinefresh. |
CameraProfile | Adobe Standard |
ChromaticAberrationB | 0 |
ChromaticAberrationR | 0 |
CircleOfConfusion | 0.019 mm |
Clarity | +27 |
ColorComponents | 3 |
ColorNoiseReduction | 25 |
ColorNoiseReductionDetail | 50 |
ColorTemperature | 5450 |
Contrast | +25 |
ConvertToGrayscale | False |
Copyright | Copyright remains with the photographer. All rights reserved. |
CopyrightFlag | True |
CopyrightNotice | Copyright remains with the photographer. All rights reserved. |
CreateDate (1) | 2010:10:10 13:55:50.00+02:00 |
CreateDate | 2010:10:10 13:55:50 |
Creator | Bent Ulleland, bent@marinefresh.no |
CreatorTool | Adobe Photoshop Lightroom |
CropAngle | 0.517241 |
CropBottom | 1 |
CropConstrainToWarp | 0 |
CropHeight | 768 |
CropLeft | 0.009649 |
CropRight | 0.990351 |
CropTop | 0 |
CropUnit | pixels |
CropWidth | 1152 |
CustomRendered | Normal |
DateTimeDigitized | 2010:10:10 13:55:50.00+02:00 |
DateTimeOriginal (1) | 2010:10:10 13:55:50.00+02:00 |
DateTimeOriginal | 2010:10:10 13:55:50 |
Defringe | 0 |
DOF | 9.31 m (3.34 - 12.65 m) |
ExifImageHeight | 768 |
ExifImageWidth | 1152 |
Exposure | +0.90 |
ExposureCompensation | 0 |
ExposureMode | Manual |
ExposureProgram | Manual |
ExposureTime | 1/320 |
FillLight | 0 |
Firmware | 1.2.2 |
Flash | Off, Did not fire |
FlashCompensation | 0 |
FlashFired | False |
FlashFunction | False |
FlashMode | Off |
FlashRedEyeMode | False |
FlashReturn | No return detection |
FNumber | 6.3 |
FocalLength | 33.0 mm |
FocalLength35efl | 33.0 mm (35 mm equivalent: 51.8 mm) |
FOV | 38.3 deg |
GrainAmount | 0 |
GreenHue | 0 |
GreenSaturation | 0 |
HasCrop | True |
HasSettings | True |
HighlightRecovery | 0 |
HueAdjustmentAqua | 0 |
HueAdjustmentBlue | 0 |
HueAdjustmentGreen | +10 |
HueAdjustmentMagenta | 0 |
HueAdjustmentOrange | 0 |
HueAdjustmentPurple | 0 |
HueAdjustmentRed | -44 |
HueAdjustmentYellow | 0 |
HyperfocalDistance | 9.03 m |
ImageHeight | 768 |
ImageNumber | 0 |
ImageSize | 1152x768 |
ImageWidth | 1152 |
ISO | 400 |
Keywords | Sondre, Sunnm¿re Museum |
Lens | EF-S17-55mm f/2.8 IS USM |
LensID (1) | 240 |
LensID | Canon EF-S 17-55mm f/2.8 IS USM |
LensInfo | 17-55mm f/? |
LensManualDistortionAmount | 0 |
LensModel | EF-S17-55mm f/2.8 IS USM |
LensProfileChromaticAberrationScale | 100 |
LensProfileDistortionScale | 141 |
LensProfileEnable | 1 |
LensProfileFilename | Canon EOS 50D (Canon EF-S 17-55mm f2.8 IS USM) - RAW.lcp |
LensProfileName | Adobe (Canon EF-S 17-55mm f/2.8 IS USM) |
LensProfileSetup | Custom |
LensProfileVignettingScale | 100 |
LightValue | 11.6 |
LuminanceAdjustmentAqua | 0 |
LuminanceAdjustmentBlue | 0 |
LuminanceAdjustmentGreen | 0 |
LuminanceAdjustmentMagenta | 0 |
LuminanceAdjustmentOrange | 0 |
LuminanceAdjustmentPurple | 0 |
LuminanceAdjustmentRed | 0 |
LuminanceAdjustmentYellow | 0 |
LuminanceSmoothing | 0 |
Make | Canon |
Marked | True |
MaxApertureValue | 2.8 |
Megapixels | 0.885 |
MeteringMode | Multi-segment |
Model | Canon EOS 7D |
ModifyDate (1) | 2010:10:10 22:16:02+02:00 |
ModifyDate | 2010:10:10 22:16:02 |
OwnerName | Bent Ulleland |
ParametricDarks | +3 |
ParametricHighlights | 0 |
ParametricHighlightSplit | 75 |
ParametricLights | 0 |
ParametricMidtoneSplit | 50 |
ParametricShadows | 0 |
ParametricShadowSplit | 25 |
PerspectiveHorizontal | 0 |
PerspectiveRotate | 0.0 |
PerspectiveScale | 100 |
PerspectiveVertical | 0 |
PostCropVignetteAmount | 0 |
ProcessVersion | 5.7 |
ProfileDescription | sRGB IEC61966-2.1 |
RedHue | 0 |
RedSaturation | 0 |
Rights | Copyright remains with the photographer. All rights reserved. |
Saturation | +34 |
SaturationAdjustmentAqua | 0 |
SaturationAdjustmentBlue | 0 |
SaturationAdjustmentGreen | 0 |
SaturationAdjustmentMagenta | 0 |
SaturationAdjustmentOrange | 0 |
SaturationAdjustmentPurple | 0 |
SaturationAdjustmentRed | 0 |
SaturationAdjustmentYellow | 0 |
ScaleFactor35efl | 1.6 |
SceneCaptureType | Standard |
SensitivityType | Unknown |
SerialNumber | 1280813462 |
Shadows | 0 |
ShadowTint | 0 |
SharpenDetail | 0 |
SharpenEdgeMasking | 0 |
SharpenRadius | +1.6 |
Sharpness | 104 |
ShutterSpeed | 1/320 |
ShutterSpeedValue | 1/320 |
SplitToningBalance | 0 |
SplitToningHighlightHue | 0 |
SplitToningHighlightSaturation | 0 |
SplitToningShadowHue | 0 |
SplitToningShadowSaturation | 0 |
Subject | Sondre, Sunnmøre Museum |
SubjectDistance | 5.29 m |
Tint | +13 |
ToneCurve | 0, 0, 32, 22, 64, 56, 128, 128, 192, 196, 255, 255 |
ToneCurveName | Medium Contrast |
Version | 6.2 |
Vibrance | +9 |
VignetteAmount | 0 |
WhiteBalance (2) | As Shot |
WhiteBalance | Auto |