Felt | Verdi |
AlreadyApplied | True |
Aperture | 5.6 |
ApertureValue | 5.6 |
ApproximateFocusDistance | 4294967295 |
Artist | Ulf Rugumayo Amundsen |
BitsPerSample | 8 |
BlueHue | 0 |
BlueSaturation | 0 |
Brightness | 0 |
By-line | Ulf Rugumayo Amundsen |
CameraProfile | ACR 4.6 |
CFAPattern | [Red,Green][Green,Blue] |
ChromaticAberrationB | 0 |
ChromaticAberrationR | 0 |
CircleOfConfusion | 0.030 mm |
Clarity | 0 |
ColorComponents | 3 |
ColorNoiseReduction | 0 |
ColorTemperature | 8239 |
Contrast (1) | +12 |
Contrast | Normal |
ConvertToGrayscale | False |
Copyright | Rugumayo Amundsen Photos |
CopyrightFlag | True |
CopyrightNotice | Rugumayo Amundsen Photos |
CreateDate (1) | 2011:09:29 18:51:10.91 |
CreateDate | 2011:09:29 18:51:10 |
Creator | Ulf Rugumayo Amundsen |
CreatorAddress | Husejordet 39 |
CreatorCity | Asker |
CreatorCountry | Norway |
CreatorPostalCode | 1386 |
CreatorTool | Adobe Photoshop Lightroom 3.4.1 |
CreatorWorkEmail | ulam@online.no |
CreatorWorkTelephone | +47 92085247 |
CreatorWorkURL | www.uganda-wild-venture.com |
CropAngle | 0.018903 |
CropBottom | 0.822236 |
CropConstrainToWarp | 0 |
CropHeight | 549 |
CropLeft | 0.000141 |
CropRight | 0.999859 |
CropTop | 0.177764 |
CropUnit | pixels |
CropWidth | 1280 |
CustomRendered | Normal |
DateCreated (1) | 2011:09:29 |
DateCreated | 2011:09:29 18:51:10.91 |
DateTimeOriginal | 2011:09:29 18:51:10 |
Defringe | 0 |
DigitalZoomRatio | 1 |
DOF | inf (29.12 m - inf) |
Exposure | -0.70 |
ExposureCompensation | 0 |
ExposureMode | Auto |
ExposureProgram | Program AE |
ExposureTime | 1/125 |
FillLight | 30 |
Flash | No Flash |
FNumber | 5.6 |
FocalLength | 70.0 mm |
FocalLength35efl | 70.0 mm (35 mm equivalent: 70.0 mm) |
FocalLengthIn35mmFormat | 70 mm |
FOV | 28.8 deg |
GainControl | None |
GradientBasedCorrActive | true |
GradientBasedCorrAmount | 1.000000 |
GradientBasedCorrBrightness (1) | -0.058088 |
GradientBasedCorrBrightness | 0.000000 |
GradientBasedCorrClarity | 0.000000 |
GradientBasedCorrContrast (1) | 0.436581 |
GradientBasedCorrContrast | 0.424632 |
GradientBasedCorrExposure (1) | -0.197886 |
GradientBasedCorrExposure | -0.067463 |
GradientBasedCorrHue | 50.000000 |
GradientBasedCorrMaskFullX (1) | 0.539666 |
GradientBasedCorrMaskFullX | 0.542400 |
GradientBasedCorrMaskFullY (1) | 0.812641 |
GradientBasedCorrMaskFullY | 0.190522 |
GradientBasedCorrMaskValue | 1.000000 |
GradientBasedCorrMaskWhat | Mask/Gradient |
GradientBasedCorrMaskZeroX (1) | 0.537664 |
GradientBasedCorrMaskZeroX | 0.541786 |
GradientBasedCorrMaskZeroY (1) | 0.467625 |
GradientBasedCorrMaskZeroY | 0.619839 |
GradientBasedCorrSaturation | 0.000000 |
GradientBasedCorrSharpness (1) | 0.000000 |
GradientBasedCorrSharpness | 1.000000 |
GradientBasedCorrWhat | Correction |
GrainAmount | 0 |
GreenHue | 0 |
GreenSaturation | 0 |
HasCrop | True |
HasSettings | True |
HighlightRecovery | 11 |
HueAdjustmentAqua | 0 |
HueAdjustmentBlue | 0 |
HueAdjustmentGreen | 0 |
HueAdjustmentMagenta | 0 |
HueAdjustmentOrange | 0 |
HueAdjustmentPurple | 0 |
HueAdjustmentRed | 0 |
HueAdjustmentYellow | 0 |
HyperfocalDistance | 29.12 m |
ImageHeight | 549 |
ImageNumber | 17871 |
ImageSize | 1280x549 |
ImageWidth | 1280 |
ISO | 160 |
Lens | 24.0-70.0 mm f/2.8 |
LensID (1) | 147 |
LensID | AF-S Zoom-Nikkor 24-70mm f/2.8G ED |
LensInfo | 24-70mm f/2.8 |
LensManualDistortionAmount | 0 |
LensModel | 24.0-70.0 mm f/2.8 |
LensProfileEnable | 0 |
LensProfileSetup | LensDefaults |
LightSource | Unknown |
LightValue | 11.3 |
LuminanceAdjustmentAqua | 0 |
LuminanceAdjustmentBlue | 0 |
LuminanceAdjustmentGreen | 0 |
LuminanceAdjustmentMagenta | 0 |
LuminanceAdjustmentOrange | 0 |
LuminanceAdjustmentPurple | 0 |
LuminanceAdjustmentRed | 0 |
LuminanceAdjustmentYellow | 0 |
LuminanceSmoothing | 0 |
Make | NIKON CORPORATION |
Marked | True |
MaxApertureValue | 2.8 |
Megapixels | 0.703 |
MeteringMode | Multi-segment |
Model | NIKON D700 |
ModifyDate (1) | 2011:11:01 20:30:56+01:00 |
ModifyDate | 2011:11:01 20:30:56 |
ParametricDarks | +24 |
ParametricHighlights | +19 |
ParametricHighlightSplit | 75 |
ParametricLights | +7 |
ParametricMidtoneSplit | 50 |
ParametricShadows | -34 |
ParametricShadowSplit | 25 |
PerspectiveHorizontal | 0 |
PerspectiveRotate | 0.0 |
PerspectiveScale | 100 |
PerspectiveVertical | 0 |
PostCropVignetteAmount | -17 |
PostCropVignetteFeather | 50 |
PostCropVignetteHighlightContrast | 0 |
PostCropVignetteMidpoint | 50 |
PostCropVignetteRoundness | 0 |
PostCropVignetteStyle | 1 |
ProcessVersion | 5.7 |
ProfileDescription | sRGB IEC61966-2.1 |
RedHue | 0 |
RedSaturation | 0 |
Rights | Rugumayo Amundsen Photos |
Saturation (1) | 0 |
Saturation | Normal |
SaturationAdjustmentAqua | 0 |
SaturationAdjustmentBlue | 0 |
SaturationAdjustmentGreen | 0 |
SaturationAdjustmentMagenta | 0 |
SaturationAdjustmentOrange | 0 |
SaturationAdjustmentPurple | 0 |
SaturationAdjustmentRed | 0 |
SaturationAdjustmentYellow | 0 |
ScaleFactor35efl | 1.0 |
SceneCaptureType | Standard |
SceneType | Directly photographed |
SensingMethod | One-chip color area |
SerialNumber | 2000453 |
Shadows | 18 |
ShadowTint | 0 |
SharpenDetail | 25 |
SharpenEdgeMasking | 0 |
SharpenRadius | +1.0 |
Sharpness (1) | 18 |
Sharpness | Hard |
ShutterSpeed | 1/125 |
ShutterSpeedValue | 1/125 |
Software | Adobe Photoshop Lightroom 3.4.1 |
SplitToningBalance | +9 |
SplitToningHighlightHue | 189 |
SplitToningHighlightSaturation | 6 |
SplitToningShadowHue | 137 |
SplitToningShadowSaturation | 0 |
SubjectDistance | 4294967295 m |
SubjectDistanceRange | Unknown |
Tint | +46 |
ToneCurve | 0, 0, 255, 255 |
ToneCurveName | Linear |
Version | 6.4.1 |
Vibrance | +12 |
VignetteAmount | -17 |
VignetteMidpoint | 50 |
WhiteBalance (1) | Custom |
WhiteBalance | Auto |