Felt | Verdi |
AlreadyApplied | True |
Aperture | 4.0 |
ApertureValue | 4.0 |
ApproximateFocusDistance | 4294967295 |
BitsPerSample | 8 |
BlueHue | 0 |
Brightness | +50 |
By-line | Lars Sangolt |
CameraProfile | Camera Landscape |
CFAPattern | [Green,Blue][Red,Green] |
ChromaticAberrationB | 0 |
CircleOfConfusion | 0.020 mm |
Clarity | +34 |
ColorComponents | 3 |
ColorMode | RGB |
ColorNoiseReduction | 25 |
ColorSpace | Uncalibrated |
Contrast (2) | +25 |
Contrast | Low |
ConvertToGrayscale | False |
Copyright | Lars Sangolt |
CopyrightNotice | Lars Sangolt |
CreatorTool | Ver.1.00 |
CropBottom | 0.977877 |
CropConstrainToWarp | 1 |
CropHeight | 20.9 |
CropUnit | cm |
CustomRendered | Normal |
DateTimeDigitized | 2011:11:11 17:48:41.00+01:00 |
DateTimeOriginal (1) | 2011:11:11 17:48:41.00+01:00 |
DateTimeOriginal | 2011:11:11 17:48:41 |
Defringe | 0 |
DigitalZoomRatio | 1 |
DOF | inf (37.53 m - inf) |
ExifImageHeight (1) | 720 |
ExposureCompensation | 0 |
ExposureMode | Auto |
ExposureProgram | Aperture-priority AE |
ExposureTime | 1/640 |
FillLight | 0 |
Flash | No Flash |
FlashFired | False |
FocalLength | 55.0 mm |
FocalLength35efl | 55.0 mm (35 mm equivalent: 82.0 mm) |
FocalLengthIn35mmFormat | 82 mm |
Format | image/jpeg |
FOV | 24.8 deg |
GainControl | High gain up |
GrainAmount | 0 |
GreenHue | 0 |
GreenSaturation | 0 |
HasCrop | True |
HighlightRecovery | 55 |
HueAdjustmentAqua | 0 |
HueAdjustmentBlue | 0 |
HueAdjustmentGreen | 0 |
HueAdjustmentMagenta | 0 |
HueAdjustmentPurple | 0 |
HueAdjustmentRed | 0 |
HueAdjustmentYellow | 0 |
HyperfocalDistance | 37.53 m |
ImageHeight | 720 |
ImageNumber | 10099 |
ImageSize | 1024x720 |
ISO (1) | 1600 |
LensID (1) | 125 |
LensID | AF-S DX Zoom-Nikkor 17-55mm f/2.8G IF-ED |
LensInfo | 17-55mm f/2.8 |
LensProfileSetup | LensDefaults |
LightSource | Unknown |
LightValue | 9.3 |
LuminanceAdjustmentAqua | 0 |
LuminanceAdjustmentBlue | 0 |
LuminanceAdjustmentGreen | 0 |
LuminanceAdjustmentOrange | 0 |
LuminanceAdjustmentPurple | 0 |
LuminanceNoiseReductionContrast | 0 |
LuminanceNoiseReductionDetail | 50 |
LuminanceSmoothing | 25 |
Make | NIKON CORPORATION |
MaxApertureValue (1) | 2.8 |
Megapixels | 0.737 |
MeteringMode | Spot |
Model (1) | NIKON D90 |
ModifyDate (1) | 2011:11:29 22:00:04+01:00 |
ModifyDate | 2011:11:29 22:00:04 |
Orientation | Horizontal (normal) |
ParametricLights | 0 |
ParametricMidtoneSplit | 50 |
ParametricShadowSplit | 25 |
PerspectiveRotate | 0.0 |
PerspectiveVertical | 0 |
PostCropVignetteAmount | 0 |
PreservedFileName | _DSC0343.NEF |
ProcessVersion | 5.7 |
ProfileDescription | Adobe RGB (1998) |
RawFileName | 2011 11 11_2965.NEF |
RedSaturation | 0 |
Saturation | Low |
SaturationAdjustmentBlue | 0 |
SaturationAdjustmentGreen | 0 |
SaturationAdjustmentMagenta | 0 |
SaturationAdjustmentPurple | 0 |
SaturationAdjustmentYellow | 0 |
SceneType | Directly photographed |
SensingMethod (1) | One-chip color area |
SensitivityType | Unknown |
SerialNumber | 6308078 |
Shadows | 7 |
ShadowTint | 0 |
SharpenDetail | 9 |
SharpenEdgeMasking | 42 |
ShutterSpeedValue (1) | 1/640 |
Software | Adobe Photoshop Elements 8.0 Windows |
SplitToningBalance | 0 |
SplitToningShadowHue | 0 |
SplitToningShadowSaturation | 0 |
SubjectDistance | 4294967295 m |
SubjectDistanceRange (1) | Unknown |
Tint | -12 |
URL_List | |
Version | 6.2 |
Vibrance | +38 |
VignetteAmount | 0 |
WhiteBalance (1) | Auto |