Felt | Verdi |
AlreadyApplied | True |
Aperture | 3.0 |
ApertureValue | 3.0 |
BitsPerSample | 8 |
BlueHue | 0 |
BlueSaturation | 0 |
Brightness | +79 |
CameraProfile | Adobe Standard |
Caption-Abstract | OLYMPUS DIGITAL CAMERA |
CFAPattern | [Green,Red][Blue,Green] |
ChromaticAberrationB | 0 |
ChromaticAberrationR | 0 |
Clarity | +72 |
ColorComponents | 3 |
ColorMode | RGB |
ColorNoiseReduction | 25 |
ColorNoiseReductionDetail | 50 |
ColorSpace | sRGB |
ColorTemperature | 5900 |
Contrast (1) | +36 |
Contrast | High |
ConvertToGrayscale | True |
CreateDate (1) | 2012:02:19 15:17:32+01:00 |
CreateDate | 2012:02:19 15:17:32 |
CreatorTool | Adobe Photoshop CS5 Windows |
CustomRendered | Normal |
DateCreated (1) | 2012:02:19 |
DateCreated | 2012:02:19 15:17:32 |
DateTimeOriginal | 2012:02:19 15:17:32 |
Defringe | 0 |
Description | OLYMPUS DIGITAL CAMERA |
DigitalZoomRatio | 0 |
ExifImageHeight | 2560 |
ExifImageWidth | 1920 |
Exposure | -1.30 |
ExposureCompensation | 0 |
ExposureMode | Manual |
ExposureProgram | Manual |
ExposureTime | 1/8 |
FillLight | 25 |
Flash | No Flash |
FlashCompensation | 0 |
FNumber | 3.0 |
FocalLength | 23.0 mm |
FocalLength35efl | 23.0 mm |
Format | image/jpeg |
GainControl | None |
GrainAmount | 0 |
GrayMixerAqua | -58 |
GrayMixerBlue | +100 |
GrayMixerGreen | -100 |
GrayMixerMagenta | +100 |
GrayMixerOrange | +35 |
GrayMixerPurple | +100 |
GrayMixerRed | +69 |
GrayMixerYellow | -100 |
GreenHue | 0 |
GreenSaturation | 0 |
HasCrop | False |
HasSettings | True |
HighlightRecovery | 100 |
ICCProfileName | sRGB IEC61966-2.1 |
ImageDescription | OLYMPUS DIGITAL CAMERA |
ImageHeight | 2560 |
ImageSize | 1920x2560 |
ImageWidth | 1920 |
ISO | 100 |
Lens | 14.0-54.0 mm f/3.5 |
LensInfo | 14-54mm f/3.5 |
LensSerialNumber | 050204236 |
LightSource | Unknown |
LightValue | 6.2 |
LuminanceSmoothing | 0 |
Make | OLYMPUS CORPORATION |
MaxApertureValue | 2.8 |
Megapixels | 4.9 |
MeteringMode | Spot |
Model | E-1 |
ModifyDate (1) | 2012:03:17 00:33:52+01:00 |
ModifyDate | 2012:03:17 00:33:52 |
Orientation | Horizontal (normal) |
ParametricDarks | 0 |
ParametricHighlights | -100 |
ParametricHighlightSplit | 75 |
ParametricLights | -42 |
ParametricMidtoneSplit | 50 |
ParametricShadows | -22 |
ParametricShadowSplit | 25 |
PostCropVignetteAmount | 0 |
ProcessVersion | 5.7 |
ProfileDescription | sRGB IEC61966-2.1 |
Rating | 0 |
RawFileName | P2194935.ORF |
RedHue | 0 |
RedSaturation | 0 |
Saturation | Normal |
SceneCaptureType | Standard |
SerialNumber | 144001284 |
Shadows | 50 |
ShadowTint | 0 |
SharpenDetail | 25 |
SharpenEdgeMasking | 0 |
SharpenRadius | +1.0 |
Sharpness (1) | 29 |
Sharpness | Hard |
ShutterSpeed | 1/8 |
ShutterSpeedValue | 1/8 |
SidecarForExtension | ORF |
Software | Adobe Photoshop CS5 Windows |
SplitToningBalance | 0 |
SplitToningHighlightHue | 0 |
SplitToningHighlightSaturation | 0 |
SplitToningShadowHue | 0 |
SplitToningShadowSaturation | 0 |
Tint | 0 |
ToneCurve | 0, 0, 32, 22, 64, 56, 128, 128, 192, 196, 255, 255 |
ToneCurveName | Medium Contrast |
URL_List | |
Version | 6.0 |
VignetteAmount | 0 |
WhiteBalance (1) | Custom |
WhiteBalance | Auto |