Felt | Verdi |
AlreadyApplied | True |
Aperture | 2.8 |
ApertureValue | 2.8 |
BitsPerSample | 8 |
BlueHue | +11 |
BlueSaturation | -70 |
Brightness | +47 |
CameraProfile | Embedded |
ChromaticAberrationB | 0 |
ChromaticAberrationR | 0 |
CircleOfConfusion | 0.005 mm |
Clarity | +70 |
ColorComponents | 3 |
ColorNoiseReduction | 25 |
ColorNoiseReductionDetail | 30 |
Contrast | +10 |
ConvertToGrayscale | False |
CreateDate | 2009:10:02 13:31:47 |
CreatorTool | Adobe Photoshop Lightroom 3.4 |
CustomRendered | Normal |
DateCreated (1) | 2009:10:02 |
DateCreated | 2009:10:02 13:31:47 |
DateTimeOriginal | 2009:10:02 13:31:47 |
Defringe | 0 |
DigitalZoomRatio | 1 |
Exposure | -1.33 |
ExposureCompensation | 0 |
ExposureMode | Auto |
ExposureTime | 1/40 |
FillLight | 0 |
Flash | Auto, Fired, Red-eye reduction |
FlashCompensation | 0 |
FNumber | 2.8 |
FocalLength | 6.2 mm |
FocalLength35efl | 6.2 mm (35 mm equivalent: 35.0 mm) |
FOV | 54.4 deg |
GrainAmount | 0 |
GreenHue | +11 |
GreenSaturation | +25 |
HasCrop | False |
HasSettings | True |
HighlightRecovery | 29 |
HueAdjustmentAqua | 0 |
HueAdjustmentBlue | 0 |
HueAdjustmentGreen | 0 |
HueAdjustmentMagenta | 0 |
HueAdjustmentOrange | 0 |
HueAdjustmentPurple | 0 |
HueAdjustmentRed | 0 |
HueAdjustmentYellow | 0 |
HyperfocalDistance | 2.58 m |
ImageHeight | 3648 |
ImageSize | 2736x3648 |
ImageWidth | 2736 |
IncrementalTemperature | +93 |
IncrementalTint | +100 |
ISO | 400 |
Lens | 3.0-10.6 mm |
LensID (1) | 32767 |
LensID | Canon 3.0-10.6 mm |
LensInfo (1) | 3-10.5701612903226mm f/? |
LensInfo | 3-10.57016129mm f/? |
LensManualDistortionAmount | 0 |
LensModel | 3.0-10.6 mm |
LensProfileEnable | 0 |
LensProfileSetup | LensDefaults |
LightValue | 6.3 |
LuminanceAdjustmentAqua | 0 |
LuminanceAdjustmentBlue | 0 |
LuminanceAdjustmentGreen | 0 |
LuminanceAdjustmentMagenta | 0 |
LuminanceAdjustmentOrange | 0 |
LuminanceAdjustmentPurple | 0 |
LuminanceAdjustmentRed | 0 |
LuminanceAdjustmentYellow | 0 |
LuminanceSmoothing | 0 |
Make | Canon |
MaxApertureValue | 2.8 |
Megapixels | 10.0 |
MeteringMode | Multi-segment |
Model | Canon DIGITAL IXUS 95 IS |
ModifyDate (1) | 2011:10:18 00:31:11+02:00 |
ModifyDate | 2011:10:18 00:31:11 |
ParametricDarks | -3 |
ParametricHighlights | 0 |
ParametricHighlightSplit | 75 |
ParametricLights | 0 |
ParametricMidtoneSplit | 50 |
ParametricShadows | -14 |
ParametricShadowSplit | 25 |
PerspectiveHorizontal | 0 |
PerspectiveRotate | 0.0 |
PerspectiveScale | 100 |
PerspectiveVertical | 0 |
PostCropVignetteAmount | -40 |
PostCropVignetteFeather | 47 |
PostCropVignetteHighlightContrast | 0 |
PostCropVignetteMidpoint | 59 |
PostCropVignetteRoundness | +6 |
PostCropVignetteStyle | 1 |
ProcessVersion | 5.7 |
ProfileDescription | sRGB IEC61966-2.1 |
Rating | 5 |
RedHue | +84 |
RedSaturation | +3 |
Saturation | -54 |
SaturationAdjustmentAqua | 0 |
SaturationAdjustmentBlue | 0 |
SaturationAdjustmentGreen | 0 |
SaturationAdjustmentMagenta | 0 |
SaturationAdjustmentOrange | 0 |
SaturationAdjustmentPurple | 0 |
SaturationAdjustmentRed | 0 |
SaturationAdjustmentYellow | 0 |
ScaleFactor35efl | 5.7 |
SceneCaptureType | Standard |
SensingMethod | One-chip color area |
Shadows | 70 |
ShadowTint | -10 |
SharpenDetail | 57 |
SharpenEdgeMasking | 0 |
SharpenRadius | +1.2 |
Sharpness | 110 |
ShutterSpeed | 1/40 |
ShutterSpeedValue | 1/40 |
Software | Adobe Photoshop Lightroom 3.4 |
SplitToningBalance | 0 |
SplitToningHighlightHue | 0 |
SplitToningHighlightSaturation | 0 |
SplitToningShadowHue | 0 |
SplitToningShadowSaturation | 0 |
ToneCurve | 0, 0, 255, 255 |
ToneCurveName | Linear |
Version | 6.4 |
Vibrance | +59 |
VignetteAmount | -61 |
VignetteMidpoint | 34 |
WhiteBalance (1) | Custom |
WhiteBalance | Auto |