Felt | Verdi |
AlreadyApplied | True |
Aperture | 6.3 |
ApertureValue | 6.3 |
ApproximateFocusDistance | 79.9 |
BitsPerSample | 8 |
BlueHue | 0 |
BlueSaturation | 0 |
Brightness | +50 |
CameraProfile | Adobe Standard |
ChromaticAberrationB | 0 |
ChromaticAberrationR | 0 |
CircleOfConfusion | 0.031 mm |
Clarity | +14 |
ColorComponents | 3 |
ColorNoiseReduction | 25 |
ColorNoiseReductionDetail | 50 |
ColorTemperature | 4600 |
Contrast | +33 |
ConvertToGrayscale | False |
CreateDate (1) | 2012:06:16 02:57:25.73 |
CreateDate | 2012:06:16 02:57:25 |
CreatorTool | Adobe Photoshop Lightroom 3.6 (Macintosh) |
CropAngle | 0 |
CropBottom | 0.838512 |
CropConstrainToWarp | 0 |
CropHeight | 1732 |
CropLeft | 0.139992 |
CropRight | 0.701842 |
CropTop | 0.376033 |
CropUnit | pixels |
CropWidth | 3155 |
CustomRendered | Normal |
DateCreated (1) | 2012:06:16 |
DateCreated | 2012:06:16 02:57:25.73 |
DateTimeOriginal | 2012:06:16 02:57:25 |
Defringe | 0 |
DOF | 5.01 m (77.47 - 82.49 m) |
Exposure | 0.00 |
ExposureCompensation | -1 |
ExposureMode | Auto |
ExposureProgram | Aperture-priority AE |
ExposureTime | 1/4000 |
FillLight | 0 |
Firmware | 2.0.9 |
Flash | Off, Did not fire |
FlashCompensation | 0 |
FNumber | 6.3 |
FocalLength | 700.0 mm |
FocalLength35efl | 700.0 mm (35 mm equivalent: 683.2 mm) |
Format | image/jpeg |
FOV | 3.0 deg |
GradientBasedCorrActive | true |
GradientBasedCorrAmount | 1.000000 |
GradientBasedCorrBrightness | -0.145496 |
GradientBasedCorrClarity | 0.000000 |
GradientBasedCorrContrast | 0.000000 |
GradientBasedCorrExposure | -0.216176 |
GradientBasedCorrHue | 101.433998 |
GradientBasedCorrMaskFullX | 0.414468 |
GradientBasedCorrMaskFullY | 0.240232 |
GradientBasedCorrMaskValue | 1.000000 |
GradientBasedCorrMaskWhat | Mask/Gradient |
GradientBasedCorrMaskZeroX | 0.403402 |
GradientBasedCorrMaskZeroY | 0.658349 |
GradientBasedCorrSaturation | 0.000000 |
GradientBasedCorrSharpness | 0.000000 |
GradientBasedCorrWhat | Correction |
GrainAmount | 0 |
GreenHue | 0 |
GreenSaturation | 0 |
HasCrop | True |
HasSettings | True |
HighlightRecovery | 0 |
HueAdjustmentAqua | 0 |
HueAdjustmentBlue | 0 |
HueAdjustmentGreen | 0 |
HueAdjustmentMagenta | 0 |
HueAdjustmentOrange | 0 |
HueAdjustmentPurple | 0 |
HueAdjustmentRed | 0 |
HueAdjustmentYellow | 0 |
HyperfocalDistance | 2526.32 m |
ImageHeight | 1732 |
ImageNumber | 0 |
ImageSize | 3155x1732 |
ImageWidth | 3155 |
ISO | 1000 |
Keywords | Aves, Dyr, Fugl, Fugler, Himmel, I flukt, Natur, Numenius arquata, Scolopacidae, Sjø, Småvadere, Sol, Solnedgang, Storspove, Trondheimsleia, Vadefugl, Vadere, motlys, silhuett |
Lens | EF500mm f/4L IS USM +1.4x |
LensID (1) | 143 |
LensID | Canon EF 500mm f/4L IS USM + 1.4x |
LensInfo | 700mm f/? |
LensManualDistortionAmount | 0 |
LensModel | EF500mm f/4L IS USM +1.4x |
LensProfileEnable | 0 |
LensProfileSetup | LensDefaults |
LightValue | 14.0 |
LuminanceAdjustmentAqua | 0 |
LuminanceAdjustmentBlue | 0 |
LuminanceAdjustmentGreen | 0 |
LuminanceAdjustmentMagenta | 0 |
LuminanceAdjustmentOrange | 0 |
LuminanceAdjustmentPurple | 0 |
LuminanceAdjustmentRed | 0 |
LuminanceAdjustmentYellow | 0 |
LuminanceNoiseReductionContrast | 0 |
LuminanceNoiseReductionDetail | 50 |
LuminanceSmoothing | 56 |
Make | Canon |
MaxApertureValue | 5.7 |
Megapixels | 5.5 |
MeteringMode | Multi-segment |
Model | Canon EOS 5D Mark II |
ModifyDate (1) | 2012:06:22 13:06:34+02:00 |
ModifyDate | 2012:06:22 13:06:34 |
PaintCorrectionActive | true |
PaintCorrectionAmount | 1.000000 |
PaintCorrectionBrightness (1) | 0.264890 |
PaintCorrectionBrightness (2) | 0.000000 |
PaintCorrectionBrightness (4) | 0.255607 |
PaintCorrectionBrightness | -0.059559 |
PaintCorrectionClarity (2) | 0.106158 |
PaintCorrectionClarity | 0.000000 |
PaintCorrectionContrast (2) | 0.372151 |
PaintCorrectionContrast | 0.000000 |
PaintCorrectionExposure (1) | 0.403125 |
PaintCorrectionExposure (2) | 0.000827 |
PaintCorrectionExposure (3) | 0.255515 |
PaintCorrectionExposure (4) | 0.167555 |
PaintCorrectionExposure | -0.116820 |
PaintCorrectionHue | 101.000000 |
PaintCorrectionMaskCenterWeight | 0.010818 |
PaintCorrectionMaskFlow | 0.839312 |
PaintCorrectionMaskRadius (21) | 0.004206 |
PaintCorrectionMaskRadius (28) | 0.001924 |
PaintCorrectionMaskRadius (39) | 0.006633 |
PaintCorrectionMaskRadius (4) | 0.000779 |
PaintCorrectionMaskRadius | 0.002474 |
PaintCorrectionMaskValue | 1.000000 |
PaintCorrectionMaskWhat | Mask/Paint |
PaintCorrectionSaturation (1) | 0.000000 |
PaintCorrectionSaturation (9) | -0.000276 |
PaintCorrectionSaturation | 0.270000 |
PaintCorrectionSharpness | 0.000000 |
PaintCorrectionWhat | Correction |
ParametricDarks | 0 |
ParametricHighlights | 0 |
ParametricHighlightSplit | 75 |
ParametricLights | 0 |
ParametricMidtoneSplit | 50 |
ParametricShadows | 0 |
ParametricShadowSplit | 25 |
PerspectiveHorizontal | 0 |
PerspectiveRotate | 0.0 |
PerspectiveScale | 100 |
PerspectiveVertical | 0 |
PostCropVignetteAmount | 0 |
ProcessVersion | 5.7 |
ProfileDescription | sRGB IEC61966-2.1 |
RedHue | 0 |
RedSaturation | 0 |
Saturation | 0 |
SaturationAdjustmentAqua | 0 |
SaturationAdjustmentBlue | 0 |
SaturationAdjustmentGreen | 0 |
SaturationAdjustmentMagenta | 0 |
SaturationAdjustmentOrange | 0 |
SaturationAdjustmentPurple | 0 |
SaturationAdjustmentRed | 0 |
SaturationAdjustmentYellow | 0 |
ScaleFactor35efl | 1.0 |
SceneCaptureType | Standard |
SerialNumber | 3661714688 |
Shadows | 8 |
ShadowTint | 0 |
SharpenDetail | 25 |
SharpenEdgeMasking | 0 |
SharpenRadius | +1.0 |
Sharpness | 45 |
ShutterSpeed | 1/4000 |
ShutterSpeedValue | 1/4000 |
Software | Adobe Photoshop Lightroom 3.6 (Macintosh) |
SplitToningBalance | 0 |
SplitToningHighlightHue | 0 |
SplitToningHighlightSaturation | 0 |
SplitToningShadowHue | 0 |
SplitToningShadowSaturation | 0 |
Subject | Aves, Dyr, Fugl, Fugler, Himmel, I flukt, Natur, Numenius arquata, Scolopacidae, Sjø, Småvadere, Sol, Solnedgang, Storspove, Trondheimsleia, Vadefugl, Vadere, motlys, silhuett |
SubjectDistance | 79.9 m |
Tint | +9 |
ToneCurve | 0, 0, 32, 22, 64, 56, 128, 128, 192, 196, 255, 255 |
ToneCurveName | Medium Contrast |
Version | 6.6 |
Vibrance | +17 |
VignetteAmount | 0 |
WhiteBalance (1) | As Shot |
WhiteBalance | Auto |