Felt | Verdi |
AlreadyApplied | True |
Aperture | 4.0 |
ApertureValue | 4.0 |
ApproximateFocusDistance | 8.41 |
Artist | KETIL OLSEN |
BitsPerSample | 8 |
BlueHue | 0 |
BlueSaturation | 0 |
Brightness | +50 |
By-line | KETIL OLSEN |
CameraProfile | Adobe Standard |
CFAPattern | [Red,Green][Green,Blue] |
ChromaticAberrationB | 0 |
ChromaticAberrationR | 0 |
CircleOfConfusion | 0.030 mm |
Clarity | +38 |
ColorComponents | 3 |
ColorNoiseReduction | 25 |
ColorNoiseReductionDetail | 50 |
ColorTemperature | 4081 |
Contrast (1) | +50 |
Contrast | Normal |
ConvertToGrayscale | False |
Copyright | KETIL OLSEN |
CopyrightNotice | KETIL OLSEN |
CreateDate (1) | 2012:09:23 11:42:44.30 |
CreateDate | 2012:09:23 11:42:44 |
Creator | KETIL OLSEN |
CreatorTool | Adobe Photoshop Lightroom 3.6 (Macintosh) |
CropAngle | 0 |
CropBottom | 0.935097 |
CropConstrainToWarp | 0 |
CropHeight | 630 |
CropLeft | 0.146224 |
CropRight | 0.904665 |
CropTop | 0 |
CropUnit | pixels |
CropWidth | 768 |
CustomRendered | Normal |
DateCreated (1) | 2012:09:23 |
DateCreated | 2012:09:23 11:42:44.30 |
DateTimeOriginal | 2012:09:23 11:42:44 |
Defringe | 0 |
DigitalZoomRatio | 1 |
DOF | 0.10 m (8.36 - 8.46 m) |
Exposure | -0.10 |
ExposureCompensation | 0 |
ExposureMode | Auto |
ExposureProgram | Aperture-priority AE |
ExposureTime | 1/1600 |
FillLight | 28 |
Flash | No Flash |
FNumber | 4.0 |
FocalLength | 400.0 mm |
FocalLength35efl | 400.0 mm (35 mm equivalent: 400.0 mm) |
FocalLengthIn35mmFormat | 400 mm |
Format | image/jpeg |
FOV | 5.2 deg |
GainControl | High gain up |
GrainAmount | 0 |
GreenHue | 0 |
GreenSaturation | 0 |
HasCrop | True |
HasSettings | True |
HighlightRecovery | 100 |
HueAdjustmentAqua | 0 |
HueAdjustmentBlue | 0 |
HueAdjustmentGreen | 0 |
HueAdjustmentMagenta | 0 |
HueAdjustmentOrange | 0 |
HueAdjustmentPurple | 0 |
HueAdjustmentRed | 0 |
HueAdjustmentYellow | 0 |
HyperfocalDistance | 1331.28 m |
ImageHeight | 768 |
ImageNumber | 33104 |
ImageSize | 630x768 |
ImageWidth | 630 |
ISO | 2000 |
Lens | 400.0 mm f/2.8 |
LensID (1) | 150 |
LensID | AF-S VR Nikkor 400mm f/2.8G ED |
LensInfo | 400mm f/2.8 |
LensManualDistortionAmount | 0 |
LensModel | 400.0 mm f/2.8 |
LensProfileEnable | 0 |
LensProfileSetup | LensDefaults |
LightSource | Unknown |
LightValue | 10.3 |
LuminanceAdjustmentAqua | 0 |
LuminanceAdjustmentBlue | 0 |
LuminanceAdjustmentGreen | 0 |
LuminanceAdjustmentMagenta | 0 |
LuminanceAdjustmentOrange | 0 |
LuminanceAdjustmentPurple | 0 |
LuminanceAdjustmentRed | 0 |
LuminanceAdjustmentYellow | 0 |
LuminanceNoiseReductionContrast | 0 |
LuminanceNoiseReductionDetail | 50 |
LuminanceSmoothing | 14 |
Make | NIKON CORPORATION |
MaxApertureValue | 2.8 |
Megapixels | 0.484 |
MeteringMode | Multi-segment |
Model | NIKON D3S |
ModifyDate (1) | 2012:09:23 14:33:36+02:00 |
ModifyDate | 2012:09:23 14:33:36 |
ParametricDarks | 0 |
ParametricHighlights | 0 |
ParametricHighlightSplit | 75 |
ParametricLights | +5 |
ParametricMidtoneSplit | 50 |
ParametricShadows | 0 |
ParametricShadowSplit | 25 |
PerspectiveHorizontal | 0 |
PerspectiveRotate | 0.0 |
PerspectiveScale | 100 |
PerspectiveVertical | 0 |
PostCropVignetteAmount | 0 |
ProcessVersion | 5.7 |
ProfileDescription | sRGB IEC61966-2.1 |
RedHue | 0 |
RedSaturation | 0 |
Rights | KETIL OLSEN |
Saturation (1) | 0 |
Saturation | Normal |
SaturationAdjustmentAqua | 0 |
SaturationAdjustmentBlue | -70 |
SaturationAdjustmentGreen | 0 |
SaturationAdjustmentMagenta | 0 |
SaturationAdjustmentOrange | 0 |
SaturationAdjustmentPurple | 0 |
SaturationAdjustmentRed | 0 |
SaturationAdjustmentYellow | -3 |
ScaleFactor35efl | 1.0 |
SceneCaptureType | Standard |
SceneType | Directly photographed |
SensingMethod | One-chip color area |
SerialNumber | 2067281 |
Shadows | 7 |
ShadowTint | 0 |
SharpenDetail | 25 |
SharpenEdgeMasking | 0 |
SharpenRadius | +1.2 |
Sharpness (1) | 69 |
Sharpness | Normal |
ShutterSpeed | 1/1600 |
ShutterSpeedValue | 1/1600 |
Software | Adobe Photoshop Lightroom 3.6 (Macintosh) |
SplitToningBalance | 0 |
SplitToningHighlightHue | 0 |
SplitToningHighlightSaturation | 0 |
SplitToningShadowHue | 0 |
SplitToningShadowSaturation | 0 |
SubjectDistance | 8.41 m |
SubjectDistanceRange | Unknown |
Tint | +19 |
ToneCurve | 0, 0, 32, 22, 64, 56, 128, 128, 192, 196, 255, 255 |
ToneCurveName | Medium Contrast |
Version | 6.6 |
Vibrance | +24 |
VignetteAmount | 0 |
WhiteBalance (1) | Custom |
WhiteBalance | Auto |