Felt | Verdi |
AlreadyApplied | True |
Aperture | 8.0 |
ApertureValue | 8.0 |
Artist | FortFilm.com |
BitsPerSample | 8 |
BlueHue | 0 |
BlueSaturation | 0 |
Brightness | +50 |
By-line | FortFilm.com |
CameraProfile | Adobe Standard |
ChromaticAberrationB | 0 |
ChromaticAberrationR | 0 |
CircleOfConfusion | 0.019 mm |
Clarity | -10 |
ColorComponents | 3 |
ColorMode | RGB |
ColorNoiseReduction | 25 |
ColorSpace | Uncalibrated |
ColorTemperature | 6000 |
Contrast | +25 |
ConvertToGrayscale | False |
CreateDate (1) | 2012:10:06 14:30:18.28+02:00 |
CreateDate | 2012:10:06 14:30:18 |
Creator | FortFilm.com |
CropAngle | 0 |
CropBottom | 0.974448 |
CropLeft | 0.025552 |
CropRight | 0.984901 |
CropTop | 0.015099 |
CustomRendered | Normal |
DateTimeDigitized | 2012:10:06 14:30:18.28+02:00 |
DateTimeOriginal (1) | 2012:10:06 14:30:18.28+02:00 |
DateTimeOriginal | 2012:10:06 14:30:18 |
Defringe | 0 |
DOF | inf (34.81 m - inf) |
ExifImageHeight | 768 |
ExifImageWidth | 512 |
Exposure | 0.00 |
ExposureCompensation | 0 |
ExposureMode | Manual |
ExposureProgram | Manual |
ExposureTime | 1/160 |
FillLight | 0 |
Firmware | 2.0.0 |
Flash | Off, Did not fire |
FlashCompensation | 0 |
FlashFired | False |
FlashFunction | False |
FlashMode | Off |
FlashRedEyeMode | False |
FlashReturn | No return detection |
FNumber | 8.0 |
FocalLength | 73.0 mm |
FocalLength35efl | 73.0 mm (35 mm equivalent: 114.6 mm) |
Format | image/jpeg |
FOV | 17.8 deg |
GreenHue | 0 |
GreenSaturation | 0 |
HasCrop | True |
HasSettings | True |
HighlightRecovery | 100 |
HueAdjustmentAqua | 0 |
HueAdjustmentBlue | 0 |
HueAdjustmentGreen | 0 |
HueAdjustmentMagenta | 0 |
HueAdjustmentOrange | 0 |
HueAdjustmentPurple | 0 |
HueAdjustmentRed | 0 |
HueAdjustmentYellow | 0 |
HyperfocalDistance | 34.81 m |
ICCProfileName | Adobe RGB (1998) |
ImageHeight | 768 |
ImageNumber | 0 |
ImageSize | 512x768 |
ImageWidth | 512 |
ISO | 160 |
Lens | EF70-200mm f/4L USM |
LensID (1) | 186 |
LensID | Canon EF 70-200mm f/4L USM |
LensInfo | 70-200mm f/? |
LightValue | 12.6 |
LuminanceAdjustmentAqua | 0 |
LuminanceAdjustmentBlue | 0 |
LuminanceAdjustmentGreen | 0 |
LuminanceAdjustmentMagenta | 0 |
LuminanceAdjustmentOrange | 0 |
LuminanceAdjustmentPurple | 0 |
LuminanceAdjustmentRed | 0 |
LuminanceAdjustmentYellow | 0 |
LuminanceSmoothing | 0 |
Make | Canon |
MaxApertureValue | 4.0 |
Megapixels | 0.393 |
MeteringMode | Spot |
Model | Canon EOS 7D |
ModifyDate (1) | 2012:10:12 15:57:22+02:00 |
ModifyDate | 2012:10:12 15:57:22 |
Orientation | Horizontal (normal) |
OwnerName | FortFilm.com |
ParametricDarks | -4 |
ParametricHighlights | -4 |
ParametricHighlightSplit | 75 |
ParametricLights | +16 |
ParametricMidtoneSplit | 50 |
ParametricShadows | 0 |
ParametricShadowSplit | 25 |
PostCropVignetteAmount | 0 |
ProfileDescription | Adobe RGB (1998) |
Rating | 0 |
RawFileName | IMG_5577.CR2 |
RedHue | 0 |
RedSaturation | 0 |
Saturation | 0 |
SaturationAdjustmentAqua | 0 |
SaturationAdjustmentBlue | 0 |
SaturationAdjustmentGreen | 0 |
SaturationAdjustmentMagenta | 0 |
SaturationAdjustmentOrange | 0 |
SaturationAdjustmentPurple | 0 |
SaturationAdjustmentRed | 0 |
SaturationAdjustmentYellow | 0 |
ScaleFactor35efl | 1.6 |
SceneCaptureType | Standard |
SerialNumber | 480408088 |
Shadows | 5 |
ShadowTint | 0 |
SharpenDetail | 25 |
SharpenEdgeMasking | 0 |
SharpenRadius | +1.0 |
Sharpness | 25 |
ShutterSpeed | 1/160 |
ShutterSpeedValue | 1/160 |
SidecarForExtension | CR2 |
Software | Adobe Photoshop CS4 Macintosh |
SplitToningBalance | 0 |
SplitToningHighlightHue | 0 |
SplitToningHighlightSaturation | 0 |
SplitToningShadowHue | 0 |
SplitToningShadowSaturation | 0 |
SubjectDistance | 4294967295 m |
Tint | +8 |
ToneCurve | 0, 0, 32, 22, 64, 56, 128, 128, 192, 196, 255, 255 |
ToneCurveName | Medium Contrast |
URL_List | |
Version | 5.6 |
Vibrance | +43 |
VignetteAmount | +100 |
VignetteMidpoint | 16 |
WhiteBalance (2) | Custom |
WhiteBalance | Manual |