Felt | Verdi |
AlreadyApplied | True |
Aperture | 1.8 |
ApertureValue | 1.8 |
Artist | Steffen Myhre |
AuthorsPosition | Fotograf |
BitsPerSample (1) | 8 8 8 |
BitsPerSample | 8 |
BlackClip | 0.074850 |
BlueHue | 0 |
BlueSaturation | 0 |
Brightness | +100 |
By-line | Steffen Myhre |
By-lineTitle | Fotograf |
CameraProfile | Adobe Standard |
ChromaticAberrationB | 0 |
ChromaticAberrationR | 0 |
CircleOfConfusion | 0.019 mm |
City | Oslo |
Clarity | -50 |
ColorComponents | 3 |
ColorNoiseReduction | 25 |
ColorNoiseReductionDetail | 50 |
ColorSaturation | 68.0 |
ColorSpace | Uncalibrated |
ColorTemperature (1) | -1.0 |
ColorTemperature | 3300 |
Contrast | +25 |
ConvertToGrayscale | False |
Copyright | Immage are Copyright © 2012 Steffen Myhre All Right Reserved. Reproduction in whole or part in any form or medium without specific written permission is prohibited by law. |
CopyrightFlag | True |
CopyrightNotice | Immage are Copyright © 2012 Steffen Myhre All Right Reserved. Reproduction in whole or part in any form or medium without speci |
Country | Norway |
Country-PrimaryLocationName | Norway |
CreateDate | 2010:02:18 04:53:15 |
Creator | Steffen Myhre |
CreatorAddress | PB 5910 leangen |
CreatorCity | Trondheim |
CreatorCountry | Norway |
CreatorPostalCode | 7445 |
CreatorRegion | Trøndelag |
CreatorTool | Adobe Photoshop CS6 (Windows) |
CreatorWorkEmail | Steffen-myhre@tilfeldigfoto.com |
CreatorWorkTelephone | 0047 407 47 724 |
CreatorWorkURL | www.Tilfeldigfoto.com |
CustomRendered | Normal |
DateCreated (1) | 2012:08:02 |
DateCreated | 2012:08:02 11:58:16 |
DateTimeOriginal | 2012:02:03 20:40:05 |
Defringe | 0 |
ExifImageHeight | 800 |
ExifImageWidth | 1200 |
Exposure | +1.15 |
ExposureCompensation | 0 |
ExposureMode | Auto |
ExposureProgram | Aperture-priority AE |
ExposureTime | 1/125 |
FillLight | 100 |
Firmware | 1.1.1 |
Flash | On, Fired |
FlashCompensation | 0 |
FNumber | 1.8 |
FocalLength | 50.0 mm |
FocalLength35efl | 50.0 mm (35 mm equivalent: 80.9 mm) |
Format | image/jpeg |
FOV | 25.1 deg |
Gamma | 1.0 |
GrainAmount | 0 |
GreenHue | 0 |
GreenSaturation | 0 |
HasCrop | False |
HasSettings | True |
HighlightRecovery | 0 |
HighlightsSmoothing | 0.0 |
HueAdjustmentAqua | 0 |
HueAdjustmentBlue | 0 |
HueAdjustmentGreen | 0 |
HueAdjustmentMagenta | 0 |
HueAdjustmentOrange | 0 |
HueAdjustmentPurple | 0 |
HueAdjustmentRed | 0 |
HueAdjustmentYellow | 0 |
HyperfocalDistance | 74.81 m |
ImageHeight (1) | 2475 |
ImageHeight | 800 |
ImageNumber | 240 |
ImageSize | 1200x800 |
ImageWidth (1) | 3712 |
ImageWidth | 1200 |
ISO | 100 |
Keywords | Even |
Label | Done |
Lens | EF50mm f/1.8 |
LensID (1) | 29 |
LensID | Canon EF 50mm f/1.8 II |
LensInfo | 50mm f/? |
LensManualDistortionAmount | 0 |
LensModel | EF50mm f/1.8 |
LensProfileChromaticAberrationScale | 100 |
LensProfileDistortionScale | 100 |
LensProfileEnable | 1 |
LensProfileFilename | Canon EOS 50D (Canon EF-S 18-55mm f3.5-5.6 IS) - RAW.lcp |
LensProfileName | Adobe (Canon EF-S 18-55mm f/3.5-5.6 IS) |
LensProfileSetup | Custom |
LensProfileVignettingScale | 100 |
LightValue | 8.7 |
LuminanceAdjustmentAqua | 0 |
LuminanceAdjustmentBlue | 0 |
LuminanceAdjustmentGreen | 0 |
LuminanceAdjustmentMagenta | 0 |
LuminanceAdjustmentOrange | 0 |
LuminanceAdjustmentPurple | 0 |
LuminanceAdjustmentRed | 0 |
LuminanceAdjustmentYellow | 0 |
LuminanceNoiseReductionContrast | 0 |
LuminanceNoiseReductionDetail | 50 |
LuminanceSmoothing | 20 |
Luminosity | 1.2 |
Make | Canon |
Marked | True |
MaxApertureValue | 1.8 |
Megapixels | 0.960 |
MeteringMode | Multi-segment |
Method | Details Enhancer |
Microcontrast | 10.0 |
Microsmoothing | 13.4 |
Model | Canon EOS 400D DIGITAL |
ModifyDate (1) | 2012:12:31 04:26:45+01:00 |
ModifyDate | 2012:12:31 04:26:45 |
ObjectName | 2012 |
Orientation | Horizontal (normal) |
OwnerName | unknown |
ParametricDarks | 0 |
ParametricHighlights | 0 |
ParametricHighlightSplit | 75 |
ParametricLights | 0 |
ParametricMidtoneSplit | 50 |
ParametricShadows | 0 |
ParametricShadowSplit | 25 |
PerspectiveHorizontal | 0 |
PerspectiveRotate | 0.0 |
PerspectiveScale | 100 |
PerspectiveVertical | 0 |
PhotometricInterpretation | RGB |
PostCropVignetteAmount | 0 |
ProcessVersion | 5.7 |
ProfileDescription | Adobe RGB (1998) |
Province-State | Oslo |
Rating | 5 |
RawFileName | IMG_2511.CR2 |
RedHue | 0 |
RedSaturation | 0 |
Rights can be purchased by contacting Tilfeldigfoto.com |
Rights | Immage are Copyright © 2012 Steffen Myhre All Right Reserved. Reproduction in whole or part in any form or medium without specific written permission is prohibited by law. |
Saturation | -20 |
SaturationAdjustmentAqua | 0 |
SaturationAdjustmentBlue | 0 |
SaturationAdjustmentGreen | 0 |
SaturationAdjustmentMagenta | 0 |
SaturationAdjustmentOrange | 0 |
SaturationAdjustmentPurple | 0 |
SaturationAdjustmentRed | 0 |
SaturationAdjustmentYellow | 0 |
SaturationHighlights | 0.0 |
SaturationShadows | -3.7 |
ScaleFactor35efl | 1.6 |
SceneCaptureType | Standard |
SerialNumber | 1881120281 |
Shadows | 5 |
ShadowsClipping | 20.0 |
ShadowsSmoothing | 0.0 |
ShadowTint | 0 |
SharpenDetail | 25 |
SharpenEdgeMasking | 0 |
SharpenRadius | +1.0 |
Sharpness | 25 |
ShutterSpeed | 1/125 |
ShutterSpeedValue | 1/125 |
Smoothing | Very High |
Software | Adobe Photoshop CS6 (Windows) |
SplitToningBalance | 0 |
SplitToningHighlightHue | 0 |
SplitToningHighlightSaturation | 0 |
SplitToningShadowHue | 0 |
SplitToningShadowSaturation | 0 |
State | Oslo |
Strength | 100.0 |
Subject | Even |
Tint | +10 |
Title | 2012 |
ToneCurve | 0, 0, 32, 22, 64, 56, 128, 128, 192, 196, 255, 255 |
ToneCurveName | Medium Contrast |
URL | http://www.lovdata.no/all/hl-19610512-002.html |
URL_List | |
UsageTerms | All rights reserved.
Version (1) | 3.2 |
Version | 6.5 |
Vibrance | +30 |
VignetteAmount | 0 |
WebStatement | http://www.lovdata.no/all/hl-19610512-002.html |
WhiteBalance (1) | Custom |
WhiteBalance | Manual |
WhiteClip | 0.223800 |