Felt | Verdi |
AlreadyApplied | True |
Aperture | 27.0 |
ApertureValue | 27.0 |
ApproximateFocusDistance | 12.6 |
Artist (1) | Glenn Rene Photography |
Artist | Glenn Rene |
AutoLateralCA | 0 |
BitsPerSample (1) | 8 8 8 |
BitsPerSample | 8 |
Blacks2012 | -100 |
BlueHue | 0 |
BlueSaturation | 0 |
By-line | Glenn Rene |
CameraProfile | Embedded |
CFAPattern | [Green,Blue][Red,Green] |
CircleOfConfusion | 0.020 mm |
Clarity2012 | +31 |
ColorComponents | 3 |
ColorMode | RGB |
ColorNoiseReduction | 0 |
ColorSpace | Uncalibrated |
Contrast | Low |
Contrast2012 | +100 |
ConvertToGrayscale | True |
Copyright | ikke for videresalg |
CopyrightFlag | True |
CopyrightNotice | ikke for videresalg |
Country | Norway |
Country-PrimaryLocationName | Norway |
CreateDate (1) | 2012:05:29 12:20+02:00 |
CreateDate | 2012:05:29 12:20:00 |
Creator | Glenn Rene |
CreatorCountry | Norway |
CreatorPostalCode | 1727 |
CreatorRegion | Sarpsborg |
CreatorTool | Adobe Photoshop Elements 11.0 Windows |
CreatorWorkTelephone | +47 474 47 827 |
CreatorWorkURL | www.seoglar.no
CropAngle | 0 |
CropBottom | 1 |
CropConstrainToWarp | 0 |
CropHeight | 2592 |
CropLeft | 0.21224 |
CropRight | 0.738282 |
CropTop | 0 |
CropUnit | pixels |
CropWidth | 2037 |
CustomRendered | Normal |
DateCreated (1) | 2012:05:29 |
DateCreated | 2012:05:29 12:20:00.006 |
DateTimeOriginal | 2012:05:29 12:20:00 |
DigitalZoomRatio | 1 |
DOF | inf (3.87 m - inf) |
Engineer | Glenn Renè |
ExifImageHeight | 2592 |
ExifImageWidth | 2037 |
Exposure2012 | -0.24 |
ExposureCompensation | 0 |
ExposureMode | Manual |
ExposureProgram | Manual |
ExposureTime | 1/20 |
Flash | No Flash |
FNumber | 27.0 |
FocalLength | 55.0 mm |
FocalLength35efl | 55.0 mm (35 mm equivalent: 82.0 mm) |
FocalLengthIn35mmFormat | 82 mm |
Format | image/jpeg |
FOV | 24.8 deg |
GainControl | None |
GrainAmount | 0 |
GrayMixerAqua | -15 |
GrayMixerBlue | +15 |
GrayMixerGreen | -27 |
GrayMixerMagenta | +3 |
GrayMixerOrange | -20 |
GrayMixerPurple | +18 |
GrayMixerRed | +2 |
GrayMixerYellow | -24 |
GreenHue | 0 |
GreenSaturation | 0 |
HasCrop | True |
HasSettings | True |
Highlights2012 | +100 |
HyperfocalDistance | 5.56 m |
ICCProfileName | ProPhoto RGB |
ImageCreatorName | Glenn Rene |
ImageHeight | 2592 |
ImageNumber | 24735 |
ImageSize | 2037x2592 |
ImageWidth | 2037 |
IncrementalTemperature | +83 |
IncrementalTint | -100 |
ISO | 320 |
Lens | 18.0-125.0 mm f/3.8-5.6 |
LensID (1) | 205 |
LensID | Sigma 18-125mm F3.8-5.6 DC OS HSM |
LensInfo | 18-125mm f/3.8-5.6 |
LensManualDistortionAmount | 0 |
LensModel | 18.0-125.0 mm f/3.8-5.6 |
LensProfileEnable | 0 |
LensProfileSetup | LensDefaults |
LightSource | Unknown |
LightValue | 12.2 |
LuminanceNoiseReductionContrast | 90 |
LuminanceNoiseReductionDetail | 50 |
LuminanceSmoothing | 24 |
Make | NIKON CORPORATION |
Marked | True |
MaxApertureValue | 4.9 |
Megapixels | 5.3 |
MeteringMode | Center-weighted average |
Model | NIKON D80 |
ModifyDate (1) | 2013:02:17 02:31:01+01:00 |
ModifyDate | 2013:02:17 02:31:01 |
ObjectName | Glenn Rene Photography |
Orientation | Horizontal (normal) |
OriginalTransmissionReference | 25448 |
ParametricDarks | +11 |
ParametricHighlights | 0 |
ParametricHighlightSplit | 75 |
ParametricLights | -9 |
ParametricMidtoneSplit | 50 |
ParametricShadows | +69 |
ParametricShadowSplit | 25 |
PatientSex | male |
PerspectiveHorizontal | 0 |
PerspectiveRotate | 0.0 |
PerspectiveScale | 100 |
PerspectiveVertical | 0 |
PhotometricInterpretation | RGB |
PLUSVersion | 1.2.0 |
PostCropVignetteAmount | 0 |
ProcessVersion | 6.7 |
ProfileDescription | ProPhoto RGB |
Province-State | Sarpsborg |
Rating | 5 |
RedHue | 0 |
RedSaturation | 0 |
Rights | ikke for videresalg |
Saturation | Normal |
ScaleFactor35efl | 1.5 |
SceneCaptureType | Standard |
SceneType | Directly photographed |
SensingMethod | One-chip color area |
SerialNumber | 4445330 |
Shadows2012 | 0 |
ShadowTint | 0 |
SharpenDetail | 63 |
SharpenEdgeMasking | 0 |
SharpenRadius | +1.5 |
Sharpness (1) | 150 |
Sharpness | Soft |
ShutterSpeed | 1/20 |
ShutterSpeedValue | 1/20 |
Software | Adobe Photoshop Elements 11.0 Windows |
SplitToningBalance | -2 |
SplitToningHighlightHue | 0 |
SplitToningHighlightSaturation | 0 |
SplitToningShadowHue | 0 |
SplitToningShadowSaturation | 0 |
State | Sarpsborg |
StudyID | 2544 |
SubjectDistanceRange | Unknown |
Title | Glenn Rene Photography |
ToneCurveName2012 | Linear |
ToneCurvePV2012 | 0, 0, 255, 255 |
ToneCurvePV2012Blue | 0, 0, 255, 255 |
ToneCurvePV2012Green | 0, 0, 255, 255 |
ToneCurvePV2012Red | 0, 0, 255, 255 |
TransmissionReference | 25448 |
Type | icon |
Urgency | 1 (most urgent) |
URL_List | |
Version | 7.3 |
VignetteAmount | 0 |
WhiteBalance (1) | Custom |
WhiteBalance | Auto |
Whites2012 | -24 |
www.foto.no |