Felt | Verdi |
AlreadyApplied | True |
Aperture | 4.5 |
ApertureValue | 4.5 |
ApproximateFocusDistance | 6.31 |
AutoLateralCA | 0 |
BitsPerSample | 8 |
Blacks2012 | +26 |
BlueHue | 0 |
BlueSaturation | 0 |
CameraProfile | Adobe Standard |
CFAPattern | [Red,Green][Green,Blue] |
CircleOfConfusion | 0.030 mm |
Clarity2012 | +55 |
ColorComponents | 3 |
ColorMode | RGB |
ColorNoiseReduction | 25 |
ColorNoiseReductionDetail | 50 |
ColorSpace | Uncalibrated |
ColorTemperature | 6800 |
Contrast | Normal |
Contrast2012 | +1 |
ConvertToGrayscale | False |
CreateDate | 2013:02:23 03:33:13 |
CreatorTool | Ver.1.01 |
CustomRendered | Normal |
DateCreated (1) | 2013:02:23 |
DateCreated | 2013:02:23 03:33:13.002 |
DateTimeOriginal | 2013:02:23 03:33:13 |
DefringeGreenAmount | 0 |
DefringeGreenHueHi | 60 |
DefringeGreenHueLo | 40 |
DefringePurpleAmount | 0 |
DefringePurpleHueHi | 70 |
DefringePurpleHueLo | 30 |
DigitalZoomRatio | 1 |
DOF | 1.49 m (5.65 - 7.14 m) |
ExifImageHeight | 7360 |
ExifImageWidth | 4912 |
Exposure2012 | +0.75 |
ExposureCompensation | 0 |
ExposureMode | Manual |
ExposureProgram | Manual |
ExposureTime | 1/160 |
Flash | On, Return not detected |
FNumber | 4.5 |
FocalLength | 85.0 mm |
FocalLength35efl | 85.0 mm (35 mm equivalent: 85.0 mm) |
FocalLengthIn35mmFormat | 85 mm |
Format | image/jpeg |
FOV | 23.9 deg |
GainControl | Low gain up |
GrainAmount | 0 |
GreenHue | 0 |
GreenSaturation | 0 |
HasCrop | False |
HasSettings | True |
Highlights2012 | -50 |
HueAdjustmentAqua | 0 |
HueAdjustmentBlue | 0 |
HueAdjustmentGreen | 0 |
HueAdjustmentMagenta | 0 |
HueAdjustmentOrange | 0 |
HueAdjustmentPurple | 0 |
HueAdjustmentRed | 0 |
HueAdjustmentYellow | 0 |
HyperfocalDistance | 53.44 m |
ICCProfileName | Adobe RGB (1998) |
ImageHeight | 7360 |
ImageNumber | 2877 |
ImageSize | 4912x7360 |
ImageWidth | 4912 |
ISO | 400 |
Lens | 85.0 mm f/1.8 |
LensID (1) | 179 |
LensID | AF-S Nikkor 85mm f/1.8G |
LensInfo | 85mm f/1.8 |
LensManualDistortionAmount | 0 |
LensModel | 85.0 mm f/1.8 |
LensProfileEnable | 0 |
LensProfileSetup | LensDefaults |
LightSource | Unknown |
LightValue | 9.7 |
LuminanceAdjustmentAqua | 0 |
LuminanceAdjustmentBlue | 0 |
LuminanceAdjustmentGreen | 0 |
LuminanceAdjustmentMagenta | 0 |
LuminanceAdjustmentOrange | 0 |
LuminanceAdjustmentPurple | 0 |
LuminanceAdjustmentRed | 0 |
LuminanceAdjustmentYellow | 0 |
LuminanceSmoothing | 0 |
Make | NIKON CORPORATION |
MaxApertureValue | 1.7 |
Megapixels | 36.2 |
MeteringMode | Multi-segment |
Model | NIKON D800 |
ModifyDate (1) | 2013:03:01 23:40:55+01:00 |
ModifyDate | 2013:03:01 23:40:55 |
Orientation | Horizontal (normal) |
ParametricDarks | 0 |
ParametricHighlights | 0 |
ParametricHighlightSplit | 75 |
ParametricLights | 0 |
ParametricMidtoneSplit | 50 |
ParametricShadows | 0 |
ParametricShadowSplit | 25 |
PerspectiveHorizontal | 0 |
PerspectiveRotate | 0.0 |
PerspectiveScale | 100 |
PerspectiveVertical | 0 |
PostCropVignetteAmount | 0 |
ProcessVersion | 6.7 |
ProfileDescription | Adobe RGB (1998) |
Rating | 0 |
RawFileName | _DSC2639.NEF |
RedHue | 0 |
RedSaturation | 0 |
Saturation (1) | 0 |
Saturation | Normal |
SaturationAdjustmentAqua | 0 |
SaturationAdjustmentBlue | 0 |
SaturationAdjustmentGreen | 0 |
SaturationAdjustmentMagenta | 0 |
SaturationAdjustmentOrange | 0 |
SaturationAdjustmentPurple | 0 |
SaturationAdjustmentRed | 0 |
SaturationAdjustmentYellow | 0 |
ScaleFactor35efl | 1.0 |
SceneCaptureType | Standard |
SceneType | Directly photographed |
SensingMethod | One-chip color area |
SensitivityType | Recommended Exposure Index |
SerialNumber | 6056006 |
Shadows2012 | +50 |
ShadowTint | 0 |
SharpenDetail | 25 |
SharpenEdgeMasking | 0 |
SharpenRadius | +1.0 |
Sharpness (1) | 23 |
Sharpness | Normal |
ShutterSpeed | 1/160 |
ShutterSpeedValue | 1/160 |
Software | Adobe Photoshop CS6 (Windows) |
SplitToningBalance | 0 |
SplitToningHighlightHue | 0 |
SplitToningHighlightSaturation | 0 |
SplitToningShadowHue | 0 |
SplitToningShadowSaturation | 0 |
SubjectDistanceRange | Unknown |
Tint | -3 |
ToneCurveName2012 | Linear |
ToneCurvePV2012 | 0, 0, 255, 255 |
ToneCurvePV2012Blue | 0, 0, 255, 255 |
ToneCurvePV2012Green | 0, 0, 255, 255 |
ToneCurvePV2012Red | 0, 0, 255, 255 |
URL_List | |
Version | 7.1 |
Vibrance | 0 |
VignetteAmount | 0 |
WhiteBalance (1) | Custom |
WhiteBalance | Auto |
Whites2012 | -93 |