Felt | Verdi |
AlreadyApplied | True |
Aperture | 10.0 |
ApertureValue | 10.0 |
AutoLateralCA | 0 |
BitsPerSample | 8 |
Blacks2012 | -71 |
BlueHue | 0 |
BlueSaturation | 0 |
CameraProfile | Adobe Standard |
Clarity2012 | +100 |
ColorComponents | 3 |
ColorMode | RGB |
ColorNoiseReduction | 6 |
ColorNoiseReductionDetail | 10 |
ColorSpace | Uncalibrated |
ColorTemperature | 7000 |
Contrast2012 | +88 |
ConvertToGrayscale | False |
CreateDate | 2013:05:04 19:33:23 |
DateCreated (1) | 2013:05:04 |
DateCreated | 2013:05:04 19:33:23 |
DateTimeOriginal | 2013:05:04 19:33:23 |
DefringeGreenAmount | 0 |
DefringeGreenHueHi | 60 |
DefringeGreenHueLo | 40 |
DefringePurpleAmount | 0 |
DefringePurpleHueHi | 70 |
DefringePurpleHueLo | 30 |
ExifImageHeight | 2352 |
ExifImageWidth | 3136 |
Exposure2012 | +0.90 |
ExposureCompensation | -0.33 |
ExposureProgram | Aperture-priority AE |
ExposureTime | 1/8 |
Flash | Off, Did not fire |
FNumber | 10.0 |
FocalLength | 14.0 mm |
FocalLength35efl | 14.0 mm |
Format | image/jpeg |
GrainAmount | 0 |
GreenHue | 0 |
GreenSaturation | 0 |
HasCrop | False |
HasSettings | True |
Highlights2012 | -38 |
HueAdjustmentAqua | -20 |
HueAdjustmentBlue | -4 |
HueAdjustmentGreen | +21 |
HueAdjustmentMagenta | +26 |
HueAdjustmentOrange | +13 |
HueAdjustmentPurple | -33 |
HueAdjustmentRed | +31 |
HueAdjustmentYellow | +4 |
ICCProfileName | Adobe RGB (1998) |
ImageHeight | 2352 |
ImageSize | 3136x2352 |
ImageWidth | 3136 |
ISO | 400 |
LensManualDistortionAmount | 0 |
LensProfileEnable | 0 |
LensProfileSetup | LensDefaults |
LightValue | 7.6 |
LuminanceAdjustmentAqua | 0 |
LuminanceAdjustmentBlue | -100 |
LuminanceAdjustmentGreen | -89 |
LuminanceAdjustmentMagenta | +38 |
LuminanceAdjustmentOrange | -8 |
LuminanceAdjustmentPurple | -85 |
LuminanceAdjustmentRed | +47 |
LuminanceAdjustmentYellow | -31 |
LuminanceNoiseReductionContrast | 70 |
LuminanceNoiseReductionDetail | 33 |
LuminanceSmoothing | 45 |
Make | LEICA |
MaxApertureValue | 2.8 |
Megapixels | 7.4 |
MeteringMode | Spot |
Model | DIGILUX 3 |
ModifyDate (1) | 2013:07:09 16:13:20+02:00 |
ModifyDate | 2013:07:09 16:13:20 |
Orientation | Horizontal (normal) |
ParametricDarks | +17 |
ParametricHighlights | +49 |
ParametricHighlightSplit | 75 |
ParametricLights | -73 |
ParametricMidtoneSplit | 50 |
ParametricShadows | +92 |
ParametricShadowSplit | 25 |
PerspectiveAspect | 0 |
PerspectiveHorizontal | 0 |
PerspectiveRotate | 0.0 |
PerspectiveScale | 100 |
PerspectiveUpright | 0 |
PerspectiveVertical | 0 |
PostCropVignetteAmount | 0 |
ProcessVersion | 6.7 |
ProfileDescription | Adobe RGB (1998) |
Rating | 0 |
RawFileName | _1040662.RAW |
RedHue | 0 |
RedSaturation | 0 |
Saturation | -53 |
SaturationAdjustmentAqua | +10 |
SaturationAdjustmentBlue | -8 |
SaturationAdjustmentGreen | +28 |
SaturationAdjustmentMagenta | +33 |
SaturationAdjustmentOrange | -13 |
SaturationAdjustmentPurple | -68 |
SaturationAdjustmentRed | +98 |
SaturationAdjustmentYellow | +57 |
Shadows2012 | +58 |
ShadowTint | 0 |
SharpenDetail | 25 |
SharpenEdgeMasking | 20 |
SharpenRadius | +0.9 |
Sharpness | 114 |
ShutterSpeed | 1/8 |
ShutterSpeedValue | 1/8 |
Software | Adobe Photoshop CS6 (Macintosh) |
SplitToningBalance | 0 |
SplitToningHighlightHue | 0 |
SplitToningHighlightSaturation | 0 |
SplitToningShadowHue | 0 |
SplitToningShadowSaturation | 0 |
Tint | +6 |
ToneCurveName2012 | Linear |
ToneCurvePV2012 | 0, 0, 255, 255 |
ToneCurvePV2012Blue | 0, 0, 255, 255 |
ToneCurvePV2012Green | 0, 0, 255, 255 |
ToneCurvePV2012Red | 0, 0, 255, 255 |
URL_List | |
Version | 8.1 |
Vibrance | +100 |
VignetteAmount | 0 |
WhiteBalance | Custom |
Whites2012 | -7 |