Felt | Verdi |
AlreadyApplied | True |
Aperture | 8.0 |
ApertureValue | 8.0 |
Artist | EDVIN URKEDAL KOPPEN |
AutoLateralCA | 0 |
BitsPerSample | 8 |
Blacks2012 | +64 |
BlueHue | 0 |
BlueSaturation | 0 |
By-line | EDVIN URKEDAL KOPPEN |
CameraProfile | Camera Standard |
CircleOfConfusion | 0.019 mm |
Clarity2012 | +38 |
ColorComponents | 3 |
ColorNoiseReduction | 25 |
ColorNoiseReductionDetail | 50 |
ColorTemperature | 4600 |
Contrast2012 | +26 |
ConvertToGrayscale | False |
CreateDate (1) | 2013:07:11 19:03:27.00 |
CreateDate | 2013:07:11 19:03:27 |
Creator | EDVIN URKEDAL KOPPEN |
CreatorTool | Adobe Photoshop Lightroom 4.1 (Windows) |
CropAngle | 0 |
CropBottom | 0.969466 |
CropConstrainToWarp | 0 |
CropHeight | 2981 |
CropLeft | 0.124682 |
CropRight | 0.699746 |
CropTop | 0.106871 |
CropUnit | pixels |
CropWidth | 2981 |
CustomRendered | Normal |
DateCreated (1) | 2013:07:11 |
DateCreated | 2013:07:11 19:03:27.00 |
DateTimeOriginal | 2013:07:11 19:03:27 |
DefringeGreenAmount | 0 |
DefringeGreenHueHi | 60 |
DefringeGreenHueLo | 40 |
DefringePurpleAmount | 0 |
DefringePurpleHueHi | 70 |
DefringePurpleHueLo | 30 |
Exposure2012 | 0.00 |
ExposureCompensation | 0 |
ExposureMode | Manual |
ExposureProgram | Manual |
ExposureTime | 1/400 |
Firmware | 1.0.1 |
Flash | Off, Did not fire |
FlashCompensation | 0 |
FNumber | 8.0 |
FocalLength | 300.0 mm |
FocalLength35efl | 300.0 mm (35 mm equivalent: 475.4 mm) |
Format | image/jpeg |
FOV | 4.3 deg |
GrainAmount | 0 |
GreenHue | 0 |
GreenSaturation | 0 |
HasCrop | True |
HasSettings | True |
Highlights2012 | -38 |
HueAdjustmentAqua | 0 |
HueAdjustmentBlue | 0 |
HueAdjustmentGreen | 0 |
HueAdjustmentMagenta | 0 |
HueAdjustmentOrange | 0 |
HueAdjustmentPurple | 0 |
HueAdjustmentRed | 0 |
HueAdjustmentYellow | 0 |
HyperfocalDistance | 593.29 m |
ImageHeight | 2981 |
ImageNumber | 0 |
ImageSize | 2981x2981 |
ImageWidth | 2981 |
ISO | 800 |
Lens | 70-300mm |
LensID (1) | 8 |
LensID | Sigma 70-300mm f/4-5.6 [APO] DG Macro |
LensInfo | 70-300mm f/? |
LensManualDistortionAmount | 0 |
LensModel | 70-300mm |
LensProfileChromaticAberrationScale | 100 |
LensProfileDistortionScale | 100 |
LensProfileEnable | 1 |
LensProfileFilename | Canon (Sigma_70-300mm_F4-5.6 APO_DG_MACRO) - RAW.lcp |
LensProfileName | Adobe (SIGMA APO 70-300mm F4-5.6 DG MACRO, Canon) |
LensProfileSetup | LensDefaults |
LensProfileVignettingScale | 100 |
LensSerialNumber | 0000000000 |
LightValue | 11.6 |
LuminanceAdjustmentAqua | 0 |
LuminanceAdjustmentBlue | 0 |
LuminanceAdjustmentGreen | 0 |
LuminanceAdjustmentMagenta | 0 |
LuminanceAdjustmentOrange | 0 |
LuminanceAdjustmentPurple | 0 |
LuminanceAdjustmentRed | 0 |
LuminanceAdjustmentYellow | 0 |
LuminanceNoiseReductionContrast | 0 |
LuminanceNoiseReductionDetail | 50 |
LuminanceSmoothing | 24 |
Make | Canon |
MaxApertureValue | 5.7 |
Megapixels | 8.9 |
MeteringMode | Multi-segment |
Model | Canon EOS 650D |
ModifyDate (1) | 2013:07:12 07:13:08+02:00 |
ModifyDate | 2013:07:12 07:13:08 |
ParametricDarks | 0 |
ParametricHighlights | 0 |
ParametricHighlightSplit | 75 |
ParametricLights | 0 |
ParametricMidtoneSplit | 50 |
ParametricShadows | 0 |
ParametricShadowSplit | 25 |
PerspectiveHorizontal | 0 |
PerspectiveRotate | 0.0 |
PerspectiveScale | 100 |
PerspectiveVertical | 0 |
PostCropVignetteAmount | 0 |
ProcessVersion | 6.7 |
ProfileDescription | sRGB IEC61966-2.1 |
RecommendedExposureIndex | 800 |
RedHue | 0 |
RedSaturation | 0 |
Saturation | 0 |
SaturationAdjustmentAqua | 0 |
SaturationAdjustmentBlue | 0 |
SaturationAdjustmentGreen | 0 |
SaturationAdjustmentMagenta | 0 |
SaturationAdjustmentOrange | 0 |
SaturationAdjustmentPurple | 0 |
SaturationAdjustmentRed | 0 |
SaturationAdjustmentYellow | 0 |
ScaleFactor35efl | 1.6 |
SceneCaptureType | Standard |
SensitivityType | Recommended Exposure Index |
SerialNumber | 043051001364 |
Shadows2012 | 0 |
ShadowTint | 0 |
SharpenDetail | 25 |
SharpenEdgeMasking | 0 |
SharpenRadius | +1.0 |
Sharpness | 25 |
ShutterSpeed | 1/400 |
ShutterSpeedValue | 1/400 |
Software | Adobe Photoshop Lightroom 4.1 (Windows) |
SplitToningBalance | 0 |
SplitToningHighlightHue | 0 |
SplitToningHighlightSaturation | 0 |
SplitToningShadowHue | 0 |
SplitToningShadowSaturation | 0 |
Tint | +4 |
ToneCurveName2012 | Linear |
ToneCurvePV2012 | 0, 0, 255, 255 |
ToneCurvePV2012Blue | 0, 0, 255, 255 |
ToneCurvePV2012Green | 0, 0, 255, 255 |
ToneCurvePV2012Red | 0, 0, 255, 255 |
Version | 7.1 |
Vibrance | 0 |
VignetteAmount | 0 |
WhiteBalance (1) | As Shot |
WhiteBalance | Auto |
Whites2012 | 0 |