Felt | Verdi |
AlreadyApplied | True |
Aperture | 9.0 |
ApertureValue | 9.0 |
ApproximateFocusDistance | 3.76 |
AutoLateralCA | 0 |
BitsPerSample | 8 |
Blacks2012 | -47 |
BlueHue | 0 |
BlueSaturation | 0 |
CameraProfile | Adobe Standard |
CFAPattern | [Red,Green][Green,Blue] |
CircleOfConfusion | 0.020 mm |
Clarity2012 | +88 |
ColorComponents | 3 |
ColorMode | RGB |
ColorNoiseReduction | 25 |
ColorNoiseReductionDetail | 50 |
ColorSpace | Uncalibrated |
ColorTemperature | 6900 |
Contrast | Normal |
Contrast2012 | +17 |
ConvertToGrayscale | False |
CreateDate | 2013:07:18 14:39:45 |
CreatorTool | Ver.1.11 |
CustomRendered | Normal |
DateCreated (1) | 2013:07:18 |
DateCreated | 2013:07:18 14:39:45.005 |
DateTimeOriginal | 2013:07:18 14:39:45 |
DefringeGreenAmount | 0 |
DefringeGreenHueHi | 60 |
DefringeGreenHueLo | 40 |
DefringePurpleAmount | 0 |
DefringePurpleHueHi | 70 |
DefringePurpleHueLo | 30 |
DigitalZoomRatio | 1 |
DOF | 4.46 m (2.57 - 7.02 m) |
ExifImageHeight | 4288 |
ExifImageWidth | 2848 |
Exposure2012 | +1.70 |
ExposureCompensation | 0 |
ExposureMode | Manual |
ExposureProgram | Manual |
ExposureTime | 1/500 |
Flash | No Flash |
FNumber | 9.0 |
FocalLength | 38.0 mm |
FocalLength35efl | 38.0 mm (35 mm equivalent: 57.0 mm) |
FocalLengthIn35mmFormat | 57 mm |
Format | image/jpeg |
FOV | 35.1 deg |
GainControl | None |
GrainAmount | 0 |
GreenHue | 0 |
GreenSaturation | 0 |
HasCrop | False |
HasSettings | True |
Highlights2012 | -19 |
HueAdjustmentAqua | 0 |
HueAdjustmentBlue | 0 |
HueAdjustmentGreen | 0 |
HueAdjustmentMagenta | 0 |
HueAdjustmentOrange | 0 |
HueAdjustmentPurple | 0 |
HueAdjustmentRed | 0 |
HueAdjustmentYellow | 0 |
HyperfocalDistance | 8.01 m |
ICCProfileName | Adobe RGB (1998) |
ImageHeight | 4288 |
ImageNumber | 12979 |
ImageSize | 2848x4288 |
ImageWidth | 2848 |
ISO | 360 |
Lens | 17.0-55.0 mm f/2.8 |
LensID (1) | 125 |
LensID | AF-S DX Zoom-Nikkor 17-55mm f/2.8G IF-ED |
LensInfo | 17-55mm f/2.8 |
LensManualDistortionAmount | 0 |
LensModel | 17.0-55.0 mm f/2.8 |
LensProfileEnable | 0 |
LensProfileSetup | LensDefaults |
LightSource | Unknown |
LightValue | 13.5 |
LuminanceAdjustmentAqua | 0 |
LuminanceAdjustmentBlue | 0 |
LuminanceAdjustmentGreen | 0 |
LuminanceAdjustmentMagenta | 0 |
LuminanceAdjustmentOrange | 0 |
LuminanceAdjustmentPurple | 0 |
LuminanceAdjustmentRed | 0 |
LuminanceAdjustmentYellow | 0 |
LuminanceSmoothing | 0 |
Make | NIKON CORPORATION |
MaxApertureValue | 2.8 |
Megapixels | 12.2 |
MeteringMode | Multi-segment |
Model | NIKON D300 |
ModifyDate (1) | 2013:07:20 11:50:34+02:00 |
ModifyDate | 2013:07:20 11:50:34 |
Orientation | Horizontal (normal) |
PaintCorrectionActive | true |
PaintCorrectionAmount | 1.000000 |
PaintCorrectionBrightness | 0.000000 |
PaintCorrectionClarity | 0.000000 |
PaintCorrectionClarity2012 (1) | 0.950000 |
PaintCorrectionClarity2012 | 1.000000 |
PaintCorrectionContrast | 0.000000 |
PaintCorrectionContrast2012 | -0.070000 |
PaintCorrectionDefringe | 0.170000 |
PaintCorrectionExposure | 0.000000 |
PaintCorrectionExposure2012 (1) | -0.850000 |
PaintCorrectionExposure2012 | 0.662500 |
PaintCorrectionHighlights2012 (1) | -0.500000 |
PaintCorrectionHighlights2012 | 0.210000 |
PaintCorrectionHue | 255.000000 |
PaintCorrectionLuminanceNoise | 0.460000 |
PaintCorrectionMaskCenterWeight | 0.072131 |
PaintCorrectionMaskFlow | 0.980057 |
PaintCorrectionMaskRadius (1) | 0.711718 |
PaintCorrectionMaskRadius (24) | 0.177498 |
PaintCorrectionMaskRadius (6) | 0.342721 |
PaintCorrectionMaskRadius (9) | 0.331706 |
PaintCorrectionMaskRadius | 0.304169 |
PaintCorrectionMaskValue | 0.580000 |
PaintCorrectionMaskWhat | Mask/Paint |
PaintCorrectionMoire | 0.020000 |
PaintCorrectionSaturation (1) | 0.760000 |
PaintCorrectionSaturation (3) | -0.220000 |
PaintCorrectionSaturation | 0.320000 |
PaintCorrectionShadows2012 | -0.860000 |
PaintCorrectionSharpness | 0.340000 |
PaintCorrectionTemperature | -0.570000 |
PaintCorrectionTint | 0.470000 |
PaintCorrectionWhat | Correction |
ParametricDarks | 0 |
ParametricHighlights | 0 |
ParametricHighlightSplit | 75 |
ParametricLights | 0 |
ParametricMidtoneSplit | 50 |
ParametricShadows | 0 |
ParametricShadowSplit | 25 |
PerspectiveAspect | 0 |
PerspectiveHorizontal | 0 |
PerspectiveRotate | 0.0 |
PerspectiveScale | 100 |
PerspectiveUpright | 0 |
PerspectiveVertical | 0 |
PostCropVignetteAmount | 0 |
ProcessVersion | 6.7 |
ProfileDescription | Adobe RGB (1998) |
Rating | 0 |
RawFileName | 180713_1982.NEF |
RedHue | 0 |
RedSaturation | 0 |
Saturation (1) | -60 |
Saturation | Normal |
SaturationAdjustmentAqua | 0 |
SaturationAdjustmentBlue | 0 |
SaturationAdjustmentGreen | 0 |
SaturationAdjustmentMagenta | 0 |
SaturationAdjustmentOrange | 0 |
SaturationAdjustmentPurple | 0 |
SaturationAdjustmentRed | 0 |
SaturationAdjustmentYellow | 0 |
ScaleFactor35efl | 1.5 |
SceneCaptureType | Standard |
SceneType | Directly photographed |
SensingMethod | One-chip color area |
SerialNumber | 4086727 |
Shadows2012 | +50 |
ShadowTint | 0 |
SharpenDetail | 25 |
SharpenEdgeMasking | 0 |
SharpenRadius | +1.0 |
Sharpness (1) | 25 |
Sharpness | Hard |
ShutterSpeed | 1/500 |
ShutterSpeedValue | 1/500 |
Software | Adobe Photoshop CC (Macintosh) |
SplitToningBalance | 0 |
SplitToningHighlightHue | 0 |
SplitToningHighlightSaturation | 0 |
SplitToningShadowHue | 0 |
SplitToningShadowSaturation | 0 |
SubjectDistanceRange | Unknown |
Tint | +6 |
ToneCurveName2012 | Linear |
ToneCurvePV2012 | 0, 0, 255, 255 |
ToneCurvePV2012Blue | 0, 0, 255, 255 |
ToneCurvePV2012Green | 0, 0, 255, 255 |
ToneCurvePV2012Red | 0, 0, 255, 255 |
URL_List | |
Version | 8.1 |
Vibrance | +62 |
VignetteAmount | 0 |
WhiteBalance (1) | Custom |
WhiteBalance | Auto |
Whites2012 | +23 |