Felt | Verdi |
AlreadyApplied | True |
Aperture | 4.5 |
ApertureValue | 4.5 |
ApproximateFocusDistance | 3.76 |
AutoLateralCA | 0 |
BitsPerSample | 8 |
Blacks2012 | +3 |
BlueHue | 0 |
BlueSaturation | 0 |
CameraProfile | Adobe Standard |
CFAPattern | [Red,Green][Green,Blue] |
CircleOfConfusion | 0.020 mm |
Clarity2012 | +43 |
ColorComponents | 3 |
ColorMode | RGB |
ColorNoiseReduction | 25 |
ColorNoiseReductionDetail | 50 |
ColorSpace | Uncalibrated |
ColorTemperature | 5600 |
Contrast | Normal |
Contrast2012 | +8 |
ConvertToGrayscale | False |
CreateDate | 2013:07:19 11:48:56 |
CreatorTool | Ver.1.11 |
CustomRendered | Normal |
DateCreated (1) | 2013:07:19 |
DateCreated | 2013:07:19 11:48:56.014 |
DateTimeOriginal | 2013:07:19 11:48:56 |
DefringeGreenAmount | 0 |
DefringeGreenHueHi | 60 |
DefringeGreenHueLo | 40 |
DefringePurpleAmount | 0 |
DefringePurpleHueHi | 70 |
DefringePurpleHueLo | 30 |
DigitalZoomRatio | 1 |
DOF | 74.46 m (1.93 - 76.39 m) |
ExifImageHeight | 2848 |
ExifImageWidth | 4288 |
Exposure2012 | +0.40 |
ExposureCompensation | 0 |
ExposureMode | Manual |
ExposureProgram | Manual |
ExposureTime | 1/4000 |
Flash | No Flash |
FNumber | 4.5 |
FocalLength | 19.0 mm |
FocalLength35efl | 19.0 mm (35 mm equivalent: 28.0 mm) |
FocalLengthIn35mmFormat | 28 mm |
Format | image/jpeg |
FOV | 65.5 deg |
GainControl | High gain up |
GrainAmount | 0 |
GreenHue | 0 |
GreenSaturation | 0 |
HasCrop | False |
HasSettings | True |
Highlights2012 | -29 |
HueAdjustmentAqua | -11 |
HueAdjustmentBlue | +25 |
HueAdjustmentGreen | +100 |
HueAdjustmentMagenta | 0 |
HueAdjustmentOrange | -48 |
HueAdjustmentPurple | 0 |
HueAdjustmentRed | -51 |
HueAdjustmentYellow | 0 |
HyperfocalDistance | 3.93 m |
ICCProfileName | Adobe RGB (1998) |
ImageHeight | 2848 |
ImageNumber | 13019 |
ImageSize | 4288x2848 |
ImageWidth | 4288 |
ISO | 1600 |
Lens | 17.0-55.0 mm f/2.8 |
LensID (1) | 125 |
LensID | AF-S DX Zoom-Nikkor 17-55mm f/2.8G IF-ED |
LensInfo | 17-55mm f/2.8 |
LensManualDistortionAmount | 0 |
LensModel | 17.0-55.0 mm f/2.8 |
LensProfileEnable | 0 |
LensProfileSetup | LensDefaults |
LightSource | Unknown |
LightValue | 12.3 |
LuminanceAdjustmentAqua | -32 |
LuminanceAdjustmentBlue | -100 |
LuminanceAdjustmentGreen | +47 |
LuminanceAdjustmentMagenta | 0 |
LuminanceAdjustmentOrange | +29 |
LuminanceAdjustmentPurple | 0 |
LuminanceAdjustmentRed | -78 |
LuminanceAdjustmentYellow | 0 |
LuminanceNoiseReductionContrast | 43 |
LuminanceNoiseReductionDetail | 50 |
LuminanceSmoothing | 12 |
Make | NIKON CORPORATION |
MaxApertureValue | 2.8 |
Megapixels | 12.2 |
MeteringMode | Multi-segment |
Model | NIKON D300 |
ModifyDate (1) | 2013:07:20 12:06:02+02:00 |
ModifyDate | 2013:07:20 12:06:02 |
Orientation | Horizontal (normal) |
PaintCorrectionActive | true |
PaintCorrectionAmount | 1.000000 |
PaintCorrectionBrightness | 0.000000 |
PaintCorrectionClarity | 0.000000 |
PaintCorrectionClarity2012 | 1.000000 |
PaintCorrectionContrast | 0.000000 |
PaintCorrectionContrast2012 (1) | -0.070000 |
PaintCorrectionContrast2012 | 0.530000 |
PaintCorrectionDefringe | 0.170000 |
PaintCorrectionExposure | 0.000000 |
PaintCorrectionExposure2012 | -0.062500 |
PaintCorrectionHighlights2012 (1) | 0.210000 |
PaintCorrectionHighlights2012 | -0.150000 |
PaintCorrectionHue | 255.000000 |
PaintCorrectionLuminanceNoise | 0.460000 |
PaintCorrectionMaskCenterWeight | 0.072131 |
PaintCorrectionMaskFlow | 0.980057 |
PaintCorrectionMaskRadius | 0.301228 |
PaintCorrectionMaskValue | 0.580000 |
PaintCorrectionMaskWhat | Mask/Paint |
PaintCorrectionMoire | 0.020000 |
PaintCorrectionSaturation (1) | -0.220000 |
PaintCorrectionSaturation (3) | 0.830000 |
PaintCorrectionSaturation | 0.320000 |
PaintCorrectionShadows2012 (1) | -0.860000 |
PaintCorrectionShadows2012 | -0.490000 |
PaintCorrectionSharpness (1) | 0.340000 |
PaintCorrectionSharpness | 1.000000 |
PaintCorrectionTemperature (1) | -0.770000 |
PaintCorrectionTemperature | 0.950000 |
PaintCorrectionTint (1) | 0.470000 |
PaintCorrectionTint | 0.750000 |
PaintCorrectionWhat | Correction |
ParametricDarks | 0 |
ParametricHighlights | +24 |
ParametricHighlightSplit | 75 |
ParametricLights | 0 |
ParametricMidtoneSplit | 50 |
ParametricShadows | 0 |
ParametricShadowSplit | 25 |
PerspectiveAspect | 0 |
PerspectiveHorizontal | 0 |
PerspectiveRotate | 0.0 |
PerspectiveScale | 100 |
PerspectiveUpright | 0 |
PerspectiveVertical | 0 |
PostCropVignetteAmount | 0 |
ProcessVersion | 6.7 |
ProfileDescription | Adobe RGB (1998) |
Rating | 0 |
RawFileName | 190713_1744.NEF |
RedHue | 0 |
RedSaturation | 0 |
Saturation (1) | 0 |
Saturation | Normal |
SaturationAdjustmentAqua | +27 |
SaturationAdjustmentBlue | 0 |
SaturationAdjustmentGreen | +12 |
SaturationAdjustmentMagenta | 0 |
SaturationAdjustmentOrange | 0 |
SaturationAdjustmentPurple | 0 |
SaturationAdjustmentRed | 0 |
SaturationAdjustmentYellow | 0 |
ScaleFactor35efl | 1.5 |
SceneCaptureType | Standard |
SceneType | Directly photographed |
SensingMethod | One-chip color area |
SerialNumber | 4086727 |
Shadows2012 | -29 |
ShadowTint | 0 |
SharpenDetail | 25 |
SharpenEdgeMasking | 0 |
SharpenRadius | +1.0 |
Sharpness (1) | 25 |
Sharpness | Hard |
ShutterSpeed | 1/4000 |
ShutterSpeedValue | 1/4000 |
Software | Adobe Photoshop CC (Macintosh) |
SplitToningBalance | 0 |
SplitToningHighlightHue | 0 |
SplitToningHighlightSaturation | 0 |
SplitToningShadowHue | 0 |
SplitToningShadowSaturation | 0 |
SubjectDistanceRange | Unknown |
Tint | +6 |
ToneCurveName2012 | Linear |
ToneCurvePV2012 | 0, 0, 255, 255 |
ToneCurvePV2012Blue | 0, 0, 255, 255 |
ToneCurvePV2012Green | 0, 0, 255, 255 |
ToneCurvePV2012Red | 0, 0, 255, 255 |
URL_List | |
Version | 8.1 |
Vibrance | -15 |
VignetteAmount | 0 |
WhiteBalance (1) | As Shot |
WhiteBalance | Auto |
Whites2012 | +28 |